{"text_format":"1","workbook":"xlsx","n_sheets":14,"sheets":["Introduzione","Istruzioni","1. Idea imprenditoriale","2. Tenore di vita","3. Piano di investimento","4. Pianificazione del fatturato","5. Costi del personale","6. Conto economico annuo","7. Conto economico mensile","7. Piano di finanziamento","9. Piano d'ammortamento","8. Riepilogo ammortamento","To-do-list","Glossario"],"not_rendered":{"charts":4,"images":1,"macros":1,"external_links":2,"defined_names":40,"comments":9,"pivot_tables":0},"unopened":[],"bounds":{"document_bytes":16777216,"sheet_cells":100000,"rows_first":2000,"rows_last":500,"rows_between":2000,"halvings":0,"cell_chars":16384,"cell_head_chars":4096},"cells_cut":0,"cells_raw":0,"read":"whole","date_system":"1900"}

{"sheet":"Introduzione","index":0,"n_rows":40,"n_cols":1,"rows_kept":40,"cut":false,"hidden":false,"merged":[]}
[]
[]
[]
[]
[]
[]
[]
[]
[]
[]
[]
[]
[]
[]
[]
[]
[]
[]
["Gentili Signore e Signori, "]
[]
["il business plan costituisce un ausilio tanto importante quanto utile per qualsiasi amministrazione delegata, consiglio d'amministrazione e imprenditore/imprenditrice. Un business plan non serve solo per facilitare la comunicazione con banche e altri finanziatori, ma è utile soprattutto a Voi. Grazie a questo strumento potete chiarirVi le idee sui costi e i possibili finanziamenti della Vostra idea imprenditoriale. In questo modo avete una guida sulla quale basarVi per poi controllare i Vostri obiettivi e le Vostre attività. \nUna presentazione convincente e valida della propria idea imprenditoriale presuppone la concreta pianificazione di ogni singolo passo. Il menù Vi guiderà di tabella in tabella permettendoVi, con l’uso di valori indicativi, di compilare agevolmente la parte contabile del Vostro business plan. \nCon questo modello siete quindi in possesso di uno strumento prezioso, con il quale potete elaborare il Vostro business plan individuale e realizzare passo dopo passo la Vostra idea imprenditoriale. Il servizio Creazione d’impresa della Camera di commercio offre, inoltre, la possibilità di discutere il Vostro business plan con un esperto. Così facendo potete ragionare nuovamente sul piano da Voi elaborato e ricevere ulteriori preziosi consigli ed informazioni.\n\n"]
[]
["Ulteriori informazioni"]
["Servizio Creazione d'impresa \ndella Camera di commercio di Bolzano\nVia Alto Adige 60, 39100 Bolzano\ntel. 0471 945 671, fax 945 524\nstartup@camcom.bz.it  \nwww.camcom.bz.it"]
[]
[]
[]
["Colophon"]
["A cura di:"]
["Camera di commercio, industria, artigianato e agricoltura di Bolzano"]
["Provincia Autonoma di Bolzano - Alto Adige, Ripartizione 35 - Economia"]
[]
["Direzione del progetto:"]
["Servizio Creazione d'impresa della Camera di commercio di Bolzano"]
[]
["Ideazione e realizzazione tecnica:"]
["ROI TEAM CONSULTANT SRL, Bolzano"]
[]
["Esclusione di responsabilità:"]
["Questo modello business plan non è da pretendere completo né esaustivo. Nonostante la massima cura prestata, tutte le informazioni sono fornite senza garanzia. Si esclude qualsiasi responsabilità da parte della Camera di commercio."]

{"sheet":"Istruzioni","index":1,"n_rows":61,"n_cols":2,"rows_kept":61,"cut":false,"hidden":false,"merged":[[60,1,60,10],[16,1,16,10],[13,1,13,10],[52,1,52,10],[53,1,53,10],[54,1,54,10],[55,1,55,10],[56,1,56,10],[57,1,57,10],[46,0,46,10],[47,1,47,10],[50,1,50,10],[51,1,51,10],[40,1,40,10],[41,1,41,10],[42,1,42,10],[43,1,43,10],[44,1,44,10],[45,1,45,10],[39,0,39,10],[22,1,22,10],[23,1,23,10],[24,1,24,10],[25,1,25,10],[33,0,33,10],[35,1,35,10],[37,1,37,10],[31,1,31,10],[29,1,29,10],[28,1,28,10],[2,0,2,10],[4,0,4,10],[7,1,7,10],[8,1,8,10],[9,1,9,10],[10,1,10,10],[18,0,18,10],[19,1,19,10],[21,0,21,10],[27,0,27,10]]}
[]
[]
[]
[]
["Avviso importante:\nIl business plan è stato concepito in particolare per aspiranti imprenditori ed imprenditrici. Lo strumento permette di elaborare calcoli semplificati destinati a favorirne la comprensione e la facilità di redazione. A causa della complessità della materia, non è stato possibile tenere conto di tutti gli aspetti legali, fiscali e contabili. Nonostante ciò, il modello di business plan proposto è un aiuto prezioso per l’esame della redditività economica della propria idea imprenditoriale e può servire inoltre da strumento di controllo dell’attività imprenditoriale anche in avvenire. \n"]
[]
["Istruzioni"]
["Celle azzurre con scritta blu","Le celle azzurre con la scritta blu sono a disposizione per l'inserimento manuale dei dati.\nNota: lasci libero lo spazio corrispondente se si ritiene che una voce di costo non sia rilevante per la Sua impresa. Allo stesso modo si potrà aggiungere negli appositi spazi liberi ogni voce di costo che si ritenga di rilievo nel caso specifico. In alcuni campi è previsto l'inserimento diretto delle percentuali previste. Attenzione: in questi campi a seconda della versione di Excel, l'inserimento può essere diretto sotto forma di percentuale ovvero richiedere una indicazione di questo tipo: 0,04 per 4%, 0,4 per 40%.  "]
["Valori indicativi","I valori indicativi sono valori medi e pertanto non hanno validità generale. I valori dovranno essere rapportati alla rispettiva impresa. "]
["Celle blu con scritta bianca","Le celle blu con scritta bianca sono campi di calcolo (somme).\nNota: se il risultato è negativo la somma appare in rosso preceduta da un segno meno."]
["Celle con un triangolino rosso","Il triangolo rosso nell'angolo destro indica che è stato aggiunto un commento. Basterà spostarsi con il mouse sul triangolino e si aprirà una finestra con descrizioni o esempi."]
[]
["Glossario"]
["Informazione generica","Il glossario contiene spiegazioni semplici e comprensibili dei termini più importanti usati nel business plan. I termini sono elencati in ordine alfabetico. Si consiglia di stampare il glossario in quanto strumento molto utile per la corretta esecuzione del business plan."]
[]
["Primo passo: descrizione dell'idea imprenditoriale"]
["Informazione generica","Una breve descrizione del progetto è alla base di ogni strategia imprenditoriale. Riassuma in modo chiaro, semplice e sintetico ma anche dettagliato gli elementi fondamentali dell'idea imprenditoriale. Metta in evidenza gli obiettivi specifici e soprattutto gli elementi che La distinguono dalla concorrenza."]
[]
["Secondo passo: tenore di vita"]
["Informazione generica","Questa pagina Le permette un confronto tra il Suo attuale tenore di vita e quello da imprenditore/imprenditrice. Inserisca tutte le entrate e uscite risultanti prima dell'avvio dell'impresa. La tabella indicherà l'avanzo o il disavanzo annuo. La differenza tra il tenore di vita attuale e quello futuro è calcolata in base a tale reddito e in considerazione di tutte le spese accessorie. Qualora il Suo reddito da imprenditore/imprenditrice dovesse risultare inferiore a quello realizzato prima dell'avvio, l'importo relativo alla differenza apparirà in rosso."]
[]
["Terzo passo: piano di investimento"]
["Investimenti","Inserisca la necessitá di investimenti negli spazi previsti e scelga il tipo di investimento corrispondente. Se è in possesso di beni strumentali (per esempio automobili, PC ed altro), ricordi di inserire i beni già acquistati nel passato ai prezzi attuali di mercato nella tabella “fabbisogno di investimento”.\nNota: nel ottavo passo (\"Piano di finanziamento\") aggiunga al capitale proprio il prezzo attuale di mercato di questi beni e impianti conferiti (spazio “capitale proprio e/o partecipazione di soci\")."]
["Riserva","Per esperienza è difficile includere tutti gli investimenti necessari fin dall’inizio. Per questo è opportuno accantonare per gli imprevisti il 5% del totale di investimenti come riserva di sicurezza. L'importo viene dunque calcolato automaticamente."]
["Ammortamenti","Gli ammortamenti vengono calcolati automaticamente per ogni investimento in base al periodo di utilità e alla quota di ammortamento. Nel modulo che proponiamo si utilizzano le quote di ammortamento fiscale generalmente previste senza considerare invece forme di ammortamento particolari."]
["Spese di costituzione","Tra le spese di costituzione appaiono le voci di costo che si presentano normalmente. È possibile inserire gli importi previsti o lasciar libero lo spazio delle caselle non rilevanti. Se si producono altri costi, sarà possibile aggiungerli nelle righe libere."]
[]
["Quarto passo: pianificazione del fatturato "]
["Informazione generica","Questa tabella consente la programmazione dei fatturati relativi ai primi 5 anni. Il calcolo dei proventi lordi richiede l'inserimento del prezzo, della quantità prevista e dell'impiego di beni (merci) in %."]
["Prezzo","Indichi il prezzo previsto per il prodotto. Attenzione: va indicato l'importo netto, senza imposta sul valore aggiunto (IVA)!"]
["Quantità","Inserisca una stima realistica su quante volte il Suo prodotto/servizio sarà venduto nel corso di un anno."]
["Impiego di beni","L'impiego di beni indica la spesa sostenuta dall'impresa per un bene venduto (prezzo d'acquisto). Nel caso di servizi l'impiego di beni risulta essere modesto oppure uguale a zero. Indichi la percentuale sul fatturato realizzato che dovrà corrispondere per la merce."]
[]
["Quinto passo: costi del personale"]
["Informazione generica","Calcoli qui i costi del personale che la Sua impresa dovrà sostenere in un anno."]
["Settore","Scelga il settore che corrisponde alla Sua impresa; è importante perché il numero delle retribuzioni annue varia da settore a settore."]
["Inizio del mese","Indichi il mese dal quale assumerà dipendenti. "]
["Costi del personale","Compili la tabella con i dati previsti. La colonna a destra evidenzia i costi del personale a carico dell'impresa."]
[]
["Sesto passo: conto economico annuo"]
["Informazione generica","Questa tabella consente il calcolo dell'utile/del disavanzo della Sua impresa per i primi cinque esercizi, effettuato sulla base del conto economico. A tal fine compili tutte le caselle azzurre."]
["Interessi","Basta inserire manualmente la percentuale d’interesse nel foglio “Piano di finanziamento” (ottavo passo) e gli interessi vengono calcolati e registrati automaticamente nel foglio “Conto economico annuo”. Fino a quel momento, nell'apposito riquadro appare la cifra “0”."]
["Tasse","La base fiscale utilizzata per questo modulo è quella della tassazione progressiva. Non si considerano forme speciali come per esempio il regime fiscale agevolato per aspiranti imprenditori ed imprenditrici. Si consiglia dunque di informarsi presso il proprio consulente fiscale per conoscere i vantaggi specifici. Il calcolo dell’imposta dipende in ogni caso dalla situazione personale del/la fondatore/fondatrice dell'impresa e può essere solo un'approssimazione rispetto al calcolo definitivo."]
["Simulazione","Questo strumento consente la simulazione di diversi scenari partendo dai dati del conto economico. I parametri disponibili sono le variazioni del fatturato e dell'impiego di beni. In questo modo potrà rapidamente verificare in che misura una variazione del fatturato o dell'impiego di beni incida sul risultato d'esercizio della Sua impresa. "]
["Break even point","Il grafico evidenzia la soglia di redditività (break even point = BEP) della Sua impresa. Il BEP indica il valore di fatturato con il quale, detratti tutti i costi, si raggiunge la soglia di redditività. Se il fatturato realizzato risulta superiore al BEP, l'impesa realizzerà un utile, se invece è inferiore risulterà un disavanzo."]
[]
["Settimo passo: conto economico mensile"]
["Informazione generica","La fase d'avviamento di un'impresa (start up) è un momento particolarmente importante che richiede pertanto una programmazione dettagliata. Questo foglio Le consente una programmazione precisa del primo esercizio. A tal fine inserica nelle caselle azzurre la percentuale di fatturato realizzata nei rispettivi mesi. Attenzione: la somma totale annua delle percentuali distribuite sui vari mesi dovrà essere il 100%!"]
[]
["Ottavo passo: piano di finanziamento"]
["Informazione generica","Compili tutte le caselle azzurre per pianificare il finanziamento della Sua impresa. Consulti le caselle con il triangolo rosso: saranno evidenziate spiegazioni relative alle singole voci. "]
["Fabbisogno di capitale","L’intero fabbisogno di capitale viene calcolato automaticamente in base ai dati e ai calcoli inseriti nelle tabelle precedenti. Basterà spostarsi sugli spazi con il triangolino rosso per trovare le spiegazioni alle singole voci."]
["Finanziamento esterno infruttifero (senza interessi)","Indichi tutti i finanziamenti esterni infruttiferi (senza interessi) conferiti all'impresa. Nella voce \"capitale proprio\" specifichi il valore delle risorse economiche apportate da Lei personalmente. Del capitale proprio fanno parte, oltre alle liquidità immesse, anche il valore dei beni e impianti che fornirà personalmente all'impresa. Non dimentichi quindi di rispettare l'indicazione riportata nella programmazione degli investimenti (passo 3) di aggiungere al capitale proprio il valore attuale di mercato dei Suoi beni e impianti."]
["Finanziamento interno dell'esercizio","Questo valore è calcolato in automatico - in base al conto economico - e rappresenta il flusso di cassa (cash flow) realizzato."]
["Avanzo/disavanzo di finanziamento","L'avanzo o il disavanzo risultano dalla differenza tra il fabbisogno di capitale dell'esercizio ed i mezzi disponibili."]
["Finanziamento esterno fruttifero (con interessi)","Qui si possono registrare diversi tipi di finanziamento fruttifero. Come esempi vengono citati un mutuo, un finanziamento fruttifero da soci o simili. Per ogni finanziamento sono da indicare quattro parametri: l'importo finanziato, la durata (fino a 15 anni), il tasso d'interesse dovuto ed eventuali anni senza ammortamento."]
["Conto corrente","Il credito in c/c serve per la copertura delle spese in corso. Il beneficiario e il creditore concordano un fido destinato alla copertura del fabbisogno di liquidità dell'impresa. Si effettuano bonifici, depositi e pagamenti, riscossioni di assegni, ordini permanenti etc. A causa dei costi elevati di interessi, spese e provvigioni, questo tipo di prestito è consigliato esclusivamente per la copertura di fabbisogno di liquidità per periodi molto brevi."]
["Interessi","Cliccando sul bottone \"calcolo degli interessi\", lo strumento calcola l'ammontare degli interessi da corrispondere per l'esercizio e riporta automaticamente il risultato nel foglio \"Conto economico annuo\" (passo 6)."]
[]
["Avviso"]
["Avviso","Si avverte che a causa delle diversità nelle versioni di programma di Microsoft Office e/o updates e service packs installati potranno sorgere degli errori nella stampa e nel layout. Gli errori di stampa potranno essere riferiti inoltre alla diversità dei drivers utilizzati. Consigliamo di verificare regolarmente la disponibilità di updates e service packs e di aggiornarli.\nImportante: i calcoli vengono effettuati comunque correttamente."]

{"sheet":"1. Idea imprenditoriale","index":2,"n_rows":56,"n_cols":12,"rows_kept":56,"cut":false,"hidden":false,"merged":[[40,0,40,3],[31,1,31,3],[25,0,25,3],[26,1,26,3],[27,1,27,3],[28,1,28,3],[39,1,39,3],[36,1,36,3],[37,1,37,3],[38,1,38,3],[35,0,35,3],[49,1,49,3],[56,1,56,3],[47,0,47,3],[48,1,48,3],[51,1,51,3],[54,1,54,3],[55,0,55,3],[50,1,50,3],[52,1,52,3],[53,1,53,3],[4,1,4,3],[7,0,7,3],[0,0,0,3],[1,1,1,3],[2,1,2,3],[3,1,3,3],[5,1,5,3],[6,1,6,3],[22,1,22,3],[8,1,8,3],[32,1,32,3],[33,1,33,3],[34,1,34,3],[9,1,9,3],[23,1,23,3],[24,1,24,3],[29,1,29,3],[30,0,30,3],[10,1,10,3],[18,1,18,3],[11,0,11,3],[21,1,21,3],[20,0,20,3]]}
["Idea imprenditoriale"]
["La Sua idea imprenditoriale"]
["Nome dell'impresa",null,null,null,null,null,null,null,null,null,1,{"$f":"IF(K3=1,1,IF(K3>=4,2,3))","v":1}]
["Forma giuridica "]
["Attività / settore"]
["Sede "]
["Inizio attività / apertura"]
["Prodotti / servizi",null,null,null,null,null,"impresa individuale "]
["Descrizione dei miei/nostri prodotti/servizi …",null,null,null,null,null,"società in nome collettivo (s.n.c.)"]
["Qual è l'elemento nuovo/straordinario della mia/nostra idea imprenditoriale?",null,null,null,null,null,"società in accomandita semplice (s.a.s)"]
["Il cliente si serve da me/noi perché …",null,null,null,null,null,"società a responsabilità limitata  (s.r.l.)"]
["Team imprenditoriale",null,null,null,null,null,"società per azioni (s.p.a.)"]
["Titolare/i (nomi) ",null,null,null,null,null,"cooperativa (coop.)"]
["Quote dell'impresa in %",null,null,null,null,null,"società di persone"]
["Suddivisione delle mansioni/funzioni"]
["Conoscenza del settore "]
["Qualifica / esperienza professionale"]
["Di quali ulteriori qualifiche avrò/avremo bisogno?"]
["Divento/diventiamo imprenditore o imprenditrice/imprenditori perché ..."]
["Collaboratori & qualifiche"]
["Consulenza esterna"]
["Consulenza tributaria"]
["Consulenza del lavoro"]
["Consulenza giuridica"]
["Consulenza aziendale"]
["Mercato e concorrenza"]
["Clienti / target "]
["Fabbisogno dei clienti"]
["Concorrenti "]
["Fornitori"]
["Marketing e distribuzione  "]
["Prodotti / servizi"]
["Mercato geografico"]
["Prezzo"]
["Marketing"]
["Punti di forza, punti di debolezza / possibilità, rischi "]
["Punti di forza dell'impresa "]
["Punti di debolezza dell'impresa "]
["Possibilità sul mercato "]
["Rischi sul mercato "]
["Piano di realizzazione "]
[null,"Cosa","Chi","Entro quando"]
["Formalità legali"]
["Attività / pietra miliare 1"]
["Attività / pietra miliare 2"]
["Attività / pietra miliare 3"]
["Attività / pietra miliare 4"]
["Analisi dei rischi"]
["Patrimonio netto disponibile"]
["Sono disponibili garanzie finanziarie? Quali?"]
["Rischio del prodotto"]
["Rischio di mercato"]
["Rischio del prezzo"]
["Imitatori"]
["Rischio di conflitto tra i soci "]
["Ulteriori informazioni / annotazioni"]

{"sheet":"2. Tenore di vita","index":3,"n_rows":24,"n_cols":4,"rows_kept":24,"cut":false,"hidden":false,"merged":[[23,2,23,3],[0,0,0,3],[18,2,18,3],[19,2,19,3],[20,2,20,3],[21,2,21,3],[22,2,22,3]]}
["Il sostentamento della vita / reddito netto"]
[null,"mensile","numero mensilità","annuale"]
["Reddito netto da lavoro (prima dell'attività imprenditoriale)",null,null,{"$f":"B3*C3","v":0}]
["Entrate secondarie (affitti, interessi, etc.)",null,null,{"$f":"B4*C4","v":0}]
[null,null,null,0]
["Totale entrate",null,null,{"$f":"SUM(D3:D5)","v":0}]
["Sostentamento (vitto, abbigliamento, etc.)",null,null,0]
["Automobile (manutenzione, carburante, assicurazione)",null,null,{"$f":"B8*C8","v":0}]
["Canoni di locazione (incl. spese accessorie)",null,null,0]
["Tempo libero (divertimenti, ferie, etc.)",null,null,0]
["Assicurazioni",null,null,0]
["Imposte private",null,null,0]
["Interessi e ammortamenti",null,null,0]
[" …",null,null,{"$f":"B14*C14","v":0}]
[" …",null,null,{"$f":"B15*C15","v":0}]
["Totale uscite ",null,null,{"$f":"SUM(D7:D15)","v":0}]
["Avanzo / disavanzo",null,null,{"$f":"D6-D16","v":0}]
[]
["Calcolo del compenso dell'imprenditore sulla base dell'attuale stipendio",null,"Significato"]
["Stipendio netto ",{"$f":"D3","v":0},"Il Suo reddito netto (prima dell'attività imprenditoriale)"]
["Calcolo dei costi dell'attuale stipendio netto per l'impresa",{"$f":"B20*2.1","v":0},"I costi del Suo reddito netto per un'impresa comprendono il reddito netto, tutti gli oneri e le tasse."]
["Stipendio previsto da imprenditore",{"$f":"'6. Conto economico annuo'!C15","v":0},"Lo stipendio dell'imprenditore comprende i contributi previdenziali, la 13esima, la 14esima e tutti gli altri oneri."]
["Stipendio netto previsto da imprenditore",{"$f":"B22/2.1","v":0},"Lo stipendio dell'imprenditore si calcola detraendo i contributi previdenziali, tutti gli oneri e le tasse."]
["Differenza, conseguenze per il tenore di vita",{"$f":"B23-B20","v":0},"Per poter mantenere l'attuale tenore di vita, la differenza tra lo stipendio netto dell'imprenditore e il reddito netto percepito prima dell'attività imprenditoriale dovrà risultare ≥ 0."]

{"sheet":"3. Piano di investimento","index":4,"n_rows":54,"n_cols":57,"rows_kept":54,"cut":false,"hidden":false,"merged":[[1,40,1,44],[1,46,1,50],[1,52,1,56],[0,0,0,13],[26,0,26,1],[1,0,1,1],[23,0,23,1],[1,28,1,32],[1,34,1,38]]}
["Piano di investimento"]
["a) Immobilizzazione materiali:",null,"anno 1","anno 2","anno 3","anno 4","anno 5","utilità in anni","quota di ammorta-mento ","ammor-tamento anno  1","ammor-tamento anno 2","ammor-tamento anno 3","ammor-tamento anno 4","ammor-tamento anno 5",null,null,"Jahr 1","Jahr 2","Jahr 3","Jahr 4","Jahr 5","Ø",null,null,null,null,null,null,"Berechnung Abschreibung für die Investition des 1. Jahres",null,null,null,null,null,"Berechnung Abschreibung für die Investition des 2. Jahres",null,null,null,null,null,"Berechnung Abschreibung für die Investition des 3. Jahres",null,null,null,null,null,"Berechnung Abschreibung für die Investition des 4. Jahres",null,null,null,null,null,"Berechnung Abschreibung für die Investition des 5. Jahres"]
["Descrizione","Tipo di investimento",null,null,null,null,null,null,null,null,null,null,null,null,null,"Investition",{"$f":"SUM(C4:C23)","v":0},{"$f":"SUM(D4:D23)+Q3","v":0},{"$f":"SUM(E4:E23)+R3","v":0},{"$f":"SUM(F4:F23)+S3","v":0},0,{"$f":"SUM(Q3:U3)","v":0}]
[null,1,null,null,null,null,null,{"$f":"SUMIF($B$46:$B$54,B4,$C$46:$C$54)","v":0},{"$f":"SUMIF($B$46:$B$54,B4,$D$46:$D$54)","v":0},{"$f":"AC4","v":0},{"$f":"SUM(AD4,AI4)","v":0},{"$f":"SUM(AE4,AJ4,AO4)","v":0},{"$f":"SUM(AF4,AK4,AP4,AU4)","v":0},{"$f":"SUM(AG4,AL4,AQ4,AV4,BA4)","v":0},null,"Abschreibung",{"$f":"SUM(J4:J23)","v":0},{"$f":"SUM(K4:K23)","v":0},{"$f":"SUM(L4:L23)","v":0},{"$f":"SUM(M4:M23)","v":0},0,{"$f":"SUM(Q4:U4)","v":0},null,null,null,null,null,null,{"$f":"C4*I4","v":0},{"$f":"IF(SUM($AC4:AC4)<$C4, AD27*$I4,\"\")","v":""},{"$f":"IF(SUM($AC4:AD4)<$C4, AE27*$I4,\"\")","v":""},{"$f":"IF(SUM($AC4:AE4)<$C4, AF27*$I4,\"\")","v":""},{"$f":"IF(SUM($AC4:AF4)<$C4, AG27*$I4,\"\")","v":""},null,{"$f":"IF(D4<=0,\"\",D4*I4)","v":""},{"$f":"IF(SUM($AI4:AI4)<$D4,AJ27*$I4,\"\")","v":""},{"$f":"IF(SUM($AI4:AJ4)<$D4,AK27*$I4,\"\")","v":""},{"$f":"IF(SUM($AI4:AK4)<$D4,AL27*$I4,\"\")","v":""},{"$f":"IF(SUM($AI4:AL4)<$D4,AM27*$I4,\"\")","v":""},null,{"$f":"IF(E4<=0,\"\",E4*I4)","v":""},{"$f":"IF(SUM($AO4:AO4)<$E4,AP27*$I4,\"\")","v":""},{"$f":"IF(SUM($AO4:AP4)<$E4,AQ27*$I4,\"\")","v":""},{"$f":"IF(SUM($AO4:AQ4)<$E4,AR27*$I4,\"\")","v":""},{"$f":"IF(SUM($AO4:AR4)<$E4,AS27*$I4,\"\")","v":""},null,{"$f":"IF(F4<=0,\"\",F4*I4)","v":""},{"$f":"IF(SUM($AU4:AU4)<$F4,AV27*$I4,\"\")","v":""},{"$f":"IF(SUM($AU4:AV4)<$F4,AW27*$I4,\"\")","v":""},{"$f":"IF(SUM($AU4:AW4)<$F4,AX27*$I4,\"\")","v":""},{"$f":"IF(SUM($AU4:AX4)<$F4,AY27*$I4,\"\")","v":""},null,{"$f":"IF(G4<=0,\"\",G4*I4)","v":""},{"$f":"IF(SUM($BA4:BA4)<$G4,$G4*$I4,\"\")","v":""},{"$f":"IF(SUM($BA4:BB4)<$G4,$G4*$I4,\"\")","v":""},{"$f":"IF(SUM($BA4:BC4)<$G4,$G4*$I4,\"\")","v":""},{"$f":"IF(SUM($BA4:BD4)<$G4,$G4*$I4,\"\")","v":""}]
[null,1,null,null,null,null,null,{"$f":"SUMIF($B$46:$B$54,B5,$C$46:$C$54)","v":0},{"$f":"SUMIF($B$46:$B$54,B5,$D$46:$D$54)","v":0},{"$f":"AC5","v":0},{"$f":"SUM(AD5,AI5)","v":0},{"$f":"SUM(AE5,AJ5,AO5)","v":0},{"$f":"SUM(AF5,AK5,AP5,AU5)","v":0},{"$f":"SUM(AG5,AL5,AQ5,AV5,BA5)","v":0},null,"%",{"$f":"IFERROR(Q4/Q3,\"\")","v":""},{"$f":"IFERROR(R4/R3,\"\")","v":""},"","","",{"$f":"SUM(Q5:U5)/COUNT(Q5:U5)","v":{"$error":"#DIV/0!"}},null,null,null,null,null,null,{"$f":"C5*I5","v":0},{"$f":"IF(SUM($AC5:AC5)<$C5, AD28*$I5,\"\")","v":""},{"$f":"IF(SUM($AC5:AD5)<$C5, AE28*$I5,\"\")","v":""},{"$f":"IF(SUM($AC5:AE5)<$C5, AF28*$I5,\"\")","v":""},{"$f":"IF(SUM($AC5:AF5)<$C5, AG28*$I5,\"\")","v":""},null,{"$f":"IF(D5<=0,\"\",D5*I5)","v":""},{"$f":"IF(SUM($AI5:AI5)<$D5,AJ28*$I5,\"\")","v":""},{"$f":"IF(SUM($AI5:AJ5)<$D5,AK28*$I5,\"\")","v":""},{"$f":"IF(SUM($AI5:AK5)<$D5,AL28*$I5,\"\")","v":""},{"$f":"IF(SUM($AI5:AL5)<$D5,AM28*$I5,\"\")","v":""},null,{"$f":"IF(E5<=0,\"\",E5*I5)","v":""},{"$f":"IF(SUM($AO5:AO5)<$E5,AP28*$I5,\"\")","v":""},{"$f":"IF(SUM($AO5:AP5)<$E5,AQ28*$I5,\"\")","v":""},{"$f":"IF(SUM($AO5:AQ5)<$E5,AR28*$I5,\"\")","v":""},{"$f":"IF(SUM($AO5:AR5)<$E5,AS28*$I5,\"\")","v":""},null,{"$f":"IF(F5<=0,\"\",F5*I5)","v":""},{"$f":"IF(SUM($AU5:AU5)<$F5,AV28*$I5,\"\")","v":""},{"$f":"IF(SUM($AU5:AV5)<$F5,AW28*$I5,\"\")","v":""},{"$f":"IF(SUM($AU5:AW5)<$F5,AX28*$I5,\"\")","v":""},{"$f":"IF(SUM($AU5:AX5)<$F5,AY28*$I5,\"\")","v":""},null,{"$f":"IF(G5<=0,\"\",G5*I5)","v":""},{"$f":"IF(SUM($BA5:BA5)<$G5,$G5*$I5,\"\")","v":""},{"$f":"IF(SUM($BA5:BB5)<$G5,$G5*$I5,\"\")","v":""},{"$f":"IF(SUM($BA5:BC5)<$G5,$G5*$I5,\"\")","v":""},{"$f":"IF(SUM($BA5:BD5)<$G5,$G5*$I5,\"\")","v":""}]
[null,1,null,null,null,null,null,0,0,0,0,0,0,0,null,null,null,null,null,null,null,null,null,null,null,null,null,null,0,{"$f":"IF(SUM($AC6:AC6)<$C6, AD29*$I6,\"\")","v":""},{"$f":"IF(SUM($AC6:AD6)<$C6, AE29*$I6,\"\")","v":""},{"$f":"IF(SUM($AC6:AE6)<$C6, AF29*$I6,\"\")","v":""},{"$f":"IF(SUM($AC6:AF6)<$C6, AG29*$I6,\"\")","v":""},null,"",{"$f":"IF(SUM($AI6:AI6)<$D6,AJ29*$I6,\"\")","v":""},{"$f":"IF(SUM($AI6:AJ6)<$D6,AK29*$I6,\"\")","v":""},{"$f":"IF(SUM($AI6:AK6)<$D6,AL29*$I6,\"\")","v":""},{"$f":"IF(SUM($AI6:AL6)<$D6,AM29*$I6,\"\")","v":""},null,"",{"$f":"IF(SUM($AO6:AO6)<$E6,AP29*$I6,\"\")","v":""},{"$f":"IF(SUM($AO6:AP6)<$E6,AQ29*$I6,\"\")","v":""},{"$f":"IF(SUM($AO6:AQ6)<$E6,AR29*$I6,\"\")","v":""},{"$f":"IF(SUM($AO6:AR6)<$E6,AS29*$I6,\"\")","v":""},null,"",{"$f":"IF(SUM($AU6:AU6)<$F6,AV29*$I6,\"\")","v":""},{"$f":"IF(SUM($AU6:AV6)<$F6,AW29*$I6,\"\")","v":""},{"$f":"IF(SUM($AU6:AW6)<$F6,AX29*$I6,\"\")","v":""},{"$f":"IF(SUM($AU6:AX6)<$F6,AY29*$I6,\"\")","v":""},null,"",{"$f":"IF(SUM($BA6:BA6)<$G6,$G6*$I6,\"\")","v":""},{"$f":"IF(SUM($BA6:BB6)<$G6,$G6*$I6,\"\")","v":""},{"$f":"IF(SUM($BA6:BC6)<$G6,$G6*$I6,\"\")","v":""},{"$f":"IF(SUM($BA6:BD6)<$G6,$G6*$I6,\"\")","v":""}]
[null,1,null,null,null,null,null,0,0,0,0,0,0,0,null,null,null,null,null,null,null,null,null,null,null,null,null,null,0,{"$f":"IF(SUM($AC7:AC7)<$C7, AD30*$I7,\"\")","v":""},{"$f":"IF(SUM($AC7:AD7)<$C7, AE30*$I7,\"\")","v":""},{"$f":"IF(SUM($AC7:AE7)<$C7, AF30*$I7,\"\")","v":""},{"$f":"IF(SUM($AC7:AF7)<$C7, AG30*$I7,\"\")","v":""},null,"",{"$f":"IF(SUM($AI7:AI7)<$D7,AJ30*$I7,\"\")","v":""},{"$f":"IF(SUM($AI7:AJ7)<$D7,AK30*$I7,\"\")","v":""},{"$f":"IF(SUM($AI7:AK7)<$D7,AL30*$I7,\"\")","v":""},{"$f":"IF(SUM($AI7:AL7)<$D7,AM30*$I7,\"\")","v":""},null,"",{"$f":"IF(SUM($AO7:AO7)<$E7,AP30*$I7,\"\")","v":""},{"$f":"IF(SUM($AO7:AP7)<$E7,AQ30*$I7,\"\")","v":""},{"$f":"IF(SUM($AO7:AQ7)<$E7,AR30*$I7,\"\")","v":""},{"$f":"IF(SUM($AO7:AR7)<$E7,AS30*$I7,\"\")","v":""},null,"",{"$f":"IF(SUM($AU7:AU7)<$F7,AV30*$I7,\"\")","v":""},{"$f":"IF(SUM($AU7:AV7)<$F7,AW30*$I7,\"\")","v":""},{"$f":"IF(SUM($AU7:AW7)<$F7,AX30*$I7,\"\")","v":""},{"$f":"IF(SUM($AU7:AX7)<$F7,AY30*$I7,\"\")","v":""},null,"",{"$f":"IF(SUM($BA7:BA7)<$G7,$G7*$I7,\"\")","v":""},{"$f":"IF(SUM($BA7:BB7)<$G7,$G7*$I7,\"\")","v":""},{"$f":"IF(SUM($BA7:BC7)<$G7,$G7*$I7,\"\")","v":""},{"$f":"IF(SUM($BA7:BD7)<$G7,$G7*$I7,\"\")","v":""}]
[null,1,null,null,null,null,null,0,0,0,0,0,0,0,null,null,null,null,null,null,null,null,null,null,null,null,null,null,0,{"$f":"IF(SUM($AC8:AC8)<$C8, AD31*$I8,\"\")","v":""},{"$f":"IF(SUM($AC8:AD8)<$C8, AE31*$I8,\"\")","v":""},{"$f":"IF(SUM($AC8:AE8)<$C8, AF31*$I8,\"\")","v":""},{"$f":"IF(SUM($AC8:AF8)<$C8, AG31*$I8,\"\")","v":""},null,"",{"$f":"IF(SUM($AI8:AI8)<$D8,AJ31*$I8,\"\")","v":""},{"$f":"IF(SUM($AI8:AJ8)<$D8,AK31*$I8,\"\")","v":""},{"$f":"IF(SUM($AI8:AK8)<$D8,AL31*$I8,\"\")","v":""},{"$f":"IF(SUM($AI8:AL8)<$D8,AM31*$I8,\"\")","v":""},null,"",{"$f":"IF(SUM($AO8:AO8)<$E8,AP31*$I8,\"\")","v":""},{"$f":"IF(SUM($AO8:AP8)<$E8,AQ31*$I8,\"\")","v":""},{"$f":"IF(SUM($AO8:AQ8)<$E8,AR31*$I8,\"\")","v":""},{"$f":"IF(SUM($AO8:AR8)<$E8,AS31*$I8,\"\")","v":""},null,"",{"$f":"IF(SUM($AU8:AU8)<$F8,AV31*$I8,\"\")","v":""},{"$f":"IF(SUM($AU8:AV8)<$F8,AW31*$I8,\"\")","v":""},{"$f":"IF(SUM($AU8:AW8)<$F8,AX31*$I8,\"\")","v":""},{"$f":"IF(SUM($AU8:AX8)<$F8,AY31*$I8,\"\")","v":""},null,"",{"$f":"IF(SUM($BA8:BA8)<$G8,$G8*$I8,\"\")","v":""},{"$f":"IF(SUM($BA8:BB8)<$G8,$G8*$I8,\"\")","v":""},{"$f":"IF(SUM($BA8:BC8)<$G8,$G8*$I8,\"\")","v":""},{"$f":"IF(SUM($BA8:BD8)<$G8,$G8*$I8,\"\")","v":""}]
[null,1,null,null,null,null,null,0,0,0,0,0,0,0,null,null,null,null,null,null,null,null,null,null,null,null,null,null,0,{"$f":"IF(SUM($AC9:AC9)<$C9, AD32*$I9,\"\")","v":""},{"$f":"IF(SUM($AC9:AD9)<$C9, AE32*$I9,\"\")","v":""},{"$f":"IF(SUM($AC9:AE9)<$C9, AF32*$I9,\"\")","v":""},{"$f":"IF(SUM($AC9:AF9)<$C9, AG32*$I9,\"\")","v":""},null,"",{"$f":"IF(SUM($AI9:AI9)<$D9,AJ32*$I9,\"\")","v":""},{"$f":"IF(SUM($AI9:AJ9)<$D9,AK32*$I9,\"\")","v":""},{"$f":"IF(SUM($AI9:AK9)<$D9,AL32*$I9,\"\")","v":""},{"$f":"IF(SUM($AI9:AL9)<$D9,AM32*$I9,\"\")","v":""},null,"",{"$f":"IF(SUM($AO9:AO9)<$E9,AP32*$I9,\"\")","v":""},{"$f":"IF(SUM($AO9:AP9)<$E9,AQ32*$I9,\"\")","v":""},{"$f":"IF(SUM($AO9:AQ9)<$E9,AR32*$I9,\"\")","v":""},{"$f":"IF(SUM($AO9:AR9)<$E9,AS32*$I9,\"\")","v":""},null,"",{"$f":"IF(SUM($AU9:AU9)<$F9,AV32*$I9,\"\")","v":""},{"$f":"IF(SUM($AU9:AV9)<$F9,AW32*$I9,\"\")","v":""},{"$f":"IF(SUM($AU9:AW9)<$F9,AX32*$I9,\"\")","v":""},{"$f":"IF(SUM($AU9:AX9)<$F9,AY32*$I9,\"\")","v":""},null,"",{"$f":"IF(SUM($BA9:BA9)<$G9,$G9*$I9,\"\")","v":""},{"$f":"IF(SUM($BA9:BB9)<$G9,$G9*$I9,\"\")","v":""},{"$f":"IF(SUM($BA9:BC9)<$G9,$G9*$I9,\"\")","v":""},{"$f":"IF(SUM($BA9:BD9)<$G9,$G9*$I9,\"\")","v":""}]
[null,1,null,null,null,null,null,0,0,0,0,0,0,0,null,null,null,null,null,null,null,null,null,null,null,null,null,null,0,{"$f":"IF(SUM($AC10:AC10)<$C10, AD33*$I10,\"\")","v":""},{"$f":"IF(SUM($AC10:AD10)<$C10, AE33*$I10,\"\")","v":""},{"$f":"IF(SUM($AC10:AE10)<$C10, AF33*$I10,\"\")","v":""},{"$f":"IF(SUM($AC10:AF10)<$C10, AG33*$I10,\"\")","v":""},null,"",{"$f":"IF(SUM($AI10:AI10)<$D10,AJ33*$I10,\"\")","v":""},{"$f":"IF(SUM($AI10:AJ10)<$D10,AK33*$I10,\"\")","v":""},{"$f":"IF(SUM($AI10:AK10)<$D10,AL33*$I10,\"\")","v":""},{"$f":"IF(SUM($AI10:AL10)<$D10,AM33*$I10,\"\")","v":""},null,"",{"$f":"IF(SUM($AO10:AO10)<$E10,AP33*$I10,\"\")","v":""},{"$f":"IF(SUM($AO10:AP10)<$E10,AQ33*$I10,\"\")","v":""},{"$f":"IF(SUM($AO10:AQ10)<$E10,AR33*$I10,\"\")","v":""},{"$f":"IF(SUM($AO10:AR10)<$E10,AS33*$I10,\"\")","v":""},null,"",{"$f":"IF(SUM($AU10:AU10)<$F10,AV33*$I10,\"\")","v":""},{"$f":"IF(SUM($AU10:AV10)<$F10,AW33*$I10,\"\")","v":""},{"$f":"IF(SUM($AU10:AW10)<$F10,AX33*$I10,\"\")","v":""},{"$f":"IF(SUM($AU10:AX10)<$F10,AY33*$I10,\"\")","v":""},null,"",{"$f":"IF(SUM($BA10:BA10)<$G10,$G10*$I10,\"\")","v":""},{"$f":"IF(SUM($BA10:BB10)<$G10,$G10*$I10,\"\")","v":""},{"$f":"IF(SUM($BA10:BC10)<$G10,$G10*$I10,\"\")","v":""},{"$f":"IF(SUM($BA10:BD10)<$G10,$G10*$I10,\"\")","v":""}]
[null,1,null,null,null,null,null,0,0,0,0,0,0,0,null,null,null,null,null,null,null,null,null,null,null,null,null,null,0,{"$f":"IF(SUM($AC11:AC11)<$C11, AD34*$I11,\"\")","v":""},{"$f":"IF(SUM($AC11:AD11)<$C11, AE34*$I11,\"\")","v":""},{"$f":"IF(SUM($AC11:AE11)<$C11, AF34*$I11,\"\")","v":""},{"$f":"IF(SUM($AC11:AF11)<$C11, AG34*$I11,\"\")","v":""},null,"",{"$f":"IF(SUM($AI11:AI11)<$D11,AJ34*$I11,\"\")","v":""},{"$f":"IF(SUM($AI11:AJ11)<$D11,AK34*$I11,\"\")","v":""},{"$f":"IF(SUM($AI11:AK11)<$D11,AL34*$I11,\"\")","v":""},{"$f":"IF(SUM($AI11:AL11)<$D11,AM34*$I11,\"\")","v":""},null,"",{"$f":"IF(SUM($AO11:AO11)<$E11,AP34*$I11,\"\")","v":""},{"$f":"IF(SUM($AO11:AP11)<$E11,AQ34*$I11,\"\")","v":""},{"$f":"IF(SUM($AO11:AQ11)<$E11,AR34*$I11,\"\")","v":""},{"$f":"IF(SUM($AO11:AR11)<$E11,AS34*$I11,\"\")","v":""},null,"",{"$f":"IF(SUM($AU11:AU11)<$F11,AV34*$I11,\"\")","v":""},{"$f":"IF(SUM($AU11:AV11)<$F11,AW34*$I11,\"\")","v":""},{"$f":"IF(SUM($AU11:AW11)<$F11,AX34*$I11,\"\")","v":""},{"$f":"IF(SUM($AU11:AX11)<$F11,AY34*$I11,\"\")","v":""},null,"",{"$f":"IF(SUM($BA11:BA11)<$G11,$G11*$I11,\"\")","v":""},{"$f":"IF(SUM($BA11:BB11)<$G11,$G11*$I11,\"\")","v":""},{"$f":"IF(SUM($BA11:BC11)<$G11,$G11*$I11,\"\")","v":""},{"$f":"IF(SUM($BA11:BD11)<$G11,$G11*$I11,\"\")","v":""}]
[null,1,null,null,null,null,null,0,0,0,0,0,0,0,null,null,null,null,null,null,null,null,null,null,null,null,null,null,0,{"$f":"IF(SUM($AC12:AC12)<$C12, AD35*$I12,\"\")","v":""},{"$f":"IF(SUM($AC12:AD12)<$C12, AE35*$I12,\"\")","v":""},{"$f":"IF(SUM($AC12:AE12)<$C12, AF35*$I12,\"\")","v":""},{"$f":"IF(SUM($AC12:AF12)<$C12, AG35*$I12,\"\")","v":""},null,"",{"$f":"IF(SUM($AI12:AI12)<$D12,AJ35*$I12,\"\")","v":""},{"$f":"IF(SUM($AI12:AJ12)<$D12,AK35*$I12,\"\")","v":""},{"$f":"IF(SUM($AI12:AK12)<$D12,AL35*$I12,\"\")","v":""},{"$f":"IF(SUM($AI12:AL12)<$D12,AM35*$I12,\"\")","v":""},null,"",{"$f":"IF(SUM($AO12:AO12)<$E12,AP35*$I12,\"\")","v":""},{"$f":"IF(SUM($AO12:AP12)<$E12,AQ35*$I12,\"\")","v":""},{"$f":"IF(SUM($AO12:AQ12)<$E12,AR35*$I12,\"\")","v":""},{"$f":"IF(SUM($AO12:AR12)<$E12,AS35*$I12,\"\")","v":""},null,"",{"$f":"IF(SUM($AU12:AU12)<$F12,AV35*$I12,\"\")","v":""},{"$f":"IF(SUM($AU12:AV12)<$F12,AW35*$I12,\"\")","v":""},{"$f":"IF(SUM($AU12:AW12)<$F12,AX35*$I12,\"\")","v":""},{"$f":"IF(SUM($AU12:AX12)<$F12,AY35*$I12,\"\")","v":""},null,"",{"$f":"IF(SUM($BA12:BA12)<$G12,$G12*$I12,\"\")","v":""},{"$f":"IF(SUM($BA12:BB12)<$G12,$G12*$I12,\"\")","v":""},{"$f":"IF(SUM($BA12:BC12)<$G12,$G12*$I12,\"\")","v":""},{"$f":"IF(SUM($BA12:BD12)<$G12,$G12*$I12,\"\")","v":""}]
[null,1,null,null,null,null,null,0,0,0,0,0,0,0,null,null,null,null,null,null,null,null,null,null,null,null,null,null,0,{"$f":"IF(SUM($AC13:AC13)<$C13, AD36*$I13,\"\")","v":""},{"$f":"IF(SUM($AC13:AD13)<$C13, AE36*$I13,\"\")","v":""},{"$f":"IF(SUM($AC13:AE13)<$C13, AF36*$I13,\"\")","v":""},{"$f":"IF(SUM($AC13:AF13)<$C13, AG36*$I13,\"\")","v":""},null,"",{"$f":"IF(SUM($AI13:AI13)<$D13,AJ36*$I13,\"\")","v":""},{"$f":"IF(SUM($AI13:AJ13)<$D13,AK36*$I13,\"\")","v":""},{"$f":"IF(SUM($AI13:AK13)<$D13,AL36*$I13,\"\")","v":""},{"$f":"IF(SUM($AI13:AL13)<$D13,AM36*$I13,\"\")","v":""},null,"",{"$f":"IF(SUM($AO13:AO13)<$E13,AP36*$I13,\"\")","v":""},{"$f":"IF(SUM($AO13:AP13)<$E13,AQ36*$I13,\"\")","v":""},{"$f":"IF(SUM($AO13:AQ13)<$E13,AR36*$I13,\"\")","v":""},{"$f":"IF(SUM($AO13:AR13)<$E13,AS36*$I13,\"\")","v":""},null,"",{"$f":"IF(SUM($AU13:AU13)<$F13,AV36*$I13,\"\")","v":""},{"$f":"IF(SUM($AU13:AV13)<$F13,AW36*$I13,\"\")","v":""},{"$f":"IF(SUM($AU13:AW13)<$F13,AX36*$I13,\"\")","v":""},{"$f":"IF(SUM($AU13:AX13)<$F13,AY36*$I13,\"\")","v":""},null,"",{"$f":"IF(SUM($BA13:BA13)<$G13,$G13*$I13,\"\")","v":""},{"$f":"IF(SUM($BA13:BB13)<$G13,$G13*$I13,\"\")","v":""},{"$f":"IF(SUM($BA13:BC13)<$G13,$G13*$I13,\"\")","v":""},{"$f":"IF(SUM($BA13:BD13)<$G13,$G13*$I13,\"\")","v":""}]
[null,1,null,null,null,null,null,0,0,0,0,0,0,0,null,null,null,null,null,null,null,null,null,null,null,null,null,null,0,{"$f":"IF(SUM($AC14:AC14)<$C14, AD37*$I14,\"\")","v":""},{"$f":"IF(SUM($AC14:AD14)<$C14, AE37*$I14,\"\")","v":""},{"$f":"IF(SUM($AC14:AE14)<$C14, AF37*$I14,\"\")","v":""},{"$f":"IF(SUM($AC14:AF14)<$C14, AG37*$I14,\"\")","v":""},null,"",{"$f":"IF(SUM($AI14:AI14)<$D14,AJ37*$I14,\"\")","v":""},{"$f":"IF(SUM($AI14:AJ14)<$D14,AK37*$I14,\"\")","v":""},{"$f":"IF(SUM($AI14:AK14)<$D14,AL37*$I14,\"\")","v":""},{"$f":"IF(SUM($AI14:AL14)<$D14,AM37*$I14,\"\")","v":""},null,"",{"$f":"IF(SUM($AO14:AO14)<$E14,AP37*$I14,\"\")","v":""},{"$f":"IF(SUM($AO14:AP14)<$E14,AQ37*$I14,\"\")","v":""},{"$f":"IF(SUM($AO14:AQ14)<$E14,AR37*$I14,\"\")","v":""},{"$f":"IF(SUM($AO14:AR14)<$E14,AS37*$I14,\"\")","v":""},null,"",{"$f":"IF(SUM($AU14:AU14)<$F14,AV37*$I14,\"\")","v":""},{"$f":"IF(SUM($AU14:AV14)<$F14,AW37*$I14,\"\")","v":""},{"$f":"IF(SUM($AU14:AW14)<$F14,AX37*$I14,\"\")","v":""},{"$f":"IF(SUM($AU14:AX14)<$F14,AY37*$I14,\"\")","v":""},null,"",{"$f":"IF(SUM($BA14:BA14)<$G14,$G14*$I14,\"\")","v":""},{"$f":"IF(SUM($BA14:BB14)<$G14,$G14*$I14,\"\")","v":""},{"$f":"IF(SUM($BA14:BC14)<$G14,$G14*$I14,\"\")","v":""},{"$f":"IF(SUM($BA14:BD14)<$G14,$G14*$I14,\"\")","v":""}]
[null,1,null,null,null,null,null,0,0,0,0,0,0,0,null,null,null,null,null,null,null,null,null,null,null,null,null,null,0,{"$f":"IF(SUM($AC15:AC15)<$C15, AD38*$I15,\"\")","v":""},{"$f":"IF(SUM($AC15:AD15)<$C15, AE38*$I15,\"\")","v":""},{"$f":"IF(SUM($AC15:AE15)<$C15, AF38*$I15,\"\")","v":""},{"$f":"IF(SUM($AC15:AF15)<$C15, AG38*$I15,\"\")","v":""},null,"",{"$f":"IF(SUM($AI15:AI15)<$D15,AJ38*$I15,\"\")","v":""},{"$f":"IF(SUM($AI15:AJ15)<$D15,AK38*$I15,\"\")","v":""},{"$f":"IF(SUM($AI15:AK15)<$D15,AL38*$I15,\"\")","v":""},{"$f":"IF(SUM($AI15:AL15)<$D15,AM38*$I15,\"\")","v":""},null,"",{"$f":"IF(SUM($AO15:AO15)<$E15,AP38*$I15,\"\")","v":""},{"$f":"IF(SUM($AO15:AP15)<$E15,AQ38*$I15,\"\")","v":""},{"$f":"IF(SUM($AO15:AQ15)<$E15,AR38*$I15,\"\")","v":""},{"$f":"IF(SUM($AO15:AR15)<$E15,AS38*$I15,\"\")","v":""},null,"",{"$f":"IF(SUM($AU15:AU15)<$F15,AV38*$I15,\"\")","v":""},{"$f":"IF(SUM($AU15:AV15)<$F15,AW38*$I15,\"\")","v":""},{"$f":"IF(SUM($AU15:AW15)<$F15,AX38*$I15,\"\")","v":""},{"$f":"IF(SUM($AU15:AX15)<$F15,AY38*$I15,\"\")","v":""},null,"",{"$f":"IF(SUM($BA15:BA15)<$G15,$G15*$I15,\"\")","v":""},{"$f":"IF(SUM($BA15:BB15)<$G15,$G15*$I15,\"\")","v":""},{"$f":"IF(SUM($BA15:BC15)<$G15,$G15*$I15,\"\")","v":""},{"$f":"IF(SUM($BA15:BD15)<$G15,$G15*$I15,\"\")","v":""}]
[null,1,null,null,null,null,null,0,0,0,0,0,0,0,null,null,null,null,null,null,null,null,null,null,null,null,null,null,0,{"$f":"IF(SUM($AC16:AC16)<$C16, AD39*$I16,\"\")","v":""},{"$f":"IF(SUM($AC16:AD16)<$C16, AE39*$I16,\"\")","v":""},{"$f":"IF(SUM($AC16:AE16)<$C16, AF39*$I16,\"\")","v":""},{"$f":"IF(SUM($AC16:AF16)<$C16, AG39*$I16,\"\")","v":""},null,"",{"$f":"IF(SUM($AI16:AI16)<$D16,AJ39*$I16,\"\")","v":""},{"$f":"IF(SUM($AI16:AJ16)<$D16,AK39*$I16,\"\")","v":""},{"$f":"IF(SUM($AI16:AK16)<$D16,AL39*$I16,\"\")","v":""},{"$f":"IF(SUM($AI16:AL16)<$D16,AM39*$I16,\"\")","v":""},null,"",{"$f":"IF(SUM($AO16:AO16)<$E16,AP39*$I16,\"\")","v":""},{"$f":"IF(SUM($AO16:AP16)<$E16,AQ39*$I16,\"\")","v":""},{"$f":"IF(SUM($AO16:AQ16)<$E16,AR39*$I16,\"\")","v":""},{"$f":"IF(SUM($AO16:AR16)<$E16,AS39*$I16,\"\")","v":""},null,"",{"$f":"IF(SUM($AU16:AU16)<$F16,AV39*$I16,\"\")","v":""},{"$f":"IF(SUM($AU16:AV16)<$F16,AW39*$I16,\"\")","v":""},{"$f":"IF(SUM($AU16:AW16)<$F16,AX39*$I16,\"\")","v":""},{"$f":"IF(SUM($AU16:AX16)<$F16,AY39*$I16,\"\")","v":""},null,"",{"$f":"IF(SUM($BA16:BA16)<$G16,$G16*$I16,\"\")","v":""},{"$f":"IF(SUM($BA16:BB16)<$G16,$G16*$I16,\"\")","v":""},{"$f":"IF(SUM($BA16:BC16)<$G16,$G16*$I16,\"\")","v":""},{"$f":"IF(SUM($BA16:BD16)<$G16,$G16*$I16,\"\")","v":""}]
[null,1,null,null,null,null,null,0,0,0,0,0,0,0,null,null,null,null,null,null,null,null,null,null,null,null,null,null,0,{"$f":"IF(SUM($AC17:AC17)<$C17, AD40*$I17,\"\")","v":""},{"$f":"IF(SUM($AC17:AD17)<$C17, AE40*$I17,\"\")","v":""},{"$f":"IF(SUM($AC17:AE17)<$C17, AF40*$I17,\"\")","v":""},{"$f":"IF(SUM($AC17:AF17)<$C17, AG40*$I17,\"\")","v":""},null,"",{"$f":"IF(SUM($AI17:AI17)<$D17,AJ40*$I17,\"\")","v":""},{"$f":"IF(SUM($AI17:AJ17)<$D17,AK40*$I17,\"\")","v":""},{"$f":"IF(SUM($AI17:AK17)<$D17,AL40*$I17,\"\")","v":""},{"$f":"IF(SUM($AI17:AL17)<$D17,AM40*$I17,\"\")","v":""},null,"",{"$f":"IF(SUM($AO17:AO17)<$E17,AP40*$I17,\"\")","v":""},{"$f":"IF(SUM($AO17:AP17)<$E17,AQ40*$I17,\"\")","v":""},{"$f":"IF(SUM($AO17:AQ17)<$E17,AR40*$I17,\"\")","v":""},{"$f":"IF(SUM($AO17:AR17)<$E17,AS40*$I17,\"\")","v":""},null,"",{"$f":"IF(SUM($AU17:AU17)<$F17,AV40*$I17,\"\")","v":""},{"$f":"IF(SUM($AU17:AV17)<$F17,AW40*$I17,\"\")","v":""},{"$f":"IF(SUM($AU17:AW17)<$F17,AX40*$I17,\"\")","v":""},{"$f":"IF(SUM($AU17:AX17)<$F17,AY40*$I17,\"\")","v":""},null,"",{"$f":"IF(SUM($BA17:BA17)<$G17,$G17*$I17,\"\")","v":""},{"$f":"IF(SUM($BA17:BB17)<$G17,$G17*$I17,\"\")","v":""},{"$f":"IF(SUM($BA17:BC17)<$G17,$G17*$I17,\"\")","v":""},{"$f":"IF(SUM($BA17:BD17)<$G17,$G17*$I17,\"\")","v":""}]
[null,1,null,null,null,null,null,0,0,0,0,0,0,0,null,null,null,null,null,null,null,null,null,null,null,null,null,null,0,{"$f":"IF(SUM($AC18:AC18)<$C18, AD41*$I18,\"\")","v":""},{"$f":"IF(SUM($AC18:AD18)<$C18, AE41*$I18,\"\")","v":""},{"$f":"IF(SUM($AC18:AE18)<$C18, AF41*$I18,\"\")","v":""},{"$f":"IF(SUM($AC18:AF18)<$C18, AG41*$I18,\"\")","v":""},null,"",{"$f":"IF(SUM($AI18:AI18)<$D18,AJ41*$I18,\"\")","v":""},{"$f":"IF(SUM($AI18:AJ18)<$D18,AK41*$I18,\"\")","v":""},{"$f":"IF(SUM($AI18:AK18)<$D18,AL41*$I18,\"\")","v":""},{"$f":"IF(SUM($AI18:AL18)<$D18,AM41*$I18,\"\")","v":""},null,"",{"$f":"IF(SUM($AO18:AO18)<$E18,AP41*$I18,\"\")","v":""},{"$f":"IF(SUM($AO18:AP18)<$E18,AQ41*$I18,\"\")","v":""},{"$f":"IF(SUM($AO18:AQ18)<$E18,AR41*$I18,\"\")","v":""},{"$f":"IF(SUM($AO18:AR18)<$E18,AS41*$I18,\"\")","v":""},null,"",{"$f":"IF(SUM($AU18:AU18)<$F18,AV41*$I18,\"\")","v":""},{"$f":"IF(SUM($AU18:AV18)<$F18,AW41*$I18,\"\")","v":""},{"$f":"IF(SUM($AU18:AW18)<$F18,AX41*$I18,\"\")","v":""},{"$f":"IF(SUM($AU18:AX18)<$F18,AY41*$I18,\"\")","v":""},null,"",{"$f":"IF(SUM($BA18:BA18)<$G18,$G18*$I18,\"\")","v":""},{"$f":"IF(SUM($BA18:BB18)<$G18,$G18*$I18,\"\")","v":""},{"$f":"IF(SUM($BA18:BC18)<$G18,$G18*$I18,\"\")","v":""},{"$f":"IF(SUM($BA18:BD18)<$G18,$G18*$I18,\"\")","v":""}]
[null,1,null,null,null,null,null,0,0,0,0,0,0,0,null,null,null,null,null,null,null,null,null,null,null,null,null,null,0,{"$f":"IF(SUM($AC19:AC19)<$C19, AD42*$I19,\"\")","v":""},{"$f":"IF(SUM($AC19:AD19)<$C19, AE42*$I19,\"\")","v":""},{"$f":"IF(SUM($AC19:AE19)<$C19, AF42*$I19,\"\")","v":""},{"$f":"IF(SUM($AC19:AF19)<$C19, AG42*$I19,\"\")","v":""},null,"",{"$f":"IF(SUM($AI19:AI19)<$D19,AJ42*$I19,\"\")","v":""},{"$f":"IF(SUM($AI19:AJ19)<$D19,AK42*$I19,\"\")","v":""},{"$f":"IF(SUM($AI19:AK19)<$D19,AL42*$I19,\"\")","v":""},{"$f":"IF(SUM($AI19:AL19)<$D19,AM42*$I19,\"\")","v":""},null,"",{"$f":"IF(SUM($AO19:AO19)<$E19,AP42*$I19,\"\")","v":""},{"$f":"IF(SUM($AO19:AP19)<$E19,AQ42*$I19,\"\")","v":""},{"$f":"IF(SUM($AO19:AQ19)<$E19,AR42*$I19,\"\")","v":""},{"$f":"IF(SUM($AO19:AR19)<$E19,AS42*$I19,\"\")","v":""},null,"",{"$f":"IF(SUM($AU19:AU19)<$F19,AV42*$I19,\"\")","v":""},{"$f":"IF(SUM($AU19:AV19)<$F19,AW42*$I19,\"\")","v":""},{"$f":"IF(SUM($AU19:AW19)<$F19,AX42*$I19,\"\")","v":""},{"$f":"IF(SUM($AU19:AX19)<$F19,AY42*$I19,\"\")","v":""},null,"",{"$f":"IF(SUM($BA19:BA19)<$G19,$G19*$I19,\"\")","v":""},{"$f":"IF(SUM($BA19:BB19)<$G19,$G19*$I19,\"\")","v":""},{"$f":"IF(SUM($BA19:BC19)<$G19,$G19*$I19,\"\")","v":""},{"$f":"IF(SUM($BA19:BD19)<$G19,$G19*$I19,\"\")","v":""}]
[null,1,null,null,null,null,null,0,0,0,0,0,0,0,null,null,null,null,null,null,null,null,null,null,null,null,null,null,0,{"$f":"IF(SUM($AC20:AC20)<$C20, AD43*$I20,\"\")","v":""},{"$f":"IF(SUM($AC20:AD20)<$C20, AE43*$I20,\"\")","v":""},{"$f":"IF(SUM($AC20:AE20)<$C20, AF43*$I20,\"\")","v":""},{"$f":"IF(SUM($AC20:AF20)<$C20, AG43*$I20,\"\")","v":""},null,"",{"$f":"IF(SUM($AI20:AI20)<$D20,AJ43*$I20,\"\")","v":""},{"$f":"IF(SUM($AI20:AJ20)<$D20,AK43*$I20,\"\")","v":""},{"$f":"IF(SUM($AI20:AK20)<$D20,AL43*$I20,\"\")","v":""},{"$f":"IF(SUM($AI20:AL20)<$D20,AM43*$I20,\"\")","v":""},null,"",{"$f":"IF(SUM($AO20:AO20)<$E20,AP43*$I20,\"\")","v":""},{"$f":"IF(SUM($AO20:AP20)<$E20,AQ43*$I20,\"\")","v":""},{"$f":"IF(SUM($AO20:AQ20)<$E20,AR43*$I20,\"\")","v":""},{"$f":"IF(SUM($AO20:AR20)<$E20,AS43*$I20,\"\")","v":""},null,"",{"$f":"IF(SUM($AU20:AU20)<$F20,AV43*$I20,\"\")","v":""},{"$f":"IF(SUM($AU20:AV20)<$F20,AW43*$I20,\"\")","v":""},{"$f":"IF(SUM($AU20:AW20)<$F20,AX43*$I20,\"\")","v":""},{"$f":"IF(SUM($AU20:AX20)<$F20,AY43*$I20,\"\")","v":""},null,"",{"$f":"IF(SUM($BA20:BA20)<$G20,$G20*$I20,\"\")","v":""},{"$f":"IF(SUM($BA20:BB20)<$G20,$G20*$I20,\"\")","v":""},{"$f":"IF(SUM($BA20:BC20)<$G20,$G20*$I20,\"\")","v":""},{"$f":"IF(SUM($BA20:BD20)<$G20,$G20*$I20,\"\")","v":""}]
[null,1,null,null,null,null,null,0,0,0,0,0,0,0,null,null,null,null,null,null,null,null,null,null,null,null,null,null,0,{"$f":"IF(SUM($AC21:AC21)<$C21, AD44*$I21,\"\")","v":""},{"$f":"IF(SUM($AC21:AD21)<$C21, AE44*$I21,\"\")","v":""},{"$f":"IF(SUM($AC21:AE21)<$C21, AF44*$I21,\"\")","v":""},{"$f":"IF(SUM($AC21:AF21)<$C21, AG44*$I21,\"\")","v":""},null,"",{"$f":"IF(SUM($AI21:AI21)<$D21,AJ44*$I21,\"\")","v":""},{"$f":"IF(SUM($AI21:AJ21)<$D21,AK44*$I21,\"\")","v":""},{"$f":"IF(SUM($AI21:AK21)<$D21,AL44*$I21,\"\")","v":""},{"$f":"IF(SUM($AI21:AL21)<$D21,AM44*$I21,\"\")","v":""},null,"",{"$f":"IF(SUM($AO21:AO21)<$E21,AP44*$I21,\"\")","v":""},{"$f":"IF(SUM($AO21:AP21)<$E21,AQ44*$I21,\"\")","v":""},{"$f":"IF(SUM($AO21:AQ21)<$E21,AR44*$I21,\"\")","v":""},{"$f":"IF(SUM($AO21:AR21)<$E21,AS44*$I21,\"\")","v":""},null,"",{"$f":"IF(SUM($AU21:AU21)<$F21,AV44*$I21,\"\")","v":""},{"$f":"IF(SUM($AU21:AV21)<$F21,AW44*$I21,\"\")","v":""},{"$f":"IF(SUM($AU21:AW21)<$F21,AX44*$I21,\"\")","v":""},{"$f":"IF(SUM($AU21:AX21)<$F21,AY44*$I21,\"\")","v":""},null,"",{"$f":"IF(SUM($BA21:BA21)<$G21,$G21*$I21,\"\")","v":""},{"$f":"IF(SUM($BA21:BB21)<$G21,$G21*$I21,\"\")","v":""},{"$f":"IF(SUM($BA21:BC21)<$G21,$G21*$I21,\"\")","v":""},{"$f":"IF(SUM($BA21:BD21)<$G21,$G21*$I21,\"\")","v":""}]
[null,1,null,null,null,null,null,0,0,0,0,0,0,0,null,null,null,null,null,null,null,null,null,null,null,null,null,null,0,{"$f":"IF(SUM($AC22:AC22)<$C22, AD45*$I22,\"\")","v":""},{"$f":"IF(SUM($AC22:AD22)<$C22, AE45*$I22,\"\")","v":""},{"$f":"IF(SUM($AC22:AE22)<$C22, AF45*$I22,\"\")","v":""},{"$f":"IF(SUM($AC22:AF22)<$C22, AG45*$I22,\"\")","v":""},null,"",{"$f":"IF(SUM($AI22:AI22)<$D22,AJ45*$I22,\"\")","v":""},{"$f":"IF(SUM($AI22:AJ22)<$D22,AK45*$I22,\"\")","v":""},{"$f":"IF(SUM($AI22:AK22)<$D22,AL45*$I22,\"\")","v":""},{"$f":"IF(SUM($AI22:AL22)<$D22,AM45*$I22,\"\")","v":""},null,"",{"$f":"IF(SUM($AO22:AO22)<$E22,AP45*$I22,\"\")","v":""},{"$f":"IF(SUM($AO22:AP22)<$E22,AQ45*$I22,\"\")","v":""},{"$f":"IF(SUM($AO22:AQ22)<$E22,AR45*$I22,\"\")","v":""},{"$f":"IF(SUM($AO22:AR22)<$E22,AS45*$I22,\"\")","v":""},null,"",{"$f":"IF(SUM($AU22:AU22)<$F22,AV45*$I22,\"\")","v":""},{"$f":"IF(SUM($AU22:AV22)<$F22,AW45*$I22,\"\")","v":""},{"$f":"IF(SUM($AU22:AW22)<$F22,AX45*$I22,\"\")","v":""},{"$f":"IF(SUM($AU22:AX22)<$F22,AY45*$I22,\"\")","v":""},null,"",{"$f":"IF(SUM($BA22:BA22)<$G22,$G22*$I22,\"\")","v":""},{"$f":"IF(SUM($BA22:BB22)<$G22,$G22*$I22,\"\")","v":""},{"$f":"IF(SUM($BA22:BC22)<$G22,$G22*$I22,\"\")","v":""},{"$f":"IF(SUM($BA22:BD22)<$G22,$G22*$I22,\"\")","v":""}]
[null,1,null,null,null,null,null,0,0,0,0,0,0,0,null,null,null,null,null,null,null,null,null,null,null,null,null,null,0,{"$f":"IF(SUM($AC23:AC23)<$C23, AD46*$I23,\"\")","v":""},{"$f":"IF(SUM($AC23:AD23)<$C23, AE46*$I23,\"\")","v":""},{"$f":"IF(SUM($AC23:AE23)<$C23, AF46*$I23,\"\")","v":""},{"$f":"IF(SUM($AC23:AF23)<$C23, AG46*$I23,\"\")","v":""},null,"",{"$f":"IF(SUM($AI23:AI23)<$D23,AJ46*$I23,\"\")","v":""},{"$f":"IF(SUM($AI23:AJ23)<$D23,AK46*$I23,\"\")","v":""},{"$f":"IF(SUM($AI23:AK23)<$D23,AL46*$I23,\"\")","v":""},{"$f":"IF(SUM($AI23:AL23)<$D23,AM46*$I23,\"\")","v":""},null,"",{"$f":"IF(SUM($AO23:AO23)<$E23,AP46*$I23,\"\")","v":""},{"$f":"IF(SUM($AO23:AP23)<$E23,AQ46*$I23,\"\")","v":""},{"$f":"IF(SUM($AO23:AQ23)<$E23,AR46*$I23,\"\")","v":""},{"$f":"IF(SUM($AO23:AR23)<$E23,AS46*$I23,\"\")","v":""},null,"",{"$f":"IF(SUM($AU23:AU23)<$F23,AV46*$I23,\"\")","v":""},{"$f":"IF(SUM($AU23:AV23)<$F23,AW46*$I23,\"\")","v":""},{"$f":"IF(SUM($AU23:AW23)<$F23,AX46*$I23,\"\")","v":""},{"$f":"IF(SUM($AU23:AX23)<$F23,AY46*$I23,\"\")","v":""},null,"",{"$f":"IF(SUM($BA23:BA23)<$G23,$G23*$I23,\"\")","v":""},{"$f":"IF(SUM($BA23:BB23)<$G23,$G23*$I23,\"\")","v":""},{"$f":"IF(SUM($BA23:BC23)<$G23,$G23*$I23,\"\")","v":""},{"$f":"IF(SUM($BA23:BD23)<$G23,$G23*$I23,\"\")","v":""}]
["Riserve (5% dell'investimento complessivo)",null,{"$f":"0.05*SUM(C4:C23)","v":0},{"$f":"0.05*SUM(D4:D23)","v":0},{"$f":"0.05*SUM(E4:E23)","v":0},{"$f":"0.05*SUM(F4:F23)","v":0},{"$f":"0.05*SUM(G4:G23)","v":0},null,{"$f":"IF(SUM(C24:G24)>0,V5,0)","v":0},{"$f":"I24*$C24","v":0},{"$f":"SUM(C24:D24)*$I24","v":0},{"$f":"SUM(C24:E24)*$I24","v":0},{"$f":"SUM(C24:F24)*$I24","v":0},{"$f":"SUM(C24:G24)*$I24","v":0}]
["Capitale d'investimento",null,{"$f":"SUM(C4:C24)","v":0},{"$f":"SUM(D4:D24)","v":0},{"$f":"SUM(E4:E24)","v":0},{"$f":"SUM(F4:F24)","v":0},{"$f":"SUM(G4:G24)","v":0},null,null,{"$f":"SUM(J4:J24)","v":0},{"$f":"SUM(K4:K24)","v":0},{"$f":"SUM(L4:L24)","v":0},{"$f":"SUM(M4:M24)","v":0},{"$f":"SUM(N4:N24)","v":0}]
[]
["b) Spese di costituzione:",null,"anno 1","anno 2","anno 3","anno 4","anno 5","utilità in anni","quota di ammorta-mento ","ammor-tamento anno  1","ammor-tamento anno 2","ammor-tamento anno 3","ammor-tamento anno 4","ammor-tamento anno 5",null,null,null,null,null,null,null,null,null,null,null,null,null,null,null,{"$f":"IF(D4<0,$C4+D4,$C4)","v":0},{"$f":"IF(D4<0,$C4+D4,$C4)","v":0},{"$f":"IF(E4<0,$C4+E4,IF(AE27<$C4,AE27,$C4))","v":0},{"$f":"IF(F4<0,$C4+F4,IF(AF27<$C4,AF27,$C4))","v":0},null,null,{"$f":"IF(E4<0,$D4+E4,$D4)","v":0},{"$f":"IF(E4<0,$D4+E4,$D4)","v":0},{"$f":"IF(F4<0,$D4+F4,IF(AK27<$D4,AK27,$D4))","v":0},{"$f":"IF(F4<0,$D4+F4,IF(AL27<$D4,AL27,$D4))","v":0},null,null,{"$f":"IF(F4<0,$E4+F4,$E4)","v":0},{"$f":"IF(F4<0,$E4+F4,$E4)","v":0},{"$f":"IF(H4<0,$E4+H4,$E4)","v":0},{"$f":"IF(I4<0,$E4+I4,$E4)","v":0},null,null,{"$f":"IF(G4<0,$F4+G4,$F4)","v":0},{"$f":"IF(H4<0,$F4+H4,$F4)","v":0},{"$f":"IF(I4<0,$F4+I4,$F4)","v":0},{"$f":"IF(J4<0,$F4+J4,$F4)","v":0}]
["Consulente aziendale","spese pluriennali",null,null,null,null,null,{"$f":"SUMIF($A$46:$A$54,B28,$C$46:$C$54)","v":5},{"$f":"SUMIF($A$53:$A$61,B28,$D$53:$D$61)","v":0.2},{"$f":"I28*$C28","v":0},{"$f":"SUM(C28:D28)*$I28","v":0},{"$f":"SUM(C28:E28)*$I28","v":0},{"$f":"SUM(C28:F28)*$I28","v":0},{"$f":"SUM(C28:G28)*$I28","v":0},null,null,null,null,null,null,null,null,null,null,null,null,null,null,null,{"$f":"IF(D5<0,$C5+D5,$C5)","v":0},{"$f":"IF(D5<0,$C5+D5,$C5)","v":0},{"$f":"IF(E5<0,$C5+E5,IF(AE28<$C5,AE28,$C5))","v":0},0,null,null,{"$f":"IF(E5<0,$D5+E5,$D5)","v":0},{"$f":"IF(E5<0,$D5+E5,$D5)","v":0},{"$f":"IF(F5<0,$D5+F5,IF(AK28<$D5,AK28,$D5))","v":0},{"$f":"IF(F5<0,$D5+F5,IF(AL28<$D5,AL28,$D5))","v":0},null,null,{"$f":"IF(F5<0,$E5+F5,$E5)","v":0},{"$f":"IF(F5<0,$E5+F5,$E5)","v":0},{"$f":"IF(H5<0,$E5+H5,$E5)","v":0},0,null,null,{"$f":"IF(G5<0,$F5+G5,$F5)","v":0},0,0,0]
["Consulente commerciale / fiscale ","spese pluriennali",null,null,null,null,null,{"$f":"SUMIF($A$46:$A$54,B29,$C$46:$C$54)","v":5},{"$f":"SUMIF($A$53:$A$61,B29,$D$53:$D$61)","v":0.2},0,{"$f":"SUM(C29:D29)*$I29","v":0},{"$f":"SUM(C29:E29)*$I29","v":0},{"$f":"SUM(C29:F29)*$I29","v":0},{"$f":"SUM(C29:G29)*$I29","v":0},null,null,null,null,null,null,null,null,null,null,null,null,null,null,null,0,0,0,0,null,null,0,0,0,0,null,null,0,0,{"$f":"IF(H6<0,$E6+H6,$E6)","v":0},0,null,null,0,0,0,0]
["Consulente legale ","spese pluriennali",null,null,null,null,null,5,0.2,0,0,0,0,0,null,null,null,null,null,null,null,null,null,null,null,null,null,null,null,0,0,0,0,null,null,0,0,0,0,null,null,0,0,{"$f":"IF(H7<0,$E7+H7,$E7)","v":0},0,null,null,0,0,0,0]
["Notaio","spese pluriennali",null,null,null,null,null,5,0.2,0,0,0,0,0,null,null,null,null,null,null,null,null,null,null,null,null,null,null,null,0,0,0,0,null,null,0,0,0,0,null,null,0,0,{"$f":"IF(H8<0,$E8+H8,$E8)","v":0},0,null,null,0,0,0,0]
["Autorizzazioni / registrazioni","spese pluriennali",null,null,null,null,null,5,0.2,0,0,0,0,0,null,null,null,null,null,null,null,null,null,null,null,null,null,null,null,0,0,0,0,null,null,0,0,0,0,null,null,0,0,{"$f":"IF(H9<0,$E9+H9,$E9)","v":0},0,null,null,0,0,0,0]
["Concetto di marketing","spese pluriennali",null,null,null,null,null,5,0.2,0,0,0,0,0,null,null,null,null,null,null,null,null,null,null,null,null,null,null,null,0,0,0,0,null,null,0,0,0,0,null,null,0,0,{"$f":"IF(H10<0,$E10+H10,$E10)","v":0},0,null,null,0,0,0,0]
["Cerimonia di inaugurazione","spese pluriennali",null,null,null,null,null,5,0.2,0,0,0,0,0,null,null,null,null,null,null,null,null,null,null,null,null,null,null,null,0,0,0,0,null,null,0,0,0,0,null,null,0,0,{"$f":"IF(H11<0,$E11+H11,$E11)","v":0},0,null,null,0,0,0,0]
["…","spese pluriennali",null,null,null,null,null,{"$f":"SUMIF($A$46:$A$54,B35,$C$46:$C$54)","v":5},0.2,0,0,0,0,0,null,null,null,null,null,null,null,null,null,null,null,null,null,null,null,0,0,0,0,null,null,0,0,0,0,null,null,0,0,{"$f":"IF(H12<0,$E12+H12,$E12)","v":0},0,null,null,0,0,0,0]
["…","spese pluriennali",null,null,null,null,null,5,0.2,0,0,0,0,0,null,null,null,null,null,null,null,null,null,null,null,null,null,null,null,0,0,0,0,null,null,0,0,0,0,null,null,0,0,{"$f":"IF(H13<0,$E13+H13,$E13)","v":0},0,null,null,0,0,0,0]
["Spese di costituzione ",null,{"$f":"SUM(C28:C36)","v":0},{"$f":"SUM(D28:D36)","v":0},{"$f":"SUM(E28:E36)","v":0},{"$f":"SUM(F28:F36)","v":0},{"$f":"SUM(G28:G36)","v":0},null,null,{"$f":"SUM(J28:J36)","v":0},{"$f":"SUM(K28:K36)","v":0},{"$f":"SUM(L28:L36)","v":0},{"$f":"SUM(M28:M36)","v":0},{"$f":"SUM(N28:N36)","v":0},null,null,null,null,null,null,null,null,null,null,null,null,null,null,null,0,0,0,0,null,null,0,0,0,0,null,null,0,0,{"$f":"IF(H14<0,$E14+H14,$E14)","v":0},0,null,null,0,0,0,0]
["Ammortamenti",null,null,null,null,null,null,null,null,{"$f":"J25+J37","v":0},{"$f":"K25+K37","v":0},{"$f":"L25+L37","v":0},{"$f":"M25+M37","v":0},{"$f":"N25+N37","v":0},null,null,null,null,null,null,null,null,null,null,null,null,null,null,null,0,0,0,0,null,null,0,0,0,0,null,null,0,0,{"$f":"IF(H15<0,$E15+H15,$E15)","v":0},0,null,null,0,0,0,0]
[null,null,null,null,null,null,null,null,null,null,null,null,null,null,null,null,null,null,null,null,null,null,null,null,null,null,null,null,null,0,0,0,0,null,null,0,0,0,0,null,null,0,0,{"$f":"IF(H16<0,$E16+H16,$E16)","v":0},0,null,null,0,0,0,0]
[null,null,null,null,null,null,null,null,null,null,null,null,null,null,null,null,null,null,null,null,null,null,null,null,null,null,null,null,null,0,0,0,0,null,null,0,0,0,0,null,null,0,0,{"$f":"IF(H17<0,$E17+H17,$E17)","v":0},0,null,null,0,0,0,0]
[null,null,null,null,null,null,null,null,null,null,null,null,null,null,null,null,null,null,null,null,null,null,null,null,null,null,null,null,null,0,0,0,0,null,null,0,0,0,0,null,null,0,0,{"$f":"IF(H18<0,$E18+H18,$E18)","v":0},0,null,null,0,0,0,0]
[null,null,null,null,null,null,null,null,null,null,null,null,null,null,null,null,null,null,null,null,null,null,null,null,null,null,null,null,null,0,0,0,0,null,null,0,0,0,0,null,null,0,0,{"$f":"IF(H19<0,$E19+H19,$E19)","v":0},0,null,null,0,0,0,0]
[null,null,null,null,null,null,null,null,null,null,null,null,null,null,null,null,null,null,null,null,null,null,null,null,null,null,null,null,null,0,0,0,0,null,null,{"$f":"IF(E20<0,$D20+E20,$D20)","v":0},{"$f":"IF(E20<0,$D20+E20,$D20)","v":0},{"$f":"IF(K20<0,$C20+K20,IF(AK43<$C20,AK43,$C20))","v":0},0,null,null,{"$f":"IF(F20<0,$E20+F20,$E20)","v":0},0,0,0,null,null,0,0,0,0]
[null,null,null,null,null,null,null,null,null,null,null,null,null,null,null,null,null,null,null,null,null,null,null,null,null,null,null,null,null,0,0,{"$f":"IF(E21<0,$C21+E21,IF(AE44<$C21,AE44,$C21))","v":0},0,null,null,0,0,{"$f":"IF(K21<0,$C21+K21,IF(AK44<$C21,AK44,$C21))","v":0},0,null,null,{"$f":"IF(F21<0,$E21+F21,$E21)","v":0},0,0,0,null,null,{"$f":"IF(G21<0,$F21+G21,$F21)","v":0},0,0,0]
[" - seleziona - ",1,"anno","percentuale",null,"anno",null,null,null,null,null,null,null,null,null,null,null,null,null,null,null,null,null,null,null,null,null,null,null,0,0,0,0,null,null,0,0,0,0,null,null,0,0,0,0,null,null,0,0,0,0]
["immobili & fabbricati",2,33,{"$f":"1/C46","v":3.0303030303030304E-2},null,{"$f":"1/D46","v":33},null,null,null,null,null,null,null,null,null,null,null,null,null,null,null,null,null,null,null,null,null,null,null,0,0,0,0,null,null,0,0,0,0,null,null,0,0,0,0,null,null,0,0,0,0]
["macchinari & impianti",3,10,{"$f":"1/C47","v":0.1},null,{"$f":"1/D47","v":10}]
["equipaggiamento & arredo",4,8,0.125,null,8]
["informatica",5,5,0.2,null,5]
["software",6,3,0.33333333333333331,null,{"$f":"1/D50","v":3}]
["parco macchine",7,4,0.25,null,4]
["autocarro",8,5,0.2,null,5]
["altri impianti",9,6.666666666666667,0.15,null,6.666666666666667]
["spese pluriennali",10,5,0.2,null,5]

{"sheet":"4. Pianificazione del fatturato","index":5,"n_rows":100,"n_cols":8,"rows_kept":100,"cut":false,"hidden":false,"merged":[[41,0,41,7],[42,6,42,7],[42,1,42,2],[62,1,62,2],[61,0,61,7],[62,6,62,7],[62,4,62,5],[82,1,82,2],[82,4,82,5],[82,6,82,7],[81,0,81,7],[42,4,42,5],[0,0,0,7],[2,1,2,2],[2,4,2,5],[2,6,2,7],[22,6,22,7],[21,0,21,7],[1,0,1,7],[22,4,22,5],[22,1,22,2]]}
["Pianificazione del fatturato: 1° esercizio"]
["I dati relativi alla pianificazione del fatturato saranno trasferiti automaticamente nella tabella \"6. Conto economico annuo\"."]
[null,"Prodotto",null,"Fatturato","Impiego di merci",null,"Ricavi lordi "]
[null,"Prezzo / €","Quantità/anno",null,"in % ","Valore","in % ","Valore"]
["Prodotti / servizi",null,null,{"$f":"B5*C5","v":0},null,{"$f":"D5*E5","v":0},{"$f":"IF(B5=0,0,1-E5)","v":0},{"$f":"D5-F5","v":0}]
["Prodotti / servizi",null,null,0,null,0,0,0]
["Prodotti / servizi",null,null,0,null,0,0,0]
["Prodotti / servizi",null,null,0,null,0,0,0]
["Prodotti / servizi",null,null,0,null,0,0,0]
["Prodotti / servizi",null,null,{"$f":"B10*C10","v":0},null,{"$f":"D10*E10","v":0},{"$f":"IF(B10=0,0,1-E10)","v":0},{"$f":"D10-F10","v":0}]
["Prodotti / servizi",null,null,0,null,0,0,0]
["Prodotti / servizi",null,null,0,null,0,0,0]
["Prodotti / servizi",null,null,0,null,0,0,0]
["Prodotti / servizi",null,null,0,null,0,0,0]
["Prodotti / servizi",null,null,0,null,0,0,0]
["Prodotti / servizi",null,null,0,null,0,0,0]
["Prodotti / servizi",null,null,0,null,0,0,0]
["Prodotti / servizi",null,null,0,null,0,0,0]
["altri ricavi",null,null,0,null,0,0,0]
["Somma ",null,{"$f":"SUM(C5:C19)","v":0},{"$f":"SUM(D5:D19)","v":0},{"$f":"IF(SUM(F5:F19)=0,0,F20/D20)","v":0},{"$f":"SUM(F5:F19)","v":0},{"$f":"IF(SUM(H5:H19)=0,0,H20/D20)","v":0},{"$f":"SUM(H5:H19)","v":0}]
[]
["Pianificazione del fatturato: 2° esercizio"]
[null,"Prodotto",null,"Fatturato","Impiego di merci",null,{"$f":"G3","v":"Ricavi lordi "}]
[null,"Prezzo / €",{"$f":"C4","v":"Quantità/anno"},null,"in % ","Valore","in % ","Valore"]
[{"$f":"A5","v":"Prodotti / servizi"},null,0,{"$f":"B25*C25","v":0},{"$f":"E5","v":0},{"$f":"D25*E25","v":0},{"$f":"IF(B25=0,0,1-E25)","v":0},{"$f":"D25-F25","v":0}]
["Prodotti / servizi",null,0,0,0,0,0,0]
["Prodotti / servizi",null,0,0,0,0,0,0]
["Prodotti / servizi",null,0,0,0,0,0,0]
["Prodotti / servizi",null,0,0,0,0,0,0]
["Prodotti / servizi",null,0,0,0,0,0,0]
[{"$f":"A11","v":"Prodotti / servizi"},null,0,{"$f":"B31*C31","v":0},{"$f":"E11","v":0},{"$f":"D31*E31","v":0},{"$f":"IF(B31=0,0,1-E31)","v":0},{"$f":"D31-F31","v":0}]
[{"$f":"A12","v":"Prodotti / servizi"},null,0,0,0,0,0,0]
[{"$f":"A13","v":"Prodotti / servizi"},null,0,0,0,0,0,0]
[{"$f":"A14","v":"Prodotti / servizi"},null,0,0,0,0,0,0]
[{"$f":"A15","v":"Prodotti / servizi"},null,0,0,0,0,0,0]
[{"$f":"A16","v":"Prodotti / servizi"},null,0,0,0,0,0,0]
[{"$f":"A17","v":"Prodotti / servizi"},null,0,0,0,0,0,0]
[{"$f":"A18","v":"Prodotti / servizi"},null,0,0,0,0,0,0]
[{"$f":"A19","v":"altri ricavi"},null,0,0,0,0,0,0]
["Somma ",null,{"$f":"SUM(C25:C39)","v":0},{"$f":"SUM(D25:D39)","v":0},{"$f":"IF(SUM(F25:F39)=0,0,F40/D40)","v":0},{"$f":"SUM(F25:F39)","v":0},{"$f":"IF(SUM(H25:H39)=0,0,H40/D40)","v":0},{"$f":"SUM(H25:H39)","v":0}]
[]
["Pianificazione del fatturato: 3° esercizio"]
[null,"Prodotto",null,"Fatturato","Impiego di merci",null,{"$f":"G23","v":"Ricavi lordi "}]
[null,"Prezzo / €",{"$f":"C24","v":"Quantità/anno"},null,"in % ","Valore","in % ","Valore"]
[{"$f":"A25","v":"Prodotti / servizi"},null,0,{"$f":"B45*C45","v":0},{"$f":"E25","v":0},{"$f":"D45*E45","v":0},{"$f":"IF(B45=0,0,1-E45)","v":0},{"$f":"D45-F45","v":0}]
["Prodotti / servizi",null,0,0,0,0,0,0]
["Prodotti / servizi",null,0,0,0,0,0,0]
["Prodotti / servizi",null,0,0,0,0,0,0]
["Prodotti / servizi",null,0,0,0,0,0,0]
["Prodotti / servizi",null,0,0,0,0,0,0]
[{"$f":"A31","v":"Prodotti / servizi"},null,0,{"$f":"B51*C51","v":0},{"$f":"E31","v":0},{"$f":"D51*E51","v":0},{"$f":"IF(B51=0,0,1-E51)","v":0},{"$f":"D51-F51","v":0}]
[{"$f":"A32","v":"Prodotti / servizi"},null,0,0,0,0,0,0]
[{"$f":"A33","v":"Prodotti / servizi"},null,0,0,0,0,0,0]
[{"$f":"A34","v":"Prodotti / servizi"},null,0,0,0,0,0,0]
[{"$f":"A35","v":"Prodotti / servizi"},null,0,0,0,0,0,0]
[{"$f":"A36","v":"Prodotti / servizi"},null,null,0,null,0,0,0]
[{"$f":"A37","v":"Prodotti / servizi"},null,0,0,0,0,0,0]
[{"$f":"A38","v":"Prodotti / servizi"},null,null,0,null,0,0,0]
[{"$f":"A39","v":"altri ricavi"},null,null,0,null,0,0,0]
["Somma ",null,{"$f":"SUM(C45:C59)","v":0},{"$f":"SUM(D45:D59)","v":0},{"$f":"IF(SUM(F45:F59)=0,0,F60/D60)","v":0},{"$f":"SUM(F45:F59)","v":0},{"$f":"IF(SUM(H45:H59)=0,0,H60/D60)","v":0},{"$f":"SUM(H45:H50)","v":0}]
[]
["Pianificazione del fatturato: 4° esercizio"]
[null,"Prodotto",null,"Fatturato","Impiego di merci",null,{"$f":"G43","v":"Ricavi lordi "}]
[null,"Prezzo / €",{"$f":"C44","v":"Quantità/anno"},null,"in % ","Valore","in % ","Valore"]
[{"$f":"A45","v":"Prodotti / servizi"},null,0,{"$f":"B65*C65","v":0},{"$f":"E45","v":0},{"$f":"D65*E65","v":0},{"$f":"IF(B65=0,0,1-E65)","v":0},{"$f":"D65-F65","v":0}]
["Prodotti / servizi",null,0,0,0,0,0,0]
["Prodotti / servizi",null,0,0,0,0,0,0]
["Prodotti / servizi",null,0,0,0,0,0,0]
["Prodotti / servizi",null,0,0,0,0,0,0]
["Prodotti / servizi",null,0,0,0,0,0,0]
[{"$f":"A51","v":"Prodotti / servizi"},null,0,{"$f":"B71*C71","v":0},{"$f":"E51","v":0},{"$f":"D71*E71","v":0},{"$f":"IF(B71=0,0,1-E71)","v":0},{"$f":"D71-F71","v":0}]
[{"$f":"A52","v":"Prodotti / servizi"},null,0,0,0,0,0,0]
[{"$f":"A53","v":"Prodotti / servizi"},null,0,0,0,0,0,0]
[{"$f":"A54","v":"Prodotti / servizi"},null,0,0,0,0,0,0]
[{"$f":"A55","v":"Prodotti / servizi"},null,0,0,0,0,0,0]
[{"$f":"A56","v":"Prodotti / servizi"},null,0,0,0,0,0,0]
[{"$f":"A57","v":"Prodotti / servizi"},null,0,0,0,0,0,0]
[{"$f":"A58","v":"Prodotti / servizi"},null,0,0,0,0,0,0]
[{"$f":"A59","v":"altri ricavi"},null,0,0,0,0,0,0]
["Somma ",null,{"$f":"SUM(C65:C79)","v":0},{"$f":"SUM(D65:D79)","v":0},{"$f":"IF(SUM(F65:F79)=0,0,F80/D80)","v":0},{"$f":"SUM(F65:F79)","v":0},{"$f":"IF(SUM(H65:H79)=0,0,H80/D80)","v":0},{"$f":"SUM(H65:H79)","v":0}]
[]
["Pianificazione del fatturato: 5° esercizio"]
[null,"Prodotto",null,"Fatturato","Impiego di merci",null,{"$f":"G63","v":"Ricavi lordi "}]
[null,"Prezzo / €",{"$f":"C64","v":"Quantità/anno"},null,"in % ","Valore","in % ","Valore"]
[{"$f":"A65","v":"Prodotti / servizi"},null,0,{"$f":"B85*C85","v":0},{"$f":"E65","v":0},{"$f":"D85*E85","v":0},{"$f":"IF(B85=0,0,1-E85)","v":0},{"$f":"D85-F85","v":0}]
["Prodotti / servizi",null,0,0,0,0,0,0]
["Prodotti / servizi",null,0,0,0,0,0,0]
["Prodotti / servizi",null,0,0,0,0,0,0]
["Prodotti / servizi",null,0,0,0,0,0,0]
["Prodotti / servizi",null,0,0,0,0,0,0]
[{"$f":"A71","v":"Prodotti / servizi"},null,0,{"$f":"B91*C91","v":0},{"$f":"E71","v":0},{"$f":"D91*E91","v":0},{"$f":"IF(B91=0,0,1-E91)","v":0},{"$f":"D91-F91","v":0}]
[{"$f":"A72","v":"Prodotti / servizi"},null,0,0,0,0,0,0]
[{"$f":"A73","v":"Prodotti / servizi"},null,0,0,0,0,0,0]
[{"$f":"A74","v":"Prodotti / servizi"},null,0,0,0,0,0,0]
[{"$f":"A75","v":"Prodotti / servizi"},null,0,0,0,0,0,0]
[{"$f":"A76","v":"Prodotti / servizi"},null,0,0,0,0,0,0]
[{"$f":"A77","v":"Prodotti / servizi"},null,0,0,0,0,0,0]
[{"$f":"A78","v":"Prodotti / servizi"},null,0,0,0,0,0,0]
[{"$f":"A79","v":"altri ricavi"},null,0,0,0,0,0,0]
["Somma ",null,{"$f":"SUM(C85:C99)","v":0},{"$f":"SUM(D85:D99)","v":0},{"$f":"IF(SUM(F85:F99)=0,0,F100/D100)","v":0},{"$f":"SUM(F85:F99)","v":0},{"$f":"IF(SUM(H85:H99)=0,0,H100/D100)","v":0},{"$f":"SUM(H85:H99)","v":0}]

{"sheet":"5. Costi del personale","index":6,"n_rows":69,"n_cols":11,"rows_kept":69,"cut":false,"hidden":false,"merged":[[0,2,0,3],[18,0,18,4],[44,0,44,4],[57,0,57,4],[3,0,3,4],[5,0,5,4],[31,0,31,4],[4,0,4,4]]}
["Settore",null,"Inizio mese",null,null,null,null,"gennaio",12,{"$f":"INDEX(I1:I12,K1)","v":12},1]
[null,{"$f":"J15","v":14},null,null,{"$f":"J1","v":12},null,null,"febbraio",11]
[null,null,null,null,null,null,null,"marzo",10]
["Costi del personale",null,null,null,null,null,null,"aprile",9]
["I costi del personale saranno trasferiti automaticamente nella tabella \"6. Conto economico annuo\".",null,null,null,null,null,null,"maggio",8]
["Anno 1",null,null,null,null,null,null,"giugno",7]
["Dipendenti","Stipendio netto","Fattore costo del lavoro ","Numero di mensilità","Costo del lavoro",null,null,"luglio",6]
[null,null,{"$f":"IF($B8<1200,2,IF(B8<1600,2.1,IF(B8>1600,2.2,2)))","v":2},{"$f":"B$2/12*E$2","v":14},{"$f":"B8*C8*D8","v":0},null,null,"agosto",5]
[null,null,{"$f":"IF($B9<1200,2,IF(B9<1600,2.1,IF(B9>1600,2.2,2)))","v":2},14,0,null,null,"settembre",4]
[null,null,2,14,0,null,null,"ottobre",3]
[null,null,2,14,0,null,null,"novembre",2]
[null,null,2,14,0,null,null,"dicembre",1]
[null,null,2,14,0]
[null,null,2,14,0]
[null,null,2,14,0,null,null,"commercio",14,{"$f":"INDEX(I15:I18,K15)","v":14},1]
[null,null,2,14,0,null,null,"artigianato",13]
["Somma costi del personale",null,null,null,{"$f":"SUM(E8:E16)","v":0},null,null,"turismo",14]
[null,null,null,null,null,null,null,"servizi",14]
["Anno 2"]
["Dipendenti","Stipendio netto","Fattore costo del lavoro ",{"$f":"D7","v":"Numero di mensilità"},"Costo del lavoro "]
[{"$f":"A8","v":0},0,{"$f":"IF($B21<1200,2,IF(B21<1600,2.1,IF(B21>1600,2.2,2)))","v":2},{"$f":"B$2","v":14},{"$f":"B21*C21*D21","v":0}]
[0,0,{"$f":"IF($B22<1200,2,IF(B22<1600,2.1,IF(B22>1600,2.2,2)))","v":2},{"$f":"B$2","v":14},{"$f":"B22*C22*D22","v":0}]
[0,0,2,14,0]
[0,0,2,14,0]
[0,0,2,14,0]
[0,0,2,14,0]
[0,0,2,14,0]
[0,0,2,14,0]
[0,0,2,14,0]
["Somma costi del personale",null,null,null,{"$f":"SUM(E21:E29)","v":0}]
[]
["Anno 3"]
["Dipendenti","Stipendio netto","Fattore costo del lavoro ",{"$f":"D20","v":"Numero di mensilità"},"Costo del lavoro "]
[{"$f":"A8","v":0},{"$f":"B21","v":0},{"$f":"IF($B34<1200,2,IF(B34<1600,2.1,IF(B34>1600,2.2,2)))","v":2},{"$f":"D21","v":14},{"$f":"B34*C34*D34","v":0}]
[0,0,{"$f":"IF($B35<1200,2,IF(B35<1600,2.1,IF(B35>1600,2.2,2)))","v":2},14,0]
[0,0,2,14,0]
[0,0,2,14,0]
[0,0,2,14,0]
[0,0,2,14,0]
[0,0,2,14,0]
[0,0,2,14,0]
[0,0,2,14,0]
["Somma costi del personale",null,null,null,{"$f":"SUM(E34:E42)","v":0}]
[]
["Anno 4"]
["Dipendenti","Stipendio netto","Fattore costo del lavoro ",{"$f":"D33","v":"Numero di mensilità"},"Costo del lavoro  "]
[{"$f":"A8","v":0},{"$f":"B34","v":0},{"$f":"IF($B47<1200,2,IF(B47<1600,2.1,IF(B47>1600,2.2,2)))","v":2},{"$f":"D34","v":14},{"$f":"B47*C47*D47","v":0}]
[0,0,{"$f":"IF($B48<1200,2,IF(B48<1600,2.1,IF(B48>1600,2.2,2)))","v":2},{"$f":"D35","v":14},0]
[0,0,2,14,0]
[0,0,2,14,0]
[0,0,2,14,0]
[0,0,2,14,0]
[0,0,2,14,0]
[0,0,2,14,0]
[0,0,2,14,0]
["Somma costi del personale",null,null,null,{"$f":"SUM(E47:E55)","v":0}]
[]
["Anno 5"]
["Dipendenti","Stipendio netto","Fattore costo del lavoro ",{"$f":"D46","v":"Numero di mensilità"},"Costo del lavoro   "]
[{"$f":"A8","v":0},{"$f":"B47","v":0},{"$f":"IF(B60<1200,2,IF(B60<1600,2.1,IF(B60>1600,2.2,2)))","v":2},{"$f":"D47","v":14},{"$f":"B60*C60*D60","v":0}]
[0,0,{"$f":"IF(B61<1200,2,IF(B61<1600,2.1,IF(B61>1600,2.2,2)))","v":2},{"$f":"D48","v":14},0]
[0,0,2,14,0]
[0,0,2,14,0]
[0,0,2,14,0]
[0,0,2,14,0]
[0,0,2,14,0]
[0,0,2,14,0]
[0,0,2,14,0]
["Somma costi del personale",null,null,null,{"$f":"SUM(E60:E68)","v":0}]

{"sheet":"6. Conto economico annuo","index":7,"n_rows":2544,"n_cols":32,"rows_kept":2544,"cut":false,"hidden":false,"merged":[[156,16,156,17],[158,16,158,17],[160,16,160,17],[163,16,163,17],[145,16,145,17],[147,16,147,17],[149,16,149,17],[152,16,152,32],[154,18,154,19],[154,21,154,22],[154,24,154,25],[154,27,154,28],[154,30,154,31],[141,16,141,32],[142,16,142,17],[143,18,143,19],[143,21,143,22],[143,24,143,25],[143,27,143,28],[143,30,143,31],[129,16,129,17],[131,16,131,17],[133,16,133,17],[136,16,136,17],[139,16,139,32],[123,16,123,17],[125,16,125,32],[127,18,127,19],[127,21,127,22],[127,24,127,25],[127,27,127,28],[127,30,127,31],[112,25,112,26],[112,27,112,28],[112,29,112,30],[114,16,114,32],[116,18,116,19],[116,21,116,22],[116,24,116,25],[116,27,116,28],[116,30,116,31],[104,16,104,32],[106,19,106,28],[107,19,107,30],[108,19,108,22],[108,23,108,24],[108,25,108,26],[108,27,108,28],[108,29,108,30],[109,25,109,26],[109,27,109,28],[109,29,109,30],[110,25,110,26],[117,18,117,19],[117,21,117,22],[117,24,117,25],[117,27,117,28],[117,30,117,31],[118,18,118,19],[118,21,118,22],[118,24,118,25],[118,27,118,28],[118,30,118,31],[110,27,110,28],[110,29,110,30],[111,25,111,26],[111,27,111,28],[111,29,111,30],[55,8,55,9],[55,10,55,11],[54,10,54,11],[55,6,55,7],[2524,8,2525,8],[2524,9,2525,9],[127,0,128,2],[105,5,105,6],[105,2,105,3],[164,0,164,1],[105,8,105,9],[137,0,137,1],[62,0,62,1],[54,6,54,7],[50,0,50,1],[54,4,54,5],[58,0,58,1],[53,2,53,3],[54,2,54,3],[55,2,55,3],[55,4,55,5],[44,0,44,1],[46,0,46,1],[49,0,49,1],[23,0,23,1],[43,0,43,1],[38,0,38,1],[34,0,34,1],[28,0,28,1],[42,0,42,1],[36,0,36,1],[32,0,32,1],[48,0,48,1],[29,0,29,1],[39,0,39,1],[16,0,16,1],[18,0,18,1],[8,0,8,1],[6,0,6,1],[54,8,54,9],[0,0,0,11],[1,0,1,11],[2,0,2,1],[2,2,2,3],[2,4,2,5],[2,6,2,7],[2,10,2,11],[2,8,2,9],[15,0,15,1],[4,0,4,1],[13,0,13,1],[14,0,14,1],[19,0,19,1],[20,0,20,1],[25,0,25,1],[27,0,27,1],[22,0,22,1],[30,0,30,1],[24,0,24,1]]}
["Conto economico e calcolo della redditività (annuo)"]
["I valori \"fatturato\" e \"impiego di beni/merci\" vengono desunti dalla tabella \"4. Pianificazione del fatturato\"."]
["Descrizione",null,"Anno 1",null,"Anno 2",null,"Anno 3",null,"Anno 4",null,"Anno 5"]
[" - Fatturato",null,{"$f":"'4. Pianificazione del fatturato'!D20","v":0},1,{"$f":"'4. Pianificazione del fatturato'!D40","v":0},1,{"$f":"'4. Pianificazione del fatturato'!D60","v":0},1,{"$f":"'4. Pianificazione del fatturato'!D80","v":0},1,{"$f":"'4. Pianificazione del fatturato'!D100","v":0},1]
["-  Impiego di beni/merci ",null,{"$f":"'4. Pianificazione del fatturato'!F20","v":0},{"$f":"IF(C4=0,0,C5/C4)","v":0},{"$f":"'4. Pianificazione del fatturato'!F40","v":0},{"$f":"IF(E4=0,0,E5/E4)","v":0},{"$f":"'4. Pianificazione del fatturato'!F60","v":0},{"$f":"IF(G4=0,0,G5/G4)","v":0},{"$f":"'4. Pianificazione del fatturato'!F80","v":0},{"$f":"IF(I4=0,0,I5/I4)","v":0},{"$f":"'4. Pianificazione del fatturato'!F100","v":0},{"$f":"IF(K4=0,0,K5/K4)","v":0}]
["= Proventi lordi",null,{"$f":"C4-C5","v":0},{"$f":"D4-D5","v":1},0,1,0,1,0,1,0,1]
["-  Prestazioni di terzi",null,{"$f":"D7*C4","v":0},null,{"$f":"F7*E4","v":0},{"$f":"D7","v":0},{"$f":"H7*G4","v":0},{"$f":"F7","v":0},{"$f":"J7*I4","v":0},{"$f":"H7","v":0},{"$f":"L7*K4","v":0},{"$f":"J7","v":0}]
["-  Provvigioni sul fatturato",null,{"$f":"D8*C4","v":0},null,{"$f":"F8*E4","v":0},{"$f":"D8","v":0},{"$f":"H8*G4","v":0},{"$f":"F8","v":0},{"$f":"J8*I4","v":0},{"$f":"H8","v":0},{"$f":"L8*K4","v":0},{"$f":"J8","v":0}]
["-  Logistica, trasporto, imballaggio",null,{"$f":"D9*C4","v":0},null,{"$f":"F9*E4","v":0},0,{"$f":"H9*G4","v":0},0,{"$f":"J9*I4","v":0},0,{"$f":"L9*K4","v":0},0]
["-  Altri costi variabili",null,{"$f":"D10*C4","v":0},null,{"$f":"F10*E4","v":0},0,{"$f":"H10*G4","v":0},0,{"$f":"J10*I4","v":0},0,{"$f":"L10*K4","v":0},0]
["=  Somma costi variabili ",null,{"$f":"SUM(C7:C10)","v":0},{"$f":"IF($C$4=0,0,C11/$C$4)","v":0},{"$f":"SUM(E7:E10)","v":0},{"$f":"IF($E$4=0,0,E11/$E$4)","v":0},{"$f":"SUM(G7:G10)","v":0},{"$f":"IF($G$4=0,0,G11/$G$4)","v":0},{"$f":"SUM(I7:I10)","v":0},{"$f":"IF($I$4=0,0,I11/$I$4)","v":0},{"$f":"SUM(K7:K10)","v":0},{"$f":"IF($K$4=0,0,K11/$K$4)","v":0}]
["=  Costi variabili incl. impiego di merci",null,{"$f":"C11+C5","v":0},{"$f":"IF(C12=0,0,C12/C4)","v":0},{"$f":"E11+E5","v":0},{"$f":"IF(E12=0,0,E12/E4)","v":0},{"$f":"G11+G5","v":0},{"$f":"IF(G12=0,0,G12/G4)","v":0},{"$f":"I11+I5","v":0},{"$f":"IF(I12=0,0,I12/I4)","v":0},{"$f":"K11+K5","v":0},{"$f":"IF(K12=0,0,K12/K4)","v":0}]
["=  Margine di contribuzione",null,{"$f":"C4-C12","v":0},{"$f":"IF(C4=0,0,C13/C4)","v":0},{"$f":"E4-E12","v":0},{"$f":"IF(E4=0,0,E13/E4)","v":0},{"$f":"G4-G12","v":0},{"$f":"IF(G4=0,0,G13/G4)","v":0},{"$f":"I4-I12","v":0},{"$f":"IF(I4=0,0,I13/I4)","v":0},{"$f":"K4-K12","v":0},{"$f":"IF(K4=0,0,K13/K4)","v":0}]
["- Costi del personale ",null,{"$f":"'5. Costi del personale'!E17","v":0},{"$f":"IF($C$4=0,0,C14/$C$4)","v":0},{"$f":"'5. Costi del personale'!E30","v":0},{"$f":"IF($E$4=0,0,E14/$E$4)","v":0},{"$f":"'5. Costi del personale'!E43","v":0},{"$f":"IF($G$4=0,0,G14/$G$4)","v":0},{"$f":"'5. Costi del personale'!E56","v":0},{"$f":"IF($I$4=0,0,I14/$I$4)","v":0},{"$f":"'5. Costi del personale'!E69","v":0},{"$f":"IF($K$4=0,0,K14/$K$4)","v":0}]
["- Reddito dell'imprenditore/imprenditrice",null,null,{"$f":"IF($C$4=0,0,C15/$C$4)","v":0},{"$f":"C15","v":0},{"$f":"IF($E$4=0,0,E15/$E$4)","v":0},{"$f":"E15","v":0},{"$f":"IF($G$4=0,0,G15/$G$4)","v":0},{"$f":"G15","v":0},{"$f":"IF($I$4=0,0,I15/$I$4)","v":0},{"$f":"I15","v":0},{"$f":"IF($K$4=0,0,K15/$K$4)","v":0}]
["- Materie prime, sostanze ausiliari, carburanti",null,null,0,{"$f":"C16","v":0},0,{"$f":"E16","v":0},0,{"$f":"G16","v":0},0,{"$f":"I16","v":0},0]
["- Investimenti minimi",null,null,0,0,0,0,0,0,0,0,0]
["- Energia / acqua / rifiuti",null,null,0,0,0,0,0,0,0,0,0]
["- Spese di riparazione e manutenzione",null,null,0,0,0,0,0,0,0,0,0]
["- Spese per parco vetture",null,null,0,0,0,0,0,0,0,0,0]
["- Assicurazioni",null,null,0,0,0,0,0,0,0,0,0]
["- Altri costi aziendali",null,null,0,0,0,0,0,0,0,0,0]
["- Spese di cancelleria",null,null,0,0,0,0,0,0,0,0,0]
["- Posta / telefono / internet",null,null,0,0,0,0,0,0,0,0,0]
["- Spese legali e di consulenza",null,null,0,0,0,0,0,0,0,0,0]
["- Oneri / contributi / imposte",null,null,0,0,0,0,0,0,0,0,0]
["- Altre spese amministrative",null,null,0,0,0,0,0,0,0,0,0]
["- Pubblicità / fiere / pubbliche relazioni",null,null,0,0,0,0,0,0,0,0,0]
["- Formazione",null,null,0,0,0,0,0,0,0,0,0]
["- Spese di viaggio e rappresentanza",null,null,0,0,0,0,0,0,0,0,0]
["- Leasing",null,null,0,0,0,0,0,0,0,0,0]
["- Affitto e locazione",null,null,0,0,0,0,0,0,0,0,0]
["- …",null,null,0,0,0,0,0,0,0,0,0]
["- …",null,0,0,0,0,0,0,0,0,0,0]
["- …",null,null,0,0,0,0,0,0,0,0,0]
["- Ammortamenti",null,{"$f":"'3. Piano di investimento'!J38","v":0},0,{"$f":"'3. Piano di investimento'!K38","v":0},0,{"$f":"'3. Piano di investimento'!L38","v":0},0,{"$f":"'3. Piano di investimento'!M38","v":0},0,{"$f":"'3. Piano di investimento'!N38","v":0},0]
["= Somma costi fissi",null,{"$f":"SUM(C14:C36)","v":0},{"$f":"SUM(D15:D36)","v":0},{"$f":"SUM(E14:E36)","v":0},{"$f":"SUM(F15:F36)","v":0},{"$f":"SUM(G14:G36)","v":0},{"$f":"SUM(H15:H36)","v":0},{"$f":"SUM(I14:I36)","v":0},{"$f":"SUM(J15:J36)","v":0},{"$f":"SUM(K14:K36)","v":0},{"$f":"SUM(L15:L36)","v":0}]
[]
["= Risultato lordo (EBIT)",null,{"$f":"C13-C37","v":0},{"$f":"IF(C4=0,0,C39/C4)","v":0},{"$f":"E13-E37","v":0},{"$f":"IF(E4=0,0,E39/E4)","v":0},{"$f":"G13-G37","v":0},{"$f":"IF(G4=0,0,G39/G4)","v":0},{"$f":"I13-I37","v":0},{"$f":"IF(I4=0,0,I39/I4)","v":0},{"$f":"K13-K37","v":0},{"$f":"IF(K4=0,0,K39/K4)","v":0}]
[" Totale interessi",null,0,{"$f":"IF(C4=0,0,C40/C4)","v":0},0,{"$f":"IF(E4=0,0,E40/E4)","v":0},0,{"$f":"IF(G4=0,0,G40/G4)","v":0},0,{"$f":"IF(I4=0,0,I40/I4)","v":0},0,{"$f":"IF(K4=0,0,K40/K4)","v":0}]
["+ Interessi attivi",null,{"$f":"'7. Piano di finanziamento'!B155","v":0},{"$f":"IF(C4=0,0,C41/C4)","v":0},{"$f":"'7. Piano di finanziamento'!C155","v":0},{"$f":"IF(E4=0,0,E41/E4)","v":0},{"$f":"'7. Piano di finanziamento'!D155","v":0},{"$f":"IF(G4=0,0,G41/G4)","v":0},{"$f":"'7. Piano di finanziamento'!E155","v":0},{"$f":"IF(I4=0,0,I41/I4)","v":0},{"$f":"'7. Piano di finanziamento'!F155","v":0},{"$f":"IF(K4=0,0,K41/K4)","v":0}]
["-  Interessi passivi",null,{"$f":"'7. Piano di finanziamento'!B156+'7. Piano di finanziamento'!B157","v":0},{"$f":"IF(C4=0,0,C42/C4)","v":0},{"$f":"'7. Piano di finanziamento'!C156+'7. Piano di finanziamento'!C157","v":0},{"$f":"IF(E4=0,0,E42/E4)","v":0},{"$f":"'7. Piano di finanziamento'!D156+'7. Piano di finanziamento'!D157","v":0},{"$f":"IF(G4=0,0,G42/G4)","v":0},{"$f":"'7. Piano di finanziamento'!E156+'7. Piano di finanziamento'!E157","v":0},{"$f":"IF(I4=0,0,I42/I4)","v":0},{"$f":"'7. Piano di finanziamento'!F156+'7. Piano di finanziamento'!F157","v":0},{"$f":"IF(K4=0,0,K42/K4)","v":0}]
["= Risultato prima delle imposte ",null,{"$f":"C39+C40","v":0},{"$f":"IF(C4=0,0,C43/C4)","v":0},{"$f":"E39+E40","v":0},{"$f":"IF(E4=0,0,E43/E4)","v":0},{"$f":"G39+G40","v":0},{"$f":"IF(G4=0,0,G43/G4)","v":0},{"$f":"I39+I40","v":0},{"$f":"IF(I4=0,0,I43/I4)","v":0},{"$f":"K39+K40","v":0},{"$f":"IF(K4=0,0,K43/K4)","v":0}]
["-  Imposte (forfettarie) ",null,{"$f":"IF(OR('1. Idea imprenditoriale'!$K$3=1,'1. Idea imprenditoriale'!$K$3=7),T137, T164)","v":0},{"$f":"IF(C4=0,0,C44/C4)","v":0},{"$f":"IF(OR('1. Idea imprenditoriale'!$K$3=1,'1. Idea imprenditoriale'!$K$3=7),W137, W164)","v":0},{"$f":"IF(E4=0,0,E44/E4)","v":0},{"$f":"IF(OR('1. Idea imprenditoriale'!$K$3=1,'1. Idea imprenditoriale'!$K$3=7),Z137, Z164)","v":0},{"$f":"IF(G4=0,0,G44/G4)","v":0},{"$f":"IF(OR('1. Idea imprenditoriale'!$K$3=1,'1. Idea imprenditoriale'!$K$3=7),AC137, AC164)","v":0},{"$f":"IF(I4=0,0,I44/I4)","v":0},{"$f":"IF(OR('1. Idea imprenditoriale'!$K$3=1,'1. Idea imprenditoriale'!$K$3=7),AF137, AF164)","v":0},{"$f":"IF(K4=0,0,K44/K4)","v":0}]
["= Risultato dopo le imposte",null,{"$f":"C43-C44","v":0},{"$f":"IF(C4=0,0,C45/C4)","v":0},{"$f":"E43-E44","v":0},{"$f":"IF(E4=0,0,E45/E4)","v":0},{"$f":"G43-G44","v":0},{"$f":"IF(G4=0,0,G45/G4)","v":0},{"$f":"I43-I44","v":0},{"$f":"IF(I4=0,0,I45/I4)","v":0},{"$f":"K43-K44","v":0},{"$f":"IF(K4=0,0,K45/K4)","v":0}]
[]
["Cash flow (semplificato) lordo (EBITDA) ",null,{"$f":"C45+C36","v":0},{"$f":"IF(C4=0,0,C47/C4)","v":0},{"$f":"E45+E36","v":0},{"$f":"IF(E4=0,0,E47/E4)","v":0},{"$f":"G45+G36","v":0},{"$f":"IF(G4=0,0,G47/G4)","v":0},{"$f":"I45+I36","v":0},{"$f":"IF(I4=0,0,I47/I4)","v":0},{"$f":"K45+K36","v":0},{"$f":"IF(K4=0,0,K47/K4)","v":0}]
[]
["Cash flow lordo (interessi esclusi)",null,{"$f":"C47-C40","v":0},{"$f":"IF(C4=0,0,C49/C4)","v":0},{"$f":"E47-E40","v":0},{"$f":"IF(E4=0,0,E49/E4)","v":0},{"$f":"G47-G40","v":0},{"$f":"IF(G4=0,0,G49/G4)","v":0},{"$f":"I47-I40","v":0},{"$f":"IF(I4=0,0,I49/I4)","v":0},{"$f":"K47-K40","v":0},{"$f":"IF(K4=0,0,K49/K4)","v":0}]
["Break even point (BEP)",null,{"$f":"IF(C4=0,\"-\",C37/D13)","v":"-"},{"$f":"IF(C4=0,0,C50/C4)","v":0},{"$f":"IF(E4=0,\"-\",E37/F13)","v":"-"},{"$f":"IF(E4=0,0,E50/E4)","v":0},{"$f":"IF(G4=0,\"-\",G37/H13)","v":"-"},{"$f":"IF(G4=0,0,G50/G4)","v":0},{"$f":"IF(I4=0,\"-\",I37/J13)","v":"-"},{"$f":"IF(I4=0,0,I50/I4)","v":0},{"$f":"IF(K4=0,\"-\",K37/L13)","v":"-"},{"$f":"IF(K4=0,0,K50/K4)","v":0}]
["BEP dopo risultato finanziario",null,{"$f":"IF(C4=0,\"-\",(C37-C40)/D13)","v":"-"},{"$f":"IF(C5=0,0,C51/C5)","v":0},{"$f":"IF(E4=0,\"-\",(E37-E40)/F13)","v":"-"},{"$f":"IF(E5=0,0,E51/E5)","v":0},{"$f":"IF(G4=0,\"-\",(G37-G40)/H13)","v":"-"},{"$f":"IF(G5=0,0,G51/G5)","v":0},{"$f":"IF(I4=0,\"-\",(I37-I40)/J13)","v":"-"},{"$f":"IF(I5=0,0,I51/I5)","v":0},{"$f":"IF(K4=0,\"-\",(K37-K40)/L13)","v":"-"},{"$f":"IF(K5=0,0,K51/K5)","v":0}]
[]
[]
["Simulazione ",null,"Variazione"]
["Fatturato"]
["Impiego di merci"]
[]
[]
["Fatturato",null,{"$f":"C4+C4*$C$55","v":0},{"$f":"D4","v":1},{"$f":"E4+E4*$E$55","v":0},{"$f":"F4","v":1},{"$f":"G4+G4*$G$55","v":0},{"$f":"H4","v":1},{"$f":"I4+I4*$I$55","v":0},{"$f":"J4","v":1},{"$f":"K4+K4*$K$55","v":0},{"$f":"L4","v":1}]
["Impiego di merci ",null,{"$f":"C5+C5*$C$56","v":0},{"$f":"IF(C59=0,0,C60/$C$59)","v":0},{"$f":"E5+E5*$E$56","v":0},{"$f":"IF($E$59=0,0,E60/$E$59)","v":0},{"$f":"G5+G5*$G$56","v":0},{"$f":"IF($G$59=0,0,G60/$G$59)","v":0},{"$f":"I5+I5*$I$56","v":0},{"$f":"IF($I$59=0,0,I60/$I$59)","v":0},{"$f":"K5+K5*$I$56","v":0},{"$f":"IF($K$59=0,0,K60/$K$59)","v":0}]
["Costi variabili",null,{"$f":"C11+C11*C55","v":0},{"$f":"IF(C61=0,0,C61/$C$59)","v":0},{"$f":"E11+E11*E55","v":0},{"$f":"IF($E$59=0,0,E61/$E$59)","v":0},{"$f":"G11+G11*G55","v":0},{"$f":"IF($G$59=0,0,G61/$G$59)","v":0},{"$f":"I11+I11*I55","v":0},{"$f":"IF($I$59=0,0,I61/$I$59)","v":0},{"$f":"K11+K11*K55","v":0},{"$f":"IF($K$59=0,0,K61/$K$59)","v":0}]
["Costi fissi",null,{"$f":"C37","v":0},{"$f":"IF(C62=0,0,C62/$C$59)","v":0},{"$f":"E37","v":0},{"$f":"IF($E$59=0,0,E62/$E$59)","v":0},{"$f":"G37","v":0},{"$f":"IF($G$59=0,0,G62/$G$59)","v":0},{"$f":"I37","v":0},{"$f":"IF($I$59=0,0,I62/$I$59)","v":0},{"$f":"K37","v":0},{"$f":"IF($K$59=0,0,K62/$K$59)","v":0}]
["Cash Flow (semplificato) lordo (EBITDA)",null,{"$f":"C64+C36","v":0},{"$f":"IF(C63=0,0,C63/$C$59)","v":0},{"$f":"E64+E36","v":0},{"$f":"IF($E$59=0,0,E63/$E$59)","v":0},{"$f":"G64+G36","v":0},{"$f":"IF($G$59=0,0,G63/$G$59)","v":0},{"$f":"I64+I36","v":0},{"$f":"IF($I$59=0,0,I63/$I$59)","v":0},{"$f":"K64+K36","v":0},{"$f":"IF($K$59=0,0,K63/$K$59)","v":0}]
["Risultato lordo (EBIT)",null,{"$f":"C59-C60-C61-C62","v":0},{"$f":"IF(C64=0,0,C64/$C$59)","v":0},{"$f":"E59-E60-E61-E62","v":0},{"$f":"IF($E$59=0,0,E64/$E$59)","v":0},{"$f":"G59-G60-G61-G62","v":0},{"$f":"IF($G$59=0,0,G64/$G$59)","v":0},{"$f":"I59-I60-I61-I62","v":0},{"$f":"IF($I$59=0,0,I64/$I$59)","v":0},{"$f":"K59-K60-K61-K62","v":0},{"$f":"IF($K$59=0,0,K64/$K$59)","v":0}]
[]
[]
[]
[]
[]
[]
[]
[]
[]
[]
[]
[]
[]
[]
[]
[]
[]
[]
[]
[]
[]
[]
[]
[]
[]
[]
[]
[]
[]
[]
[]
[]
[]
[]
[]
[]
[]
["Berechnung "]
["Bei Personengesellschaften und Einzelunternehmen ",null,null,null,1]
[]
[null,null,"Steuersätze IRPEF inklusive \"addizionale regionale\" aber ohne \"addizionale comunale\"",null,null,null,null,null,null,null,null,null,null,null,null,null,"Steuerberechnung bei Einzelunternehmen und Personengesellschaften"]
[null,null,"Versteuerbares Einkommen von Euro",null,"bis  Euro","Differenzbetrag",null,"Steuersatz","max. IRPEF Euro"]
[null,null,0,null,15000,null,{"$f":"+E107-C107","v":15000},0.23,{"$f":"G107*H107","v":3450},null,null,null,null,null,null,null,null,null,null,"Steuersätze IRPEF inklusive \"addizionale regionale\" aber ohne \"addizionale comunale\""]
[null,null,{"$f":"E107","v":15000},null,28000,null,{"$f":"+E108-C108","v":13000},0.25,{"$f":"G108*H108","v":3250}]
[null,null,{"$f":"E108","v":28000},null,50000,null,{"$f":"+E109-C109","v":22000},0.35,{"$f":"G109*H109","v":7699.9999999999991},null,null,null,null,null,null,null,null,null,null,"Versteuerbares Einkommen von (in Euro)",null,null,null,"bis (in Euro)",null,"Differenzbetrag",null,"Steuersatz",null,"max. IPREF in EUR "]
[null,null,{"$f":"E109","v":50000},null,50000,null,{"$f":"+E110-C110","v":0},null,{"$f":"G110*H110","v":0},null,null,null,null,null,null,null,null,null,null,null,null,null,0,null,15000,{"$f":"Y110-W110","v":15000},null,0.23,null,{"$f":"AB110*Z110","v":3450}]
[null,null,{"$f":"E110","v":50000},null,"unendlich ",null,null,0.43,{"$f":"G111*H111","v":0},null,null,null,null,null,null,null,null,null,null,null,null,null,15000,null,28000,{"$f":"Y111-W111","v":13000},null,0.25,null,{"$f":"AB111*Z111","v":3250}]
[null,null,null,null,null,null,null,null,null,null,null,null,null,null,null,null,null,null,null,null,null,null,28000,null,50000,22000,null,0.35,null,7699.9999999999991]
[null,null,null,null,null,null,null,null,null,null,null,null,null,null,null,null,null,null,null,null,null,null,50000,null,"Kein Limit",null,null,0.43,null,"Kein Limit"]
["Berechnung IRPEF auf Jahresergebnis"]
[null,null,"Ergebnis","IRPEF","Ergebnis","IRPEF","Ergebnis","IRPEF","Ergebnis","IRPEF","Ergebnis","IRPEF",null,null,null,null,"Berechnung IPREF auf Jahreseregbnis"]
[null,null,{"$f":"+C43","v":0},{"$f":"SUM(D117:D122)","v":0},{"$f":"+E43","v":0},{"$f":"SUM(F117:F122)","v":0},{"$f":"+G43","v":0},{"$f":"SUM(H117:H122)","v":0},{"$f":"+I43","v":0},{"$f":"SUM(J117:J122)","v":0},{"$f":"+K43","v":0},{"$f":"SUM(L117:L122)","v":0}]
[0,null,{"$f":"IF(C116<=0,C116,0)","v":0},{"$f":"$A117*C117","v":0},{"$f":"IF(E116<=0,E116,0)","v":0},{"$f":"$A117*E117","v":0},{"$f":"IF(G116<=0,G116,0)","v":0},{"$f":"$A117*G117","v":0},{"$f":"IF(I116<=0,I116,0)","v":0},{"$f":"$A117*I117","v":0},{"$f":"IF(K116<=0,K116,0)","v":0},{"$f":"$A117*K117","v":0},null,null,null,null,null,null,{"$f":"CONCATENATE(\"Jahresergebnis \",'1. Idea imprenditoriale'!B7)","v":"Jahresergebnis "},null,null,{"$f":"CONCATENATE(\"Jahresergebnis \",'[1]1. Geschäftsidee '!$B$7+1)","v":"Jahresergebnis 1"},null,null,{"$f":"CONCATENATE(\"Jahresergebnis \",'[1]1. Geschäftsidee '!$B$7+2)","v":"Jahresergebnis 2"},null,null,{"$f":"CONCATENATE(\"Jahresergebnis \",'[1]1. Geschäftsidee '!$B$7+3)","v":"Jahresergebnis 3"},null,null,{"$f":"CONCATENATE(\"Jahresergebnis \",'[1]1. Geschäftsidee '!$B$7+4)","v":"Jahresergebnis 4"}]
[{"$f":"H107","v":0.23},null,{"$f":"IF(C116<=0,0,IF(C116<$E107,C116,$E107))","v":0},0,{"$f":"IF(E116<=0,0,IF(E116<$E107,E116,$E107))","v":0},0,{"$f":"IF(G116<=0,0,IF(G116<$E107,G116,$E107))","v":0},0,{"$f":"IF(I116<=0,0,IF(I116<$E107,I116,$E107))","v":0},0,{"$f":"IF(K116<=0,0,IF(K116<$E107,K116,$E107))","v":0},0,null,null,null,null,null,null,{"$f":"C43","v":0},null,null,{"$f":"E43","v":0},null,null,{"$f":"G43","v":0},null,null,{"$f":"I43","v":0},null,null,{"$f":"K43","v":0}]
[{"$f":"H108","v":0.25},null,{"$f":"IF(C116<=0,0,IF(C116<$E108,C116-C118,$G108))","v":0},0,{"$f":"IF(E116<=0,0,IF(E116<$E108,E116-E118,$G108))","v":0},0,{"$f":"IF(G116<=0,0,IF(G116<$E108,G116-G118,$G108))","v":0},0,{"$f":"IF(I116<=0,0,IF(I116<$E108,I116-I118,$G108))","v":0},0,{"$f":"IF(K116<=0,0,IF(K116<$E108,K116-K118,$G108))","v":0},0]
[{"$f":"H109","v":0.35},null,{"$f":"IF(C116<=0,0,IF(C116<$E109,C116-SUM(C118:C119),$G109))","v":0},0,{"$f":"IF(E116<=0,0,IF(E116<$E109,E116-SUM(E118:E119),$G109))","v":0},0,{"$f":"IF(G116<=0,0,IF(G116<$E109,G116-SUM(G118:G119),$G109))","v":0},0,{"$f":"IF(I116<=0,0,IF(I116<$E109,I116-SUM(I118:I119),$G109))","v":0},0,{"$f":"IF(K116<=0,0,IF(K116<$E109,K116-SUM(K118:K119),$G109))","v":0},0,null,null,null,null,null,{"$f":"AB110","v":0.23},null,{"$f":"IF(S$118<=0,0,IF(S$118>=$Y110,$Z110*$R120,$S$118*$R120))","v":0},null,null,{"$f":"IF(V$118<=0,0,IF(V$118>=$Y110,$Z110*$R120,$S$118*$R120))","v":0},null,null,{"$f":"IF(Y$118<=0,0,IF(Y$118>=$Y110,$Z110*$R120,$S$118*$R120))","v":0},null,null,{"$f":"IF(AB$118<=0,0,IF(AB$118>=$Y110,$Z110*$R120,$S$118*$R120))","v":0},null,null,{"$f":"IF(AE$118<=0,0,IF(AE$118>=$Y110,$Z110*$R120,$S$118*$R120))","v":0}]
[{"$f":"H110","v":0},null,{"$f":"IF(C116<=0,0,IF(C116<$E110,C116-SUM(C118:C120),$G110))","v":0},0,{"$f":"IF(E116<=0,0,IF(E116<$E110,E116-SUM(E118:E120),$G110))","v":0},0,{"$f":"IF(G116<=0,0,IF(G116<$E110,G116-SUM(G118:G120),$G110))","v":0},0,{"$f":"IF(I116<=0,0,IF(I116<$E110,I116-SUM(I118:I120),$G110))","v":0},0,{"$f":"IF(K116<=0,0,IF(K116<$E110,K116-SUM(K118:K120),$G110))","v":0},0,null,null,null,null,null,{"$f":"AB111","v":0.25},null,{"$f":"IF(S$118<=W111,0,IF(S$118>=$Y111,$Z111*$R121,($S$118-Z110)*$R121))","v":0},null,null,{"$f":"IF(V$118<=W111,0,IF(V$118>=$Y111,$Z111*$R121,($S$118-Z110)*$R121))","v":0},null,null,{"$f":"IF(Y$118<=W111,0,IF(Y$118>=$Y111,$Z111*$R121,($S$118-Z110)*$R121))","v":0},null,null,{"$f":"IF(AB$118<=W111,0,IF(AB$118>=$Y111,$Z111*$R121,($S$118-Z110)*$R121))","v":0},null,null,{"$f":"IF(AE$118<=W111,0,IF(AE$118>=$Y111,$Z111*$R121,($S$118-Z110)*$R121))","v":0}]
[{"$f":"H111","v":0.43},null,{"$f":"IF(C116<=0,0,IF(C116>C111,C116-SUM(C117:C121),0))","v":0},0,{"$f":"IF(E116<=0,0,IF(E116>G111,E116-SUM(E117:E121),0))","v":0},0,{"$f":"IF(G116<=0,0,IF(G116>G111,G116-SUM(G117:G121),0))","v":0},0,{"$f":"IF(I116<=0,0,IF(I116>I111,I116-SUM(I117:I121),0))","v":0},0,{"$f":"IF(K116<=0,0,IF(K116>I111,K116-SUM(K117:K121),0))","v":0},0,null,null,null,null,null,{"$f":"AB112","v":0.35},null,{"$f":"IF(T121=0,0,IF(T121=AD111,IF(S118<Y112,(S118-Z110-Z111)*R122,AD112),0))","v":0},null,null,{"$f":"IF(W121=0,0,IF(W121=AD111,IF(V118<Y112,(V118-Z110-Z111)*R122,AD112),0))","v":0},null,null,{"$f":"IF(Z121=0,0,IF(Z121=AD111,IF(Y118<Y112,(Y118-Z110-Z111)*R122,AD112),0))","v":0},null,null,{"$f":"IF(AC121=0,0,IF(AC121=AD111,IF(AB118<Y112,(AB118-Z110-Z111)*R122,AD112),0))","v":0},null,null,{"$f":"IF(AF121=0,0,IF(AF121=AD111,IF(AE118<Y112,(AE118-Z110-Z111)*R122,AD112),0))","v":0}]
[null,null,null,null,null,null,null,null,null,null,null,null,null,null,null,null,null,{"$f":"AB113","v":0.43},null,{"$f":"IF(T122=0,0,IF(T122=AD112,(S118-SUM(Z110:AA112))*R123,0))","v":0},null,null,{"$f":"IF(W122=0,0,IF(W122=AD112,(V118-SUM(Z110:AA112))*R123,0))","v":0},null,null,{"$f":"IF(Z122=0,0,IF(Z122=AD112,(Y118-SUM(Z110:AA112))*R123,0))","v":0},null,null,{"$f":"IF(AC122=0,0,IF(AC122=AD112,(AB118-SUM(Z110:AA112))*R123,0))","v":0},null,null,{"$f":"IF(AF122=0,0,IF(AF122=AD112,(AE118-SUM(Z110:AA112))*R123,0))","v":0}]
["Berechnung IRAP",null,null,null,null,null,null,null,null,null,null,null,null,null,null,null,"TOT IPREF",null,null,{"$f":"SUM(T120:T123)","v":0},null,null,{"$f":"SUM(W120:W123)","v":0},null,null,{"$f":"SUM(Z120:Z123)","v":0},null,null,{"$f":"SUM(AC120:AC123)","v":0},null,null,{"$f":"SUM(AF120:AF123)","v":0}]
["Steuergrundlage",null,null,{"$f":"SUM(C14,C15,C39)","v":0},null,{"$f":"SUM(E14,E15,E39)","v":0},null,{"$f":"SUM(G14,G15,G39)","v":0},null,{"$f":"SUM(I14,I15,I39)","v":0},null,{"$f":"SUM(K14,K15,K39)","v":0}]
["Steuersatz",null,null,2.98E-2,null,{"$f":"D126","v":2.98E-2},null,{"$f":"F126","v":2.98E-2},null,{"$f":"H126","v":2.98E-2},null,{"$f":"J126","v":2.98E-2},null,null,null,null,"Berechnung IRAP auf Steuergrundlage"]
["Betrag IRAP",null,null,{"$f":"D125*D126","v":0},null,{"$f":"F125*F126","v":0},null,{"$f":"H125*H126","v":0},null,{"$f":"J125*J126","v":0},null,{"$f":"L125*L126","v":0}]
["Summe Steuern auf Einkommen und Ertrag",null,null,null,null,null,null,null,null,null,null,null,null,null,null,null,null,null,{"$f":"'[1]1. Geschäftsidee '!$B$7","v":0},null,null,{"$f":"'[1]1. Geschäftsidee '!$B$7+1","v":1},null,null,{"$f":"'[1]1. Geschäftsidee '!$B$7+2","v":2},null,null,{"$f":"'[1]1. Geschäftsidee '!$B$7+3","v":3},null,null,{"$f":"'[1]1. Geschäftsidee '!$B$7+4","v":4}]
[null,null,null,{"$f":"D116+D127","v":0},null,{"$f":"F116+F127","v":0},null,{"$f":"H116+H127","v":0},null,{"$f":"J116+J127","v":0},null,{"$f":"L116+L127","v":0}]
[null,null,null,null,null,null,null,null,null,null,null,null,null,null,null,null,"Steuergrundlage",null,null,{"$f":"C39","v":0},null,null,{"$f":"E39","v":0},null,null,{"$f":"G39","v":0},null,null,{"$f":"I39","v":0},null,null,{"$f":"K39","v":0}]
[]
[null,null,null,null,null,null,null,null,null,null,null,null,null,null,null,null,"Steuersatz",null,null,{"$f":"IF('1. Idea imprenditoriale'!$K$3=1,0,3.9%)","v":0},null,null,{"$f":"IF('1. Idea imprenditoriale'!$K$3=1,0,3.9%)","v":0},null,null,{"$f":"IF('1. Idea imprenditoriale'!$K$3=1,0,3.9%)","v":0},null,null,{"$f":"IF('1. Idea imprenditoriale'!$K$3=1,0,3.9%)","v":0},null,null,{"$f":"IF('1. Idea imprenditoriale'!$K$3=1,0,3.9%)","v":0}]
["Berechnung bei Kapitalgesellschaften",null,null,null,2]
[null,null,"Grundlage",null,null,null,null,null,null,null,null,null,null,null,null,null,"Betrag IRAP",null,null,{"$f":"IF(T132*T130<0, 0, T132*T130)","v":0},null,null,{"$f":"IF(W132*W130<0, 0, W132*W130)","v":0},null,null,{"$f":"IF(Z132*Z130<0, 0, Z132*Z130)","v":0},null,null,{"$f":"IF(AC132*AC130<0, 0, AC132*AC130)","v":0},null,null,{"$f":"IF(AF132*AF130<0, 0, AF132*AF130)","v":0}]
["IRAP",3.9E-2,{"$f":"C14+C15+C39","v":0},{"$f":"$B135*C135","v":0},{"$f":"E14+E15+E39","v":0},{"$f":"$B135*E135","v":0},{"$f":"G14+G15+G39","v":0},{"$f":"$B135*G135","v":0},{"$f":"I14+I15+I39","v":0},{"$f":"$B135*I135","v":0},{"$f":"K14+K15+K39","v":0},{"$f":"$B135*K135","v":0}]
["IRES",0.24,{"$f":"C43","v":0},{"$f":"C136*$B136","v":0},{"$f":"E43","v":0},{"$f":"E136*$B136","v":0},{"$f":"G43","v":0},{"$f":"G136*$B136","v":0},{"$f":"I43","v":0},{"$f":"I136*$B136","v":0},{"$f":"K43","v":0},{"$f":"K136*$B136","v":0}]
[null,null,null,{"$f":"SUM(D135:D136)","v":0},null,{"$f":"SUM(F135:F136)","v":0},null,{"$f":"SUM(H135:H136)","v":0},null,{"$f":"SUM(J135:J136)","v":0},null,{"$f":"SUM(L135:L136)","v":0},null,null,null,null,"SUMME Gesamt Steuer",null,null,{"$f":"T134+T124","v":0},null,null,{"$f":"W134+W124","v":0},null,null,{"$f":"Z134+Z124","v":0},null,null,{"$f":"AC134+AC124","v":0},null,null,{"$f":"AF134+AF124","v":0}]
["Bei Personengesellschaft",null,null,3]
[]
[null,null,"Steuersätze IRPEF inklusive \"addizionale regionale\" aber ohne \"addizionale comunale\"",null,null,null,null,null,null,null,null,null,null,null,null,null,"Steuerberechnung bei Kapitalgesellschaften"]
[null,null,"Versteuerbares Einkommen von Euro",null,"bis  Euro","Differenzbetrag",null,"Steuersatz","max. IRPEF Euro"]
[null,null,0,null,15000,null,{"$f":"+E142-C142","v":15000},0.23,{"$f":"G142*H142","v":3450},null,null,null,null,null,null,null,"Berechnung IRES auf Jahreseregbnis"]
[null,null,{"$f":"E142","v":15000},null,28000,null,{"$f":"+E143-C143","v":13000},0.25,{"$f":"G143*H143","v":3250}]
[null,null,{"$f":"E143","v":28000},null,50000,null,{"$f":"+E144-C144","v":22000},0.35,{"$f":"G144*H144","v":7699.9999999999991},null,null,null,null,null,null,null,null,null,{"$f":"'[1]1. Geschäftsidee '!$B$7","v":0},null,null,{"$f":"'[1]1. Geschäftsidee '!$B$7+1","v":1},null,null,{"$f":"'[1]1. Geschäftsidee '!$B$7+2","v":2},null,null,{"$f":"'[1]1. Geschäftsidee '!$B$7+3","v":3},null,null,{"$f":"'[1]1. Geschäftsidee '!$B$7+4","v":4}]
[null,null,50000,null,"unendlich ",null,null,0.43,{"$f":"G145*H145","v":0}]
[null,null,null,null,null,null,null,null,null,null,null,null,null,null,null,null,"Jahresergebnis",null,null,{"$f":"S118","v":0},null,null,{"$f":"V118","v":0},null,null,{"$f":"Y118","v":0},null,null,{"$f":"AB118","v":0},null,null,{"$f":"AE118","v":0}]
[]
["Berechnung IRPEF auf Jahresergebnis",null,null,null,null,null,null,null,null,null,null,null,null,null,null,null,"Steuersatz",null,null,0.24,null,null,0.24,null,null,0.24,null,null,0.24,null,null,0.24]
[null,null,"Ergebnis","IRPEF","Ergebnis","IRPEF","Ergebnis","IRPEF","Ergebnis","IRPEF","Ergebnis","IRPEF"]
[null,null,{"$f":"C43","v":0},{"$f":"SUM(D151:D155)","v":0},{"$f":"E43","v":0},{"$f":"SUM(F151:F155)","v":0},{"$f":"G43","v":0},{"$f":"SUM(H151:H155)","v":0},{"$f":"I39","v":0},{"$f":"SUM(J151:J155)","v":0},{"$f":"K43","v":0},{"$f":"SUM(L151:L155)","v":0},null,null,null,null,"TOT IRES",null,null,{"$f":"IF(T146<0,0,T148*T146)","v":0},null,null,{"$f":"IF(W146<0,0,W148*W146)","v":0},null,null,{"$f":"IF(Z146<0,0,Z148*Z146)","v":0},null,null,{"$f":"IF(AC146<0,0,AC148*AC146)","v":0},null,null,{"$f":"IF(AF146<0,0,AF148*AF146)","v":0}]
[0,null,0,{"$f":"A151*C151","v":0},{"$f":"IF(E150<=0,E150,0)","v":0},{"$f":"$A151*E151","v":0},{"$f":"IF(G150<=0,G150,0)","v":0},{"$f":"A151*G151","v":0},{"$f":"IF(I150<=0,I150,0)","v":0},{"$f":"I151*A151","v":0},{"$f":"IF(K150<=0,K150,0)","v":0},{"$f":"A151*K151","v":0}]
[{"$f":"H142","v":0.23},null,{"$f":"IF(C150<=0,0,IF(C150<$G142,C150,$G142))","v":0},{"$f":"A152*C152","v":0},{"$f":"IF(E150<=0,0,IF(E150<$G142,E150,$G142))","v":0},{"$f":"$A152*E152","v":0},{"$f":"IF(G150<=0,0,IF(G150<$G142,G150,$G142))","v":0},{"$f":"A152*G152","v":0},{"$f":"IF(I150<=0,0,IF(I150<$G142,I150,$G142))","v":0},{"$f":"I152*A152","v":0},{"$f":"IF(K150<=0,0,IF(K150<$G142,K150,$G142))","v":0},{"$f":"A152*K152","v":0}]
[{"$f":"H143","v":0.25},null,{"$f":"IF(C150<=0,0,IF(C150<$E143,C150-C152,$G143))","v":0},0,{"$f":"IF(E150<=0,0,IF(E150<$E143,E150-E152,$G143))","v":0},0,{"$f":"IF(G150<=0,0,IF(G150<$E143,G150-G152,$G143))","v":0},0,{"$f":"IF(I150<=0,0,IF(I150<$E143,I150-I152,$G143))","v":0},0,{"$f":"IF(K150<=0,0,IF(K150<$E143,K150-K152,$G143))","v":0},0,null,null,null,null,"Berechnung IRAP auf Steuergrundlage"]
[{"$f":"H144","v":0.35},null,{"$f":"IF(C150<=0,0,IF(C150<$E144,C150-SUM(C152:C153),$G144))","v":0},0,{"$f":"IF(E150<=0,0,IF(E150<$E144,E150-SUM(E152:E153),$G144))","v":0},0,{"$f":"IF(G150<=0,0,IF(G150<$E144,G150-SUM(G152:G153),$G144))","v":0},0,{"$f":"IF(I150<=0,0,IF(I150<$E144,I150-SUM(I152:I153),$G144))","v":0},0,{"$f":"IF(K150<=0,0,IF(K150<$E144,K150-SUM(K152:K153),$G144))","v":0},0]
[{"$f":"H145","v":0.43},null,{"$f":"IF(C150<=0,0,IF(C150>C145,C150-SUM(C151:C154),0))","v":0},0,{"$f":"IF(E150<=0,0,IF(E150>G145,E150-SUM(E151:E154),0))","v":0},0,{"$f":"IF(G150<=0,0,IF(G150>I145,G150-SUM(G151:G154),0))","v":0},0,{"$f":"IF(I150<=0,0,IF(I150>K145,I150-SUM(I151:I154),0))","v":0},0,{"$f":"IF(K150<=0,0,IF(K150>M143,K150-SUM(K151:K154),0))","v":0},0,null,null,null,null,null,null,{"$f":"'[1]1. Geschäftsidee '!$B$7","v":0},null,null,{"$f":"'[1]1. Geschäftsidee '!$B$7+1","v":1},null,null,{"$f":"'[1]1. Geschäftsidee '!$B$7+2","v":2},null,null,{"$f":"'[1]1. Geschäftsidee '!$B$7+3","v":3},null,null,{"$f":"'[1]1. Geschäftsidee '!$B$7+4","v":4}]
[]
["Berechnung IRAP",null,null,null,null,null,null,null,null,null,null,null,null,null,null,null,"Steuergrundlage",null,null,{"$f":"T130","v":0},null,null,{"$f":"W130","v":0},null,null,{"$f":"Z130","v":0},null,null,{"$f":"AC130","v":0},null,null,{"$f":"AF130","v":0}]
["Steuergrundlage",null,null,{"$f":"C39","v":0},null,{"$f":"E39","v":0},null,{"$f":"G39","v":0},null,{"$f":"I39","v":0},null,{"$f":"K39","v":0}]
["Steuersatz",null,null,3.9E-2,null,3.9E-2,null,3.9E-2,null,3.9E-2,null,3.9E-2,null,null,null,null,"Steuersatz",null,null,{"$f":"IF('[2]1. Unternehmensbeschreibung'!$C$69=1,0,3.9%)","v":0},null,null,{"$f":"IF('[2]1. Unternehmensbeschreibung'!$C$69=1,0,3.9%)","v":0},null,null,{"$f":"IF('[2]1. Unternehmensbeschreibung'!$C$69=1,0,3.9%)","v":0},null,null,{"$f":"IF('[2]1. Unternehmensbeschreibung'!$C$69=1,0,3.9%)","v":0},null,null,{"$f":"IF('[2]1. Unternehmensbeschreibung'!$C$69=1,0,3.9%)","v":0}]
["Betrag IRAP",null,null,{"$f":"D158*D159","v":0},null,{"$f":"F158*F159","v":0},null,{"$f":"H158*H159","v":0},null,{"$f":"J158*J159","v":0},null,{"$f":"L158*L159","v":0}]
[null,null,null,null,null,null,null,null,null,null,null,null,null,null,null,null,"Betrag IRAP",null,null,{"$f":"IF(T159*T157<0,0,T159*T157)","v":0},null,null,{"$f":"IF(W159*W157<0,0,W159*W157)","v":0},null,null,{"$f":"IF(Z159*Z157<0,0,Z159*Z157)","v":0},null,null,{"$f":"IF(AC159*AC157<0,0,AC159*AC157)","v":0},null,null,{"$f":"IF(AF159*AF157<0,0,AF159*AF157)","v":0}]
["Summe Steuern",null,null,{"$f":"D150+D160","v":0},null,{"$f":"F150+F160","v":0},null,{"$f":"H150+H160","v":0},null,{"$f":"J150+J160","v":0},null,{"$f":"L150+L160","v":0}]
[]
[null,null,null,null,null,null,null,null,null,null,null,null,null,null,null,null,"SUMME Gesamt Steuer",null,null,{"$f":"T161+T150","v":0},null,null,{"$f":"W161+W150","v":0},null,null,{"$f":"Z161+Z150","v":0},null,null,{"$f":"AC161+AC150","v":0},null,null,{"$f":"AF161+AF150","v":0}]
["-  Steuern (pauschal / Maximalwert) ",null,{"$f":"IF('1. Idea imprenditoriale'!$L$3=1,D$129,IF('1. Idea imprenditoriale'!L3=2,D$137,'6. Conto economico annuo'!D162))","v":0},{"$f":"IF(C102=0,0,C165/C102)","v":0},{"$f":"IF('1. Idea imprenditoriale'!$L$3=1,F$129,IF('1. Idea imprenditoriale'!L3=2,F$137,'6. Conto economico annuo'!F162))","v":0},{"$f":"IF(E102=0,0,E165/E102)","v":0},{"$f":"IF('1. Idea imprenditoriale'!$L$3=1,H$129,IF('1. Idea imprenditoriale'!L3=2,H$137,'6. Conto economico annuo'!H162))","v":0},{"$f":"IF(G102=0,0,G165/G102)","v":0},{"$f":"IF('1. Idea imprenditoriale'!$L$3=1,J$129,IF('1. Idea imprenditoriale'!L3=2,J$137,'6. Conto economico annuo'!J162))","v":0},{"$f":"IF(I102=0,0,I165/I102)","v":0},{"$f":"IF('1. Idea imprenditoriale'!$L$3=1,L$129,IF('1. Idea imprenditoriale'!L3=2,L$137,'6. Conto economico annuo'!L162))","v":0},{"$f":"IF(K102=0,0,K165/K102)","v":0}]
[]
[]
[]
[]
[]
["Betriebsergebnisrechnung "]
["Bezeichnung",null,"TSD EUR","% v .Umsatz",null,"gesamt","pagatorisch","Formel"]
["Betriebsleistung",null,{"$f":"INDEX(BEP,5,$B$2538)","v":0},{"$f":"IF(C173=0,0,C173/$C$173)","v":0},null,"BE - Leistung in Tsd. Euro",null,"Fixkosten/"]
["- variable Kosten",null,{"$f":"INDEX(BEP,4,$B$2538)","v":0},{"$f":"IF(C174=0,0,C174/$C$173)","v":0},null,{"$f":"IF(D175=0,0,C178/D175)","v":0},{"$f":"IF(D175=0,0,C178/D175)","v":0},"DB in %"]
["Deckungsbeitrag",null,{"$f":"C173-C174","v":0},0,null,"Sicherheitsstrecke in  Tsd. Euro",null,"IST-Umsatz-"]
["bare Strukturkosten + Zinsen",null,{"$f":"C178","v":0},0,null,{"$f":"C173-F174","v":0},{"$f":"C173-G174","v":0},"BE-Leistg."]
["nicht bare Kosten",null,{"$f":"C178","v":0},0,null,"Sicherheitskoeffizient in %",null,"Sich.strecke /"]
["Summe Strukturkosten",null,{"$f":"INDEX(BEP,3,$B$2538)","v":0},0,null,{"$f":"IF(C173=0,0,F176/C173)","v":0},{"$f":"IF(C173=0,0,G176/C173)","v":0},"IST-Leistg."]
["operatives Bruttoergebnis",null,{"$f":"INDEX(BEP,6,$B$2538)","v":0},0]
[]
[]
[]
[]
[]
[]
[]
[]
[]
[]
[]
[]
[]
[]
[]
[]
[]
[]
[]
[]
[]
[]
[]
[]
[]
[]
[]
[]
[]
[]
[]
[]
[]
[]
[]
[]
[]
[]
[]
[]
[]
[]
[]
[]
[]
[]
[]
[]
[]
[]
[]
[]
[]
[]
[]
[]
[]
[]
[]
[]
[]
[]
[]
[]
[]
[]
[]
[]
[]
[]
[]
[]
[]
[]
[]
[]
[]
[]
[]
[]
[]
[]
[]
[]
[]
[]
[]
[]
[]
[]
[]
[]
[]
[]
[]
[]
[]
[]
[]
[]
[]
[]
[]
[]
[]
[]
[]
[]
[]
[]
[]
[]
[]
[]
[]
[]
[]
[]
[]
[]
[]
[]
[]
[]
[]
[]
[]
[]
[]
[]
[]
[]
[]
[]
[]
[]
[]
[]
[]
[]
[]
[]
[]
[]
[]
[]
[]
[]
[]
[]
[]
[]
[]
[]
[]
[]
[]
[]
[]
[]
[]
[]
[]
[]
[]
[]
[]
[]
[]
[]
[]
[]
[]
[]
[]
[]
[]
[]
[]
[]
[]
[]
[]
[]
[]
[]
[]
[]
[]
[]
[]
[]
[]
[]
[]
[]
[]
[]
[]
[]
[]
[]
[]
[]
[]
[]
[]
[]
[]
[]
[]
[]
[]
[]
[]
[]
[]
[]
[]
[]
[]
[]
[]
[]
[]
[]
[]
[]
[]
[]
[]
[]
[]
[]
[]
[]
[]
[]
[]
[]
[]
[]
[]
[]
[]
[]
[]
[]
[]
[]
[]
[]
[]
[]
[]
[]
[]
[]
[]
[]
[]
[]
[]
[]
[]
[]
[]
[]
[]
[]
[]
[]
[]
[]
[]
[]
[]
[]
[]
[]
[]
[]
[]
[]
[]
[]
[]
[]
[]
[]
[]
[]
[]
[]
[]
[]
[]
[]
[]
[]
[]
[]
[]
[]
[]
[]
[]
[]
[]
[]
[]
[]
[]
[]
[]
[]
[]
[]
[]
[]
[]
[]
[]
[]
[]
[]
[]
[]
[]
[]
[]
[]
[]
[]
[]
[]
[]
[]
[]
[]
[]
[]
[]
[]
[]
[]
[]
[]
[]
[]
[]
[]
[]
[]
[]
[]
[]
[]
[]
[]
[]
[]
[]
[]
[]
[]
[]
[]
[]
[]
[]
[]
[]
[]
[]
[]
[]
[]
[]
[]
[]
[]
[]
[]
[]
[]
[]
[]
[]
[]
[]
[]
[]
[]
[]
[]
[]
[]
[]
[]
[]
[]
[]
[]
[]
[]
[]
[]
[]
[]
[]
[]
[]
[]
[]
[]
[]
[]
[]
[]
[]
[]
[]
[]
[]
[]
[]
[]
[]
[]
[]
[]
[]
[]
[]
[]
[]
[]
[]
[]
[]
[]
[]
[]
[]
[]
[]
[]
[]
[]
[]
[]
[]
[]
[]
[]
[]
[]
[]
[]
[]
[]
[]
[]
[]
[]
[]
[]
[]
[]
[]
[]
[]
[]
[]
[]
[]
[]
[]
[]
[]
[]
[]
[]
[]
[]
[]
[]
[]
[]
[]
[]
[]
[]
[]
[]
[]
[]
[]
[]
[]
[]
[]
[]
[]
[]
[]
[]
[]
[]
[]
[]
[]
[]
[]
[]
[]
[]
[]
[]
[]
[]
[]
[]
[]
[]
[]
[]
[]
[]
[]
[]
[]
[]
[]
[]
[]
[]
[]
[]
[]
[]
[]
[]
[]
[]
[]
[]
[]
[]
[]
[]
[]
[]
[]
[]
[]
[]
[]
[]
[]
[]
[]
[]
[]
[]
[]
[]
[]
[]
[]
[]
[]
[]
[]
[]
[]
[]
[]
[]
[]
[]
[]
[]
[]
[]
[]
[]
[]
[]
[]
[]
[]
[]
[]
[]
[]
[]
[]
[]
[]
[]
[]
[]
[]
[]
[]
[]
[]
[]
[]
[]
[]
[]
[]
[]
[]
[]
[]
[]
[]
[]
[]
[]
[]
[]
[]
[]
[]
[]
[]
[]
[]
[]
[]
[]
[]
[]
[]
[]
[]
[]
[]
[]
[]
[]
[]
[]
[]
[]
[]
[]
[]
[]
[]
[]
[]
[]
[]
[]
[]
[]
[]
[]
[]
[]
[]
[]
[]
[]
[]
[]
[]
[]
[]
[]
[]
[]
[]
[]
[]
[]
[]
[]
[]
[]
[]
[]
[]
[]
[]
[]
[]
[]
[]
[]
[]
[]
[]
[]
[]
[]
[]
[]
[]
[]
[]
[]
[]
[]
[]
[]
[]
[]
[]
[]
[]
[]
[]
[]
[]
[]
[]
[]
[]
[]
[]
[]
[]
[]
[]
[]
[]
[]
[]
[]
[]
[]
[]
[]
[]
[]
[]
[]
[]
[]
[]
[]
[]
[]
[]
[]
[]
[]
[]
[]
[]
[]
[]
[]
[]
[]
[]
[]
[]
[]
[]
[]
[]
[]
[]
[]
[]
[]
[]
[]
[]
[]
[]
[]
[]
[]
[]
[]
[]
[]
[]
[]
[]
[]
[]
[]
[]
[]
[]
[]
[]
[]
[]
[]
[]
[]
[]
[]
[]
[]
[]
[]
[]
[]
[]
[]
[]
[]
[]
[]
[]
[]
[]
[]
[]
[]
[]
[]
[]
[]
[]
[]
[]
[]
[]
[]
[]
[]
[]
[]
[]
[]
[]
[]
[]
[]
[]
[]
[]
[]
[]
[]
[]
[]
[]
[]
[]
[]
[]
[]
[]
[]
[]
[]
[]
[]
[]
[]
[]
[]
[]
[]
[]
[]
[]
[]
[]
[]
[]
[]
[]
[]
[]
[]
[]
[]
[]
[]
[]
[]
[]
[]
[]
[]
[]
[]
[]
[]
[]
[]
[]
[]
[]
[]
[]
[]
[]
[]
[]
[]
[]
[]
[]
[]
[]
[]
[]
[]
[]
[]
[]
[]
[]
[]
[]
[]
[]
[]
[]
[]
[]
[]
[]
[]
[]
[]
[]
[]
[]
[]
[]
[]
[]
[]
[]
[]
[]
[]
[]
[]
[]
[]
[]
[]
[]
[]
[]
[]
[]
[]
[]
[]
[]
[]
[]
[]
[]
[]
[]
[]
[]
[]
[]
[]
[]
[]
[]
[]
[]
[]
[]
[]
[]
[]
[]
[]
[]
[]
[]
[]
[]
[]
[]
[]
[]
[]
[]
[]
[]
[]
[]
[]
[]
[]
[]
[]
[]
[]
[]
[]
[]
[]
[]
[]
[]
[]
[]
[]
[]
[]
[]
[]
[]
[]
[]
[]
[]
[]
[]
[]
[]
[]
[]
[]
[]
[]
[]
[]
[]
[]
[]
[]
[]
[]
[]
[]
[]
[]
[]
[]
[]
[]
[]
[]
[]
[]
[]
[]
[]
[]
[]
[]
[]
[]
[]
[]
[]
[]
[]
[]
[]
[]
[]
[]
[]
[]
[]
[]
[]
[]
[]
[]
[]
[]
[]
[]
[]
[]
[]
[]
[]
[]
[]
[]
[]
[]
[]
[]
[]
[]
[]
[]
[]
[]
[]
[]
[]
[]
[]
[]
[]
[]
[]
[]
[]
[]
[]
[]
[]
[]
[]
[]
[]
[]
[]
[]
[]
[]
[]
[]
[]
[]
[]
[]
[]
[]
[]
[]
[]
[]
[]
[]
[]
[]
[]
[]
[]
[]
[]
[]
[]
[]
[]
[]
[]
[]
[]
[]
[]
[]
[]
[]
[]
[]
[]
[]
[]
[]
[]
[]
[]
[]
[]
[]
[]
[]
[]
[]
[]
[]
[]
[]
[]
[]
[]
[]
[]
[]
[]
[]
[]
[]
[]
[]
[]
[]
[]
[]
[]
[]
[]
[]
[]
[]
[]
[]
[]
[]
[]
[]
[]
[]
[]
[]
[]
[]
[]
[]
[]
[]
[]
[]
[]
[]
[]
[]
[]
[]
[]
[]
[]
[]
[]
[]
[]
[]
[]
[]
[]
[]
[]
[]
[]
[]
[]
[]
[]
[]
[]
[]
[]
[]
[]
[]
[]
[]
[]
[]
[]
[]
[]
[]
[]
[]
[]
[]
[]
[]
[]
[]
[]
[]
[]
[]
[]
[]
[]
[]
[]
[]
[]
[]
[]
[]
[]
[]
[]
[]
[]
[]
[]
[]
[]
[]
[]
[]
[]
[]
[]
[]
[]
[]
[]
[]
[]
[]
[]
[]
[]
[]
[]
[]
[]
[]
[]
[]
[]
[]
[]
[]
[]
[]
[]
[]
[]
[]
[]
[]
[]
[]
[]
[]
[]
[]
[]
[]
[]
[]
[]
[]
[]
[]
[]
[]
[]
[]
[]
[]
[]
[]
[]
[]
[]
[]
[]
[]
[]
[]
[]
[]
[]
[]
[]
[]
[]
[]
[]
[]
[]
[]
[]
[]
[]
[]
[]
[]
[]
[]
[]
[]
[]
[]
[]
[]
[]
[]
[]
[]
[]
[]
[]
[]
[]
[]
[]
[]
[]
[]
[]
[]
[]
[]
[]
[]
[]
[]
[]
[]
[]
[]
[]
[]
[]
[]
[]
[]
[]
[]
[]
[]
[]
[]
[]
[]
[]
[]
[]
[]
[]
[]
[]
[]
[]
[]
[]
[]
[]
[]
[]
[]
[]
[]
[]
[]
[]
[]
[]
[]
[]
[]
[]
[]
[]
[]
[]
[]
[]
[]
[]
[]
[]
[]
[]
[]
[]
[]
[]
[]
[]
[]
[]
[]
[]
[]
[]
[]
[]
[]
[]
[]
[]
[]
[]
[]
[]
[]
[]
[]
[]
[]
[]
[]
[]
[]
[]
[]
[]
[]
[]
[]
[]
[]
[]
[]
[]
[]
[]
[]
[]
[]
[]
[]
[]
[]
[]
[]
[]
[]
[]
[]
[]
[]
[]
[]
[]
[]
[]
[]
[]
[]
[]
[]
[]
[]
[]
[]
[]
[]
[]
[]
[]
[]
[]
[]
[]
[]
[]
[]
[]
[]
[]
[]
[]
[]
[]
[]
[]
[]
[]
[]
[]
[]
[]
[]
[]
[]
[]
[]
[]
[]
[]
[]
[]
[]
[]
[]
[]
[]
[]
[]
[]
[]
[]
[]
[]
[]
[]
[]
[]
[]
[]
[]
[]
[]
[]
[]
[]
[]
[]
[]
[]
[]
[]
[]
[]
[]
[]
[]
[]
[]
[]
[]
[]
[]
[]
[]
[]
[]
[]
[]
[]
[]
[]
[]
[]
[]
[]
[]
[]
[]
[]
[]
[]
[]
[]
[]
[]
[]
[]
[]
[]
[]
[]
[]
[]
[]
[]
[]
[]
[]
[]
[]
[]
[]
[]
[]
[]
[]
[]
[]
[]
[]
[]
[]
[]
[]
[]
[]
[]
[]
[]
[]
[]
[]
[]
[]
[]
[]
[]
[]
[]
[]
[]
[]
[]
[]
[]
[]
[]
[]
[]
[]
[]
[]
[]
[]
[]
[]
[]
[]
[]
[]
[]
[]
[]
[]
[]
[]
[]
[]
[]
[]
[]
[]
[]
[]
[]
[]
[]
[]
[]
[]
[]
[]
[]
[]
[]
[]
[]
[]
[]
[]
[]
[]
[]
[]
[]
[]
[]
[]
[]
[]
[]
[]
[]
[]
[]
[]
[]
[]
[]
[]
[]
[]
[]
[]
[]
[]
[]
[]
[]
[]
[]
[]
[]
[]
[]
[]
[]
[]
[]
[]
[]
[]
[]
[]
[]
[]
[]
[]
[]
[]
[]
[]
[]
[]
[]
[]
[]
[]
[]
[]
[]
[]
[]
[]
[]
[]
[]
[]
[]
[]
[]
[]
[]
[]
[]
[]
[]
[]
[]
[]
[]
[]
[]
[]
[]
[]
[]
[]
[]
[]
[]
[]
[]
[]
[]
[]
[]
[]
[]
[]
[]
[]
[]
[]
[]
[]
[]
[]
[]
[]
[]
[]
[]
[]
[]
[]
[]
[]
[]
[]
[]
[]
[]
[]
[]
[]
[]
[]
[]
[]
[]
[]
[]
[]
[]
[]
[]
[]
[]
[]
[]
[]
[]
[]
[]
[]
[]
[]
[]
[]
[]
[]
[]
[]
[]
[]
[]
[]
[]
[]
[]
[]
[]
[]
[]
[]
[]
[]
[]
[]
[]
[]
[]
[]
[]
[]
[]
[]
[]
[]
[]
[]
[]
[]
[]
[]
[]
[]
[]
[]
[]
[]
[]
[]
[]
[]
[]
[]
[]
[]
[]
[]
[]
[]
[]
[]
[]
[]
[]
[]
[]
[]
[]
[]
[]
[]
[]
[]
[]
[]
[]
[]
[]
[]
[]
[]
[]
[]
[]
[]
[]
[]
[]
[]
[]
[]
[]
[]
[]
[]
[]
[]
[]
[]
[]
[]
[]
[]
[]
[]
[]
[]
[]
[]
[]
[]
[]
[]
[]
[]
[]
[]
[]
[]
[]
[]
[]
[]
[]
[]
[]
[]
[]
[]
[]
[]
[]
[]
[]
[]
[]
[]
[]
[]
[]
[]
[]
[]
[]
[]
[]
[]
[]
[]
[]
[]
[]
[]
[]
[]
[]
[]
[]
[]
[]
[]
[]
[]
[]
[]
[]
[]
[]
[]
[]
[]
[]
[]
[]
[]
[]
[]
[]
[]
[]
[]
[]
[]
[]
[]
[]
[]
[]
[]
[]
[]
[]
[]
[]
[]
[]
[]
[]
[]
[]
[]
[]
[]
[]
[]
[]
[]
[]
[]
[]
[]
[]
[]
[]
[]
[]
[]
[]
[]
[]
[]
[]
[]
[]
[]
[]
[]
[]
[]
[]
[]
[]
[]
[]
[]
[]
[]
[]
[]
[]
[]
[]
[]
[]
[]
[]
[]
[]
[]
[]
[]
[]
[]
[]
[]
[]
[]
[]
[]
[]
[]
[]
[]
[]
[]
[]
[]
[]
[]
[]
[]
[]
[]
[]
[]
[]
[]
[]
[]
[]
[]
[]
[]
[]
[]
[]
[]
[]
[]
[]
[]
[]
[]
[]
[]
[]
[]
[]
[]
[]
[]
[]
[]
[]
[]
[]
[]
[]
[]
[]
[]
[]
[]
[]
[]
[]
[]
[]
[]
[]
[]
[]
[]
[]
[]
[]
[]
[]
[]
[]
[]
[]
[]
[]
[]
[]
[]
[]
[]
[]
[]
[]
[]
[]
[]
[]
[]
[]
[]
[]
[]
[]
[]
[]
[]
[]
[]
[]
[]
[]
[]
[]
[]
[]
[]
[]
[]
[]
[]
[]
[]
[]
[]
[]
[]
[]
[]
[]
[]
[]
[]
[]
[]
[]
[]
[]
[]
[]
[]
[]
[]
[]
[]
[]
[]
[]
[]
[]
[]
[]
[]
[]
[]
[]
[]
[]
[]
[]
[]
[]
[]
[]
[]
[]
[]
[]
[]
[]
[]
[]
[]
[]
[]
[]
[]
[]
[]
[]
[]
[]
[]
[]
[]
[]
[]
[]
[]
[]
[]
[]
[]
[]
[]
[]
[]
[]
[]
[]
[]
[]
[]
[]
[]
[]
[]
[]
[]
[]
[]
[]
[]
[]
[]
[]
[]
[]
[]
[]
[]
[]
[]
[]
[null,"variable ","pagatorische","nicht bare","Gesamt","pagatorische","Gesamt-","Gewinn/","Menge","BEM"]
["Umsatz/Leistung","Kosten","Fixkosten","Fixkosten","Fixkosten","Gesamtkosten","Kosten","Verlust"]
[0,{"$f":"A2527*D$174","v":0},{"$f":"$C$178","v":0},0,{"$f":"SUM(C2527:D2527)","v":0},{"$f":"SUM(B2527,C2527)","v":0},{"$f":"SUM(B2527,E2527)","v":0},{"$f":"A2527-G2527","v":0},{"$f":"IF(A2527=0,0,A2527/'6. Conto economico annuo'!$B$5)","v":0},{"$f":"IF(I2527=0,0,(E2527/((A2527-B2527)/C12)))","v":0}]
[{"$f":"DBU*0.2","v":0},{"$f":"A2528*D$174","v":0},{"$f":"$C$178","v":0},0,{"$f":"SUM(C2528:D2528)","v":0},{"$f":"SUM(B2528,C2528)","v":0},0,0,{"$f":"IF('4. Pianificazione del fatturato'!B20=0,0,A2528/((('4. Pianificazione del fatturato'!B5*'4. Pianificazione del fatturato'!C5)+('4. Pianificazione del fatturato'!B6*'4. Pianificazione del fatturato'!C6)+('4. Pianificazione del fatturato'!B7*'4. Pianificazione del fatturato'!C7)+('4. Pianificazione del fatturato'!B8*'4. Pianificazione del fatturato'!C8)+('4. Pianificazione del fatturato'!B9*'4. Pianificazione del fatturato'!C9)+('4. Pianificazione del fatturato'!B10*'4. Pianificazione del fatturato'!C10))/'4. Pianificazione del fatturato'!B20))","v":0},{"$f":"IF(C12=0,0,(E2528/((A2528-B2528)/C12)*0.2))","v":0}]
[{"$f":"DBU*0.4","v":0},0,0,0,0,0,0,0,{"$f":"IF('4. Pianificazione del fatturato'!B20=0,0,A2529/((('4. Pianificazione del fatturato'!B5*'4. Pianificazione del fatturato'!C5)+('4. Pianificazione del fatturato'!B6*'4. Pianificazione del fatturato'!C6)+('4. Pianificazione del fatturato'!B7*'4. Pianificazione del fatturato'!C7)+('4. Pianificazione del fatturato'!B8*'4. Pianificazione del fatturato'!C8)+('4. Pianificazione del fatturato'!B9*'4. Pianificazione del fatturato'!C9)+('4. Pianificazione del fatturato'!B10*'4. Pianificazione del fatturato'!C10))/'4. Pianificazione del fatturato'!B20))","v":0},{"$f":"IF(C12=0,0,((E2529/((A2529-B2529)/C12))*0.4))","v":0}]
[{"$f":"DBU*0.6","v":0},0,0,0,0,0,0,0,{"$f":"IF('4. Pianificazione del fatturato'!B20=0,0,A2530/((('4. Pianificazione del fatturato'!B5*'4. Pianificazione del fatturato'!C5)+('4. Pianificazione del fatturato'!B6*'4. Pianificazione del fatturato'!C6)+('4. Pianificazione del fatturato'!B7*'4. Pianificazione del fatturato'!C7)+('4. Pianificazione del fatturato'!B8*'4. Pianificazione del fatturato'!C8)+('4. Pianificazione del fatturato'!B9*'4. Pianificazione del fatturato'!C9)+('4. Pianificazione del fatturato'!B10*'4. Pianificazione del fatturato'!C10))/'4. Pianificazione del fatturato'!B20))","v":0},{"$f":"IF(C12=0,0,((E2530/((A2530-B2530)/C12))*0.6))","v":0}]
[{"$f":"DBU*0.8","v":0},0,0,0,0,0,0,0,{"$f":"IF('4. Pianificazione del fatturato'!B20=0,0,A2531/((('4. Pianificazione del fatturato'!B5*'4. Pianificazione del fatturato'!C5)+('4. Pianificazione del fatturato'!B6*'4. Pianificazione del fatturato'!C6)+('4. Pianificazione del fatturato'!B7*'4. Pianificazione del fatturato'!C7)+('4. Pianificazione del fatturato'!B8*'4. Pianificazione del fatturato'!C8)+('4. Pianificazione del fatturato'!B9*'4. Pianificazione del fatturato'!C9)+('4. Pianificazione del fatturato'!B10*'4. Pianificazione del fatturato'!C10))/'4. Pianificazione del fatturato'!B20))","v":0},{"$f":"IF(C12=0,0,((E2531/((A2531-B2531)/C12))*0.8))","v":0}]
[{"$f":"DBU","v":0},0,0,0,0,0,0,0,{"$f":"IF('4. Pianificazione del fatturato'!B20=0,0,A2532/((('4. Pianificazione del fatturato'!B5*'4. Pianificazione del fatturato'!C5)+('4. Pianificazione del fatturato'!B6*'4. Pianificazione del fatturato'!C6)+('4. Pianificazione del fatturato'!B7*'4. Pianificazione del fatturato'!C7)+('4. Pianificazione del fatturato'!B8*'4. Pianificazione del fatturato'!C8)+('4. Pianificazione del fatturato'!B9*'4. Pianificazione del fatturato'!C9)+('4. Pianificazione del fatturato'!B10*'4. Pianificazione del fatturato'!C10))/'4. Pianificazione del fatturato'!B20))","v":0},{"$f":"IF(C12=0,0,(E2532/((A2532-B2532)/C12)))","v":0}]
[{"$f":"DBU*1.2","v":0},0,0,0,0,0,0,0,{"$f":"IF('4. Pianificazione del fatturato'!B20=0,0,A2533/((('4. Pianificazione del fatturato'!B5*'4. Pianificazione del fatturato'!C5)+('4. Pianificazione del fatturato'!B6*'4. Pianificazione del fatturato'!C6)+('4. Pianificazione del fatturato'!B7*'4. Pianificazione del fatturato'!C7)+('4. Pianificazione del fatturato'!B8*'4. Pianificazione del fatturato'!C8)+('4. Pianificazione del fatturato'!B9*'4. Pianificazione del fatturato'!C9)+('4. Pianificazione del fatturato'!B10*'4. Pianificazione del fatturato'!C10))/'4. Pianificazione del fatturato'!B20))","v":0},{"$f":"IF(C12=0,0,((E2533/((A2533-B2533)/C12))*1.2))","v":0}]
[{"$f":"DBU*1.4","v":0},0,0,0,0,0,0,0,{"$f":"IF('4. Pianificazione del fatturato'!B20=0,0,A2534/((('4. Pianificazione del fatturato'!B5*'4. Pianificazione del fatturato'!C5)+('4. Pianificazione del fatturato'!B6*'4. Pianificazione del fatturato'!C6)+('4. Pianificazione del fatturato'!B7*'4. Pianificazione del fatturato'!C7)+('4. Pianificazione del fatturato'!B8*'4. Pianificazione del fatturato'!C8)+('4. Pianificazione del fatturato'!B9*'4. Pianificazione del fatturato'!C9)+('4. Pianificazione del fatturato'!B10*'4. Pianificazione del fatturato'!C10))/'4. Pianificazione del fatturato'!B20))","v":0},{"$f":"IF(C12=0,0,((E2534/((A2534-B2534)/C12))*1.4))","v":0}]
[{"$f":"DBU*1.6","v":0},0,0,0,0,0,0,0,{"$f":"IF('4. Pianificazione del fatturato'!B20=0,0,A2535/((('4. Pianificazione del fatturato'!B5*'4. Pianificazione del fatturato'!C5)+('4. Pianificazione del fatturato'!B6*'4. Pianificazione del fatturato'!C6)+('4. Pianificazione del fatturato'!B7*'4. Pianificazione del fatturato'!C7)+('4. Pianificazione del fatturato'!B8*'4. Pianificazione del fatturato'!C8)+('4. Pianificazione del fatturato'!B9*'4. Pianificazione del fatturato'!C9)+('4. Pianificazione del fatturato'!B10*'4. Pianificazione del fatturato'!C10))/'4. Pianificazione del fatturato'!B20))","v":0},{"$f":"IF(C12=0,0,((E2535/((A2535-B2535)/C12))*1.6))","v":0}]
[{"$f":"DBU*1.8","v":0},{"$f":"A2536*D$174","v":0},0,1,{"$f":"SUM(C2536:D2536)","v":1},{"$f":"SUM(B2536,C2536)","v":0},{"$f":"SUM(B2536,E2536)","v":1},{"$f":"A2536-G2536","v":-1},{"$f":"IF('4. Pianificazione del fatturato'!B20=0,0,A2536/((('4. Pianificazione del fatturato'!B5*'4. Pianificazione del fatturato'!C5)+('4. Pianificazione del fatturato'!B6*'4. Pianificazione del fatturato'!C6)+('4. Pianificazione del fatturato'!B7*'4. Pianificazione del fatturato'!C7)+('4. Pianificazione del fatturato'!B8*'4. Pianificazione del fatturato'!C8)+('4. Pianificazione del fatturato'!B9*'4. Pianificazione del fatturato'!C9)+('4. Pianificazione del fatturato'!B10*'4. Pianificazione del fatturato'!C10))/'4. Pianificazione del fatturato'!B20))","v":0},{"$f":"IF(C12=0,0,((E2536/((A2536-B2536)/C12))*1.8))","v":0}]
[]
[4,{"$f":"A2538+1","v":5},1,2,3,4,5]
[{"$f":"C3","v":"Anno 1"},"Menge",{"$f":"'4. Pianificazione del fatturato'!$C$20","v":0},{"$f":"'4. Pianificazione del fatturato'!$C$40","v":0},{"$f":"'4. Pianificazione del fatturato'!$C$60","v":0},{"$f":"'4. Pianificazione del fatturato'!$C$80","v":0},{"$f":"'4. Pianificazione del fatturato'!$C$100","v":0}]
[{"$f":"E3","v":"Anno 2"},"FK",{"$f":"$C$37","v":0},{"$f":"$E$37","v":0},{"$f":"$G$37","v":0},{"$f":"$I$37","v":0},{"$f":"$K$37","v":0}]
[{"$f":"G3","v":"Anno 3"},"VK",{"$f":"($C$4-$C$13)","v":0},{"$f":"($E$4-$E$13)","v":0},{"$f":"($G$4-$G$13)","v":0},{"$f":"($I$4-$I$13)","v":0},{"$f":"($K$4-$K$13)","v":0}]
[{"$f":"I3","v":"Anno 4"},"Umsatz / Leistung",{"$f":"$C$4","v":0},{"$f":"$E$4","v":0},{"$f":"$G$4","v":0},{"$f":"$I$4","v":0},{"$f":"$K$4","v":0}]
[{"$f":"K3","v":"Anno 5"},"EBIT",{"$f":"$C$43","v":0},{"$f":"$E$43","v":0},{"$f":"$G$43","v":0},{"$f":"$I$43","v":0},{"$f":"$K$43","v":0}]
[null,"BEM",{"$f":"IF(C2539=0,0,C2540/((C2542-C2541)/C2539))","v":0},{"$f":"IF(D2539=0,0,D2540/((D2542-D2541)/D2539))","v":0},{"$f":"IF(E2539=0,0,E2540/((E2542-E2541)/E2539))","v":0},{"$f":"IF(F2539=0,0,F2540/((F2542-F2541)/F2539))","v":0},{"$f":"IF(G2539=0,0,G2540/((G2542-G2541)/G2539))","v":0}]

{"sheet":"7. Conto economico mensile","index":8,"n_rows":94,"n_cols":15,"rows_kept":94,"cut":false,"hidden":true,"merged":[[38,0,38,1],[17,0,17,1],[40,0,40,1],[34,0,34,1],[35,0,35,1],[36,0,36,1],[19,0,19,1],[24,0,24,1],[25,0,25,1],[26,0,26,1],[31,0,31,1],[21,0,21,1],[0,0,0,14],[2,0,2,1],[3,0,3,1],[4,0,4,1],[1,0,1,14],[5,0,5,1],[7,0,7,1],[18,0,18,1],[6,0,6,1],[9,0,9,1],[10,0,10,1],[11,0,11,1],[13,0,13,1],[14,0,14,1],[16,0,16,1],[15,0,15,1],[12,0,12,1],[8,0,8,1]]}
["Conto economico e calcolo della redditività (mensile)"]
["I valori \"fatturato, impiego di merci e costi variabili\" sono desunti dalla tabella \"6. Conto economico annuo\". I dati vengono ripartiti in percentuale sulle mensilità (riga 4)."]
["Descrizione",null,"Anno","Gennaio","Febbraio","Marzo","Aprile","Maggio","Giugno","Luglio","Agosto","Settembre","Ottobre","Novembre","Dicembre"]
["Quota percentuale per mese",null,{"$f":"SUM(D4:O4)","v":0},0,0,0,0,0,0,0,0,0,0,0]
["-  Fatturato",null,{"$f":"'6. Conto economico annuo'!C4","v":0},{"$f":"$C5*D4","v":0},{"$f":"$C5*E4","v":0},0,0,0,0,0,0,0,0,0,0]
["-  Impiego di merci",null,{"$f":"'6. Conto economico annuo'!C5","v":0},{"$f":"IF(D5=0,0,D4*'4. Pianificazione del fatturato'!$F$20)","v":0},{"$f":"IF(E5=0,0,E4*'4. Pianificazione del fatturato'!$F$20)","v":0},{"$f":"IF(F5=0,0,F4*'4. Pianificazione del fatturato'!$F$20)","v":0},{"$f":"IF(G5=0,0,G4*'4. Pianificazione del fatturato'!$F$20)","v":0},{"$f":"IF(H5=0,0,H4*'4. Pianificazione del fatturato'!$F$20)","v":0},{"$f":"IF(I5=0,0,I4*'4. Pianificazione del fatturato'!$F$20)","v":0},{"$f":"IF(J5=0,0,J4*'4. Pianificazione del fatturato'!$F$20)","v":0},{"$f":"IF(K5=0,0,K4*'4. Pianificazione del fatturato'!$F$20)","v":0},{"$f":"IF(L5=0,0,L4*'4. Pianificazione del fatturato'!$F$20)","v":0},{"$f":"IF(M5=0,0,M4*'4. Pianificazione del fatturato'!$F$20)","v":0},{"$f":"IF(N5=0,0,N4*'4. Pianificazione del fatturato'!$F$20)","v":0},{"$f":"IF(O5=0,0,O4*'4. Pianificazione del fatturato'!$F$20)","v":0}]
["= Proventi lordi ",null,{"$f":"C5-C6","v":0},{"$f":"D5-D6","v":0},0,0,0,0,0,0,0,0,0,0,0]
["-  Prestazioni di terzi",null,{"$f":"SUM(D8:O8)","v":0},{"$f":"IF(D5=0,0,D5*'6. Conto economico annuo'!$D$7)","v":0},{"$f":"IF(E5=0,0,E5*'6. Conto economico annuo'!$D$7)","v":0},{"$f":"IF(F5=0,0,F5*'6. Conto economico annuo'!$D$7)","v":0},{"$f":"IF(G5=0,0,G5*'6. Conto economico annuo'!$D$7)","v":0},{"$f":"IF(H5=0,0,H5*'6. Conto economico annuo'!$D$7)","v":0},{"$f":"IF(I5=0,0,I5*'6. Conto economico annuo'!$D$7)","v":0},{"$f":"IF(J5=0,0,J5*'6. Conto economico annuo'!$D$7)","v":0},{"$f":"IF(K5=0,0,K5*'6. Conto economico annuo'!$D$7)","v":0},{"$f":"IF(L5=0,0,L5*'6. Conto economico annuo'!$D$7)","v":0},{"$f":"IF(M5=0,0,M5*'6. Conto economico annuo'!$D$7)","v":0},{"$f":"IF(N5=0,0,N5*'6. Conto economico annuo'!$D$7)","v":0},{"$f":"IF(O5=0,0,O5*'6. Conto economico annuo'!$D$7)","v":0}]
["-  Provvigioni sul fatturato",null,{"$f":"SUM(D9:O9)","v":0},{"$f":"IF(D5=0,0,D5*'6. Conto economico annuo'!$D$8)","v":0},{"$f":"IF(E5=0,0,E5*'6. Conto economico annuo'!$D$8)","v":0},{"$f":"IF(F5=0,0,F5*'6. Conto economico annuo'!$D$8)","v":0},{"$f":"IF(G5=0,0,G5*'6. Conto economico annuo'!$D$8)","v":0},{"$f":"IF(H5=0,0,H5*'6. Conto economico annuo'!$D$8)","v":0},{"$f":"IF(I5=0,0,I5*'6. Conto economico annuo'!$D$8)","v":0},{"$f":"IF(J5=0,0,J5*'6. Conto economico annuo'!$D$8)","v":0},{"$f":"IF(K5=0,0,K5*'6. Conto economico annuo'!$D$8)","v":0},{"$f":"IF(L5=0,0,L5*'6. Conto economico annuo'!$D$8)","v":0},{"$f":"IF(M5=0,0,M5*'6. Conto economico annuo'!$D$8)","v":0},{"$f":"IF(N5=0,0,N5*'6. Conto economico annuo'!$D$8)","v":0},{"$f":"IF(O5=0,0,O5*'6. Conto economico annuo'!$D$8)","v":0}]
["-  Logistica, transporto, imballaggio",null,{"$f":"SUM(D10:O10)","v":0},{"$f":"IF(D5=0,0,D5*'6. Conto economico annuo'!$D$9)","v":0},{"$f":"IF(E5=0,0,E5*'6. Conto economico annuo'!$D$9)","v":0},{"$f":"IF(F5=0,0,F5*'6. Conto economico annuo'!$D$9)","v":0},{"$f":"IF(G5=0,0,G5*'6. Conto economico annuo'!$D$9)","v":0},{"$f":"IF(H5=0,0,H5*'6. Conto economico annuo'!$D$9)","v":0},{"$f":"IF(I5=0,0,I5*'6. Conto economico annuo'!$D$9)","v":0},{"$f":"IF(J5=0,0,J5*'6. Conto economico annuo'!$D$9)","v":0},{"$f":"IF(K5=0,0,K5*'6. Conto economico annuo'!$D$9)","v":0},{"$f":"IF(L5=0,0,L5*'6. Conto economico annuo'!$D$9)","v":0},{"$f":"IF(M5=0,0,M5*'6. Conto economico annuo'!$D$9)","v":0},{"$f":"IF(N5=0,0,N5*'6. Conto economico annuo'!$D$9)","v":0},{"$f":"IF(O5=0,0,O5*'6. Conto economico annuo'!$D$9)","v":0}]
["-  Altri costi variabili",null,{"$f":"SUM(D11:O11)","v":0},{"$f":"IF(D5=0,0,D5*'6. Conto economico annuo'!$D$10)","v":0},{"$f":"IF(E5=0,0,E5*'6. Conto economico annuo'!$D$10)","v":0},{"$f":"IF(F5=0,0,F5*'6. Conto economico annuo'!$D$10)","v":0},{"$f":"IF(G5=0,0,G5*'6. Conto economico annuo'!$D$10)","v":0},{"$f":"IF(H5=0,0,H5*'6. Conto economico annuo'!$D$10)","v":0},{"$f":"IF(I5=0,0,I5*'6. Conto economico annuo'!$D$10)","v":0},{"$f":"IF(J5=0,0,J5*'6. Conto economico annuo'!$D$10)","v":0},{"$f":"IF(K5=0,0,K5*'6. Conto economico annuo'!$D$10)","v":0},{"$f":"IF(L5=0,0,L5*'6. Conto economico annuo'!$D$10)","v":0},{"$f":"IF(M5=0,0,M5*'6. Conto economico annuo'!$D$10)","v":0},{"$f":"IF(N5=0,0,N5*'6. Conto economico annuo'!$D$10)","v":0},{"$f":"IF(O5=0,0,O5*'6. Conto economico annuo'!$D$10)","v":0}]
["-  Somma costi variabili ",null,{"$f":"SUM(C8:C11)","v":0},{"$f":"SUM(D8:D11)","v":0},{"$f":"SUM(E8:E11)","v":0},0,0,0,0,0,0,0,0,0,0]
["= Costi variabili incl. impiego di merci",null,{"$f":"SUM(C9:C12)+C7","v":0},{"$f":"D6+D12","v":0},{"$f":"E6+E12","v":0},0,0,0,0,0,0,0,0,0,0]
["= Margine di contribuzione",null,{"$f":"C7-C12","v":0},{"$f":"D5-D13","v":0},{"$f":"E5-E13","v":0},0,0,0,0,0,0,0,0,0,0]
["- Costi del personale ",null,{"$f":"'6. Conto economico annuo'!C14","v":0},{"$f":"IF(D$68>'5. Costi del personale'!$J$1,0,'6. Conto economico annuo'!$C14/'5. Costi del personale'!$J$15)","v":0},{"$f":"IF(E$68>'5. Costi del personale'!$J$1,0,'6. Conto economico annuo'!$C14/'5. Costi del personale'!$J$15)","v":0},{"$f":"IF(F$68>'5. Costi del personale'!$J$1,0,'6. Conto economico annuo'!$C14/'5. Costi del personale'!$J$15)","v":0},{"$f":"IF(G$68>'5. Costi del personale'!$J$1,0,'6. Conto economico annuo'!$C14/'5. Costi del personale'!$J$15)","v":0},{"$f":"IF(H$68>'5. Costi del personale'!$J$1,0,'6. Conto economico annuo'!$C14/'5. Costi del personale'!$J$15)","v":0},{"$f":"IF(I$68>'5. Costi del personale'!$J$1,0,'6. Conto economico annuo'!$C14/'5. Costi del personale'!$J$15)","v":0},{"$f":"IF(J$68>'5. Costi del personale'!$J$1,0,'6. Conto economico annuo'!$C14/'5. Costi del personale'!$J$15)","v":0},{"$f":"IF(K$68>'5. Costi del personale'!$J$1,0,'6. Conto economico annuo'!$C14/'5. Costi del personale'!$J$15)","v":0},{"$f":"IF(L$68>'5. Costi del personale'!$J$1,0,'6. Conto economico annuo'!$C14/'5. Costi del personale'!$J$15)","v":0},{"$f":"IF(M$68>'5. Costi del personale'!$J$1,0,'6. Conto economico annuo'!$C14/'5. Costi del personale'!$J$15)","v":0},{"$f":"IF(N$68>'5. Costi del personale'!$J$1,0,'6. Conto economico annuo'!$C14/'5. Costi del personale'!$J$15)","v":0},{"$f":"IF(O$68>'5. Costi del personale'!$J$1,0,'6. Conto economico annuo'!$C14/'5. Costi del personale'!$J$15)","v":0}]
["Inizio dell'attività nel mese",null,"Gennaio"]
["- Reddito dell'imprenditore/imprenditrice",null,{"$f":"'6. Conto economico annuo'!C15","v":0},{"$f":"IF(D$68>$F$70,0,'6. Conto economico annuo'!$C15/VLOOKUP($C$16,$D$70:$E$81,2,FALSE))","v":0},{"$f":"IF(E$68>$F$70,0,'6. Conto economico annuo'!$C15/VLOOKUP($C$16,$D$70:$E$81,2,FALSE))","v":0},{"$f":"IF(F$68>$F$70,0,'6. Conto economico annuo'!$C15/VLOOKUP($C$16,$D$70:$E$81,2,FALSE))","v":0},{"$f":"IF(G$68>$F$70,0,'6. Conto economico annuo'!$C15/VLOOKUP($C$16,$D$70:$E$81,2,FALSE))","v":0},{"$f":"IF(H$68>$F$70,0,'6. Conto economico annuo'!$C15/VLOOKUP($C$16,$D$70:$E$81,2,FALSE))","v":0},{"$f":"IF(I$68>$F$70,0,'6. Conto economico annuo'!$C15/VLOOKUP($C$16,$D$70:$E$81,2,FALSE))","v":0},{"$f":"IF(J$68>$F$70,0,'6. Conto economico annuo'!$C15/VLOOKUP($C$16,$D$70:$E$81,2,FALSE))","v":0},{"$f":"IF(K$68>$F$70,0,'6. Conto economico annuo'!$C15/VLOOKUP($C$16,$D$70:$E$81,2,FALSE))","v":0},{"$f":"IF(L$68>$F$70,0,'6. Conto economico annuo'!$C15/VLOOKUP($C$16,$D$70:$E$81,2,FALSE))","v":0},{"$f":"IF(M$68>$F$70,0,'6. Conto economico annuo'!$C15/VLOOKUP($C$16,$D$70:$E$81,2,FALSE))","v":0},{"$f":"IF(N$68>$F$70,0,'6. Conto economico annuo'!$C15/VLOOKUP($C$16,$D$70:$E$81,2,FALSE))","v":0},{"$f":"IF(O$68>$F$70,0,'6. Conto economico annuo'!$C15/VLOOKUP($C$16,$D$70:$E$81,2,FALSE))","v":0}]
["- Materie prime, sostanze ausiliari, carburanti",null,{"$f":"'6. Conto economico annuo'!C16","v":0},{"$f":"IF(D$68>$F$70,0,'6. Conto economico annuo'!$C16/VLOOKUP($C$16,$D$70:$E$81,2,FALSE))","v":0},{"$f":"IF(E$68>$F$70,0,'6. Conto economico annuo'!$C16/VLOOKUP($C$16,$D$70:$E$81,2,FALSE))","v":0},{"$f":"IF(F$68>$F$70,0,'6. Conto economico annuo'!$C16/VLOOKUP($C$16,$D$70:$E$81,2,FALSE))","v":0},{"$f":"IF(G$68>$F$70,0,'6. Conto economico annuo'!$C16/VLOOKUP($C$16,$D$70:$E$81,2,FALSE))","v":0},{"$f":"IF(H$68>$F$70,0,'6. Conto economico annuo'!$C16/VLOOKUP($C$16,$D$70:$E$81,2,FALSE))","v":0},{"$f":"IF(I$68>$F$70,0,'6. Conto economico annuo'!$C16/VLOOKUP($C$16,$D$70:$E$81,2,FALSE))","v":0},{"$f":"IF(J$68>$F$70,0,'6. Conto economico annuo'!$C16/VLOOKUP($C$16,$D$70:$E$81,2,FALSE))","v":0},{"$f":"IF(K$68>$F$70,0,'6. Conto economico annuo'!$C16/VLOOKUP($C$16,$D$70:$E$81,2,FALSE))","v":0},{"$f":"IF(L$68>$F$70,0,'6. Conto economico annuo'!$C16/VLOOKUP($C$16,$D$70:$E$81,2,FALSE))","v":0},{"$f":"IF(M$68>$F$70,0,'6. Conto economico annuo'!$C16/VLOOKUP($C$16,$D$70:$E$81,2,FALSE))","v":0},{"$f":"IF(N$68>$F$70,0,'6. Conto economico annuo'!$C16/VLOOKUP($C$16,$D$70:$E$81,2,FALSE))","v":0},{"$f":"IF(O$68>$F$70,0,'6. Conto economico annuo'!$C16/VLOOKUP($C$16,$D$70:$E$81,2,FALSE))","v":0}]
["- Investimenti minimi",null,{"$f":"'6. Conto economico annuo'!C17","v":0},{"$f":"IF(D$68>$F$70,0,'6. Conto economico annuo'!$C17/VLOOKUP($C$16,$D$70:$E$81,2,FALSE))","v":0},{"$f":"IF(E$68>$F$70,0,'6. Conto economico annuo'!$C17/VLOOKUP($C$16,$D$70:$E$81,2,FALSE))","v":0},{"$f":"IF(F$68>$F$70,0,'6. Conto economico annuo'!$C17/VLOOKUP($C$16,$D$70:$E$81,2,FALSE))","v":0},{"$f":"IF(G$68>$F$70,0,'6. Conto economico annuo'!$C17/VLOOKUP($C$16,$D$70:$E$81,2,FALSE))","v":0},{"$f":"IF(H$68>$F$70,0,'6. Conto economico annuo'!$C17/VLOOKUP($C$16,$D$70:$E$81,2,FALSE))","v":0},{"$f":"IF(I$68>$F$70,0,'6. Conto economico annuo'!$C17/VLOOKUP($C$16,$D$70:$E$81,2,FALSE))","v":0},{"$f":"IF(J$68>$F$70,0,'6. Conto economico annuo'!$C17/VLOOKUP($C$16,$D$70:$E$81,2,FALSE))","v":0},{"$f":"IF(K$68>$F$70,0,'6. Conto economico annuo'!$C17/VLOOKUP($C$16,$D$70:$E$81,2,FALSE))","v":0},{"$f":"IF(L$68>$F$70,0,'6. Conto economico annuo'!$C17/VLOOKUP($C$16,$D$70:$E$81,2,FALSE))","v":0},{"$f":"IF(M$68>$F$70,0,'6. Conto economico annuo'!$C17/VLOOKUP($C$16,$D$70:$E$81,2,FALSE))","v":0},{"$f":"IF(N$68>$F$70,0,'6. Conto economico annuo'!$C17/VLOOKUP($C$16,$D$70:$E$81,2,FALSE))","v":0},{"$f":"IF(O$68>$F$70,0,'6. Conto economico annuo'!$C17/VLOOKUP($C$16,$D$70:$E$81,2,FALSE))","v":0}]
["- Energia / acqua / rifiuti",null,{"$f":"'6. Conto economico annuo'!C18","v":0},{"$f":"IF(D$68>$F$70,0,'6. Conto economico annuo'!$C18/VLOOKUP($C$16,$D$70:$E$81,2,FALSE))","v":0},{"$f":"IF(E$68>$F$70,0,'6. Conto economico annuo'!$C18/VLOOKUP($C$16,$D$70:$E$81,2,FALSE))","v":0},{"$f":"IF(F$68>$F$70,0,'6. Conto economico annuo'!$C18/VLOOKUP($C$16,$D$70:$E$81,2,FALSE))","v":0},{"$f":"IF(G$68>$F$70,0,'6. Conto economico annuo'!$C18/VLOOKUP($C$16,$D$70:$E$81,2,FALSE))","v":0},{"$f":"IF(H$68>$F$70,0,'6. Conto economico annuo'!$C18/VLOOKUP($C$16,$D$70:$E$81,2,FALSE))","v":0},{"$f":"IF(I$68>$F$70,0,'6. Conto economico annuo'!$C18/VLOOKUP($C$16,$D$70:$E$81,2,FALSE))","v":0},{"$f":"IF(J$68>$F$70,0,'6. Conto economico annuo'!$C18/VLOOKUP($C$16,$D$70:$E$81,2,FALSE))","v":0},{"$f":"IF(K$68>$F$70,0,'6. Conto economico annuo'!$C18/VLOOKUP($C$16,$D$70:$E$81,2,FALSE))","v":0},{"$f":"IF(L$68>$F$70,0,'6. Conto economico annuo'!$C18/VLOOKUP($C$16,$D$70:$E$81,2,FALSE))","v":0},{"$f":"IF(M$68>$F$70,0,'6. Conto economico annuo'!$C18/VLOOKUP($C$16,$D$70:$E$81,2,FALSE))","v":0},{"$f":"IF(N$68>$F$70,0,'6. Conto economico annuo'!$C18/VLOOKUP($C$16,$D$70:$E$81,2,FALSE))","v":0},{"$f":"IF(O$68>$F$70,0,'6. Conto economico annuo'!$C18/VLOOKUP($C$16,$D$70:$E$81,2,FALSE))","v":0}]
["- Spese di riparazione e manutenzione",null,{"$f":"'6. Conto economico annuo'!C19","v":0},{"$f":"IF(D$68>$F$70,0,'6. Conto economico annuo'!$C19/VLOOKUP($C$16,$D$70:$E$81,2,FALSE))","v":0},{"$f":"IF(E$68>$F$70,0,'6. Conto economico annuo'!$C19/VLOOKUP($C$16,$D$70:$E$81,2,FALSE))","v":0},{"$f":"IF(F$68>$F$70,0,'6. Conto economico annuo'!$C19/VLOOKUP($C$16,$D$70:$E$81,2,FALSE))","v":0},{"$f":"IF(G$68>$F$70,0,'6. Conto economico annuo'!$C19/VLOOKUP($C$16,$D$70:$E$81,2,FALSE))","v":0},{"$f":"IF(H$68>$F$70,0,'6. Conto economico annuo'!$C19/VLOOKUP($C$16,$D$70:$E$81,2,FALSE))","v":0},{"$f":"IF(I$68>$F$70,0,'6. Conto economico annuo'!$C19/VLOOKUP($C$16,$D$70:$E$81,2,FALSE))","v":0},{"$f":"IF(J$68>$F$70,0,'6. Conto economico annuo'!$C19/VLOOKUP($C$16,$D$70:$E$81,2,FALSE))","v":0},{"$f":"IF(K$68>$F$70,0,'6. Conto economico annuo'!$C19/VLOOKUP($C$16,$D$70:$E$81,2,FALSE))","v":0},{"$f":"IF(L$68>$F$70,0,'6. Conto economico annuo'!$C19/VLOOKUP($C$16,$D$70:$E$81,2,FALSE))","v":0},{"$f":"IF(M$68>$F$70,0,'6. Conto economico annuo'!$C19/VLOOKUP($C$16,$D$70:$E$81,2,FALSE))","v":0},{"$f":"IF(N$68>$F$70,0,'6. Conto economico annuo'!$C19/VLOOKUP($C$16,$D$70:$E$81,2,FALSE))","v":0},{"$f":"IF(O$68>$F$70,0,'6. Conto economico annuo'!$C19/VLOOKUP($C$16,$D$70:$E$81,2,FALSE))","v":0}]
["- Spese per parco vetture",null,{"$f":"'6. Conto economico annuo'!C20","v":0},{"$f":"IF(D$68>$F$70,0,'6. Conto economico annuo'!$C20/VLOOKUP($C$16,$D$70:$E$81,2,FALSE))","v":0},{"$f":"IF(E$68>$F$70,0,'6. Conto economico annuo'!$C20/VLOOKUP($C$16,$D$70:$E$81,2,FALSE))","v":0},{"$f":"IF(F$68>$F$70,0,'6. Conto economico annuo'!$C20/VLOOKUP($C$16,$D$70:$E$81,2,FALSE))","v":0},{"$f":"IF(G$68>$F$70,0,'6. Conto economico annuo'!$C20/VLOOKUP($C$16,$D$70:$E$81,2,FALSE))","v":0},{"$f":"IF(H$68>$F$70,0,'6. Conto economico annuo'!$C20/VLOOKUP($C$16,$D$70:$E$81,2,FALSE))","v":0},{"$f":"IF(I$68>$F$70,0,'6. Conto economico annuo'!$C20/VLOOKUP($C$16,$D$70:$E$81,2,FALSE))","v":0},{"$f":"IF(J$68>$F$70,0,'6. Conto economico annuo'!$C20/VLOOKUP($C$16,$D$70:$E$81,2,FALSE))","v":0},{"$f":"IF(K$68>$F$70,0,'6. Conto economico annuo'!$C20/VLOOKUP($C$16,$D$70:$E$81,2,FALSE))","v":0},{"$f":"IF(L$68>$F$70,0,'6. Conto economico annuo'!$C20/VLOOKUP($C$16,$D$70:$E$81,2,FALSE))","v":0},{"$f":"IF(M$68>$F$70,0,'6. Conto economico annuo'!$C20/VLOOKUP($C$16,$D$70:$E$81,2,FALSE))","v":0},{"$f":"IF(N$68>$F$70,0,'6. Conto economico annuo'!$C20/VLOOKUP($C$16,$D$70:$E$81,2,FALSE))","v":0},{"$f":"IF(O$68>$F$70,0,'6. Conto economico annuo'!$C20/VLOOKUP($C$16,$D$70:$E$81,2,FALSE))","v":0}]
["- Assicurazioni",null,{"$f":"'6. Conto economico annuo'!C21","v":0},{"$f":"IF(D$68>$F$70,0,'6. Conto economico annuo'!$C21/VLOOKUP($C$16,$D$70:$E$81,2,FALSE))","v":0},{"$f":"IF(E$68>$F$70,0,'6. Conto economico annuo'!$C21/VLOOKUP($C$16,$D$70:$E$81,2,FALSE))","v":0},{"$f":"IF(F$68>$F$70,0,'6. Conto economico annuo'!$C21/VLOOKUP($C$16,$D$70:$E$81,2,FALSE))","v":0},{"$f":"IF(G$68>$F$70,0,'6. Conto economico annuo'!$C21/VLOOKUP($C$16,$D$70:$E$81,2,FALSE))","v":0},{"$f":"IF(H$68>$F$70,0,'6. Conto economico annuo'!$C21/VLOOKUP($C$16,$D$70:$E$81,2,FALSE))","v":0},{"$f":"IF(I$68>$F$70,0,'6. Conto economico annuo'!$C21/VLOOKUP($C$16,$D$70:$E$81,2,FALSE))","v":0},{"$f":"IF(J$68>$F$70,0,'6. Conto economico annuo'!$C21/VLOOKUP($C$16,$D$70:$E$81,2,FALSE))","v":0},{"$f":"IF(K$68>$F$70,0,'6. Conto economico annuo'!$C21/VLOOKUP($C$16,$D$70:$E$81,2,FALSE))","v":0},{"$f":"IF(L$68>$F$70,0,'6. Conto economico annuo'!$C21/VLOOKUP($C$16,$D$70:$E$81,2,FALSE))","v":0},{"$f":"IF(M$68>$F$70,0,'6. Conto economico annuo'!$C21/VLOOKUP($C$16,$D$70:$E$81,2,FALSE))","v":0},{"$f":"IF(N$68>$F$70,0,'6. Conto economico annuo'!$C21/VLOOKUP($C$16,$D$70:$E$81,2,FALSE))","v":0},{"$f":"IF(O$68>$F$70,0,'6. Conto economico annuo'!$C21/VLOOKUP($C$16,$D$70:$E$81,2,FALSE))","v":0}]
["- Altri costi aziendali",null,{"$f":"'6. Conto economico annuo'!C22","v":0},{"$f":"IF(D$68>$F$70,0,'6. Conto economico annuo'!$C22/VLOOKUP($C$16,$D$70:$E$81,2,FALSE))","v":0},{"$f":"IF(E$68>$F$70,0,'6. Conto economico annuo'!$C22/VLOOKUP($C$16,$D$70:$E$81,2,FALSE))","v":0},{"$f":"IF(F$68>$F$70,0,'6. Conto economico annuo'!$C22/VLOOKUP($C$16,$D$70:$E$81,2,FALSE))","v":0},{"$f":"IF(G$68>$F$70,0,'6. Conto economico annuo'!$C22/VLOOKUP($C$16,$D$70:$E$81,2,FALSE))","v":0},{"$f":"IF(H$68>$F$70,0,'6. Conto economico annuo'!$C22/VLOOKUP($C$16,$D$70:$E$81,2,FALSE))","v":0},{"$f":"IF(I$68>$F$70,0,'6. Conto economico annuo'!$C22/VLOOKUP($C$16,$D$70:$E$81,2,FALSE))","v":0},{"$f":"IF(J$68>$F$70,0,'6. Conto economico annuo'!$C22/VLOOKUP($C$16,$D$70:$E$81,2,FALSE))","v":0},{"$f":"IF(K$68>$F$70,0,'6. Conto economico annuo'!$C22/VLOOKUP($C$16,$D$70:$E$81,2,FALSE))","v":0},{"$f":"IF(L$68>$F$70,0,'6. Conto economico annuo'!$C22/VLOOKUP($C$16,$D$70:$E$81,2,FALSE))","v":0},{"$f":"IF(M$68>$F$70,0,'6. Conto economico annuo'!$C22/VLOOKUP($C$16,$D$70:$E$81,2,FALSE))","v":0},{"$f":"IF(N$68>$F$70,0,'6. Conto economico annuo'!$C22/VLOOKUP($C$16,$D$70:$E$81,2,FALSE))","v":0},{"$f":"IF(O$68>$F$70,0,'6. Conto economico annuo'!$C22/VLOOKUP($C$16,$D$70:$E$81,2,FALSE))","v":0}]
["- Spese di cancelleria",null,{"$f":"'6. Conto economico annuo'!C23","v":0},{"$f":"IF(D$68>$F$70,0,'6. Conto economico annuo'!$C23/VLOOKUP($C$16,$D$70:$E$81,2,FALSE))","v":0},{"$f":"IF(E$68>$F$70,0,'6. Conto economico annuo'!$C23/VLOOKUP($C$16,$D$70:$E$81,2,FALSE))","v":0},{"$f":"IF(F$68>$F$70,0,'6. Conto economico annuo'!$C23/VLOOKUP($C$16,$D$70:$E$81,2,FALSE))","v":0},{"$f":"IF(G$68>$F$70,0,'6. Conto economico annuo'!$C23/VLOOKUP($C$16,$D$70:$E$81,2,FALSE))","v":0},{"$f":"IF(H$68>$F$70,0,'6. Conto economico annuo'!$C23/VLOOKUP($C$16,$D$70:$E$81,2,FALSE))","v":0},{"$f":"IF(I$68>$F$70,0,'6. Conto economico annuo'!$C23/VLOOKUP($C$16,$D$70:$E$81,2,FALSE))","v":0},{"$f":"IF(J$68>$F$70,0,'6. Conto economico annuo'!$C23/VLOOKUP($C$16,$D$70:$E$81,2,FALSE))","v":0},{"$f":"IF(K$68>$F$70,0,'6. Conto economico annuo'!$C23/VLOOKUP($C$16,$D$70:$E$81,2,FALSE))","v":0},{"$f":"IF(L$68>$F$70,0,'6. Conto economico annuo'!$C23/VLOOKUP($C$16,$D$70:$E$81,2,FALSE))","v":0},{"$f":"IF(M$68>$F$70,0,'6. Conto economico annuo'!$C23/VLOOKUP($C$16,$D$70:$E$81,2,FALSE))","v":0},{"$f":"IF(N$68>$F$70,0,'6. Conto economico annuo'!$C23/VLOOKUP($C$16,$D$70:$E$81,2,FALSE))","v":0},{"$f":"IF(O$68>$F$70,0,'6. Conto economico annuo'!$C23/VLOOKUP($C$16,$D$70:$E$81,2,FALSE))","v":0}]
["- Posta / telefono / internet",null,{"$f":"'6. Conto economico annuo'!C24","v":0},{"$f":"IF(D$68>$F$70,0,'6. Conto economico annuo'!$C24/VLOOKUP($C$16,$D$70:$E$81,2,FALSE))","v":0},{"$f":"IF(E$68>$F$70,0,'6. Conto economico annuo'!$C24/VLOOKUP($C$16,$D$70:$E$81,2,FALSE))","v":0},{"$f":"IF(F$68>$F$70,0,'6. Conto economico annuo'!$C24/VLOOKUP($C$16,$D$70:$E$81,2,FALSE))","v":0},{"$f":"IF(G$68>$F$70,0,'6. Conto economico annuo'!$C24/VLOOKUP($C$16,$D$70:$E$81,2,FALSE))","v":0},{"$f":"IF(H$68>$F$70,0,'6. Conto economico annuo'!$C24/VLOOKUP($C$16,$D$70:$E$81,2,FALSE))","v":0},{"$f":"IF(I$68>$F$70,0,'6. Conto economico annuo'!$C24/VLOOKUP($C$16,$D$70:$E$81,2,FALSE))","v":0},{"$f":"IF(J$68>$F$70,0,'6. Conto economico annuo'!$C24/VLOOKUP($C$16,$D$70:$E$81,2,FALSE))","v":0},{"$f":"IF(K$68>$F$70,0,'6. Conto economico annuo'!$C24/VLOOKUP($C$16,$D$70:$E$81,2,FALSE))","v":0},{"$f":"IF(L$68>$F$70,0,'6. Conto economico annuo'!$C24/VLOOKUP($C$16,$D$70:$E$81,2,FALSE))","v":0},{"$f":"IF(M$68>$F$70,0,'6. Conto economico annuo'!$C24/VLOOKUP($C$16,$D$70:$E$81,2,FALSE))","v":0},{"$f":"IF(N$68>$F$70,0,'6. Conto economico annuo'!$C24/VLOOKUP($C$16,$D$70:$E$81,2,FALSE))","v":0},{"$f":"IF(O$68>$F$70,0,'6. Conto economico annuo'!$C24/VLOOKUP($C$16,$D$70:$E$81,2,FALSE))","v":0}]
["- Spese legali e di consulenza",null,{"$f":"'6. Conto economico annuo'!C25","v":0},{"$f":"IF(D$68>$F$70,0,'6. Conto economico annuo'!$C25/VLOOKUP($C$16,$D$70:$E$81,2,FALSE))","v":0},{"$f":"IF(E$68>$F$70,0,'6. Conto economico annuo'!$C25/VLOOKUP($C$16,$D$70:$E$81,2,FALSE))","v":0},{"$f":"IF(F$68>$F$70,0,'6. Conto economico annuo'!$C25/VLOOKUP($C$16,$D$70:$E$81,2,FALSE))","v":0},{"$f":"IF(G$68>$F$70,0,'6. Conto economico annuo'!$C25/VLOOKUP($C$16,$D$70:$E$81,2,FALSE))","v":0},{"$f":"IF(H$68>$F$70,0,'6. Conto economico annuo'!$C25/VLOOKUP($C$16,$D$70:$E$81,2,FALSE))","v":0},{"$f":"IF(I$68>$F$70,0,'6. Conto economico annuo'!$C25/VLOOKUP($C$16,$D$70:$E$81,2,FALSE))","v":0},{"$f":"IF(J$68>$F$70,0,'6. Conto economico annuo'!$C25/VLOOKUP($C$16,$D$70:$E$81,2,FALSE))","v":0},{"$f":"IF(K$68>$F$70,0,'6. Conto economico annuo'!$C25/VLOOKUP($C$16,$D$70:$E$81,2,FALSE))","v":0},{"$f":"IF(L$68>$F$70,0,'6. Conto economico annuo'!$C25/VLOOKUP($C$16,$D$70:$E$81,2,FALSE))","v":0},{"$f":"IF(M$68>$F$70,0,'6. Conto economico annuo'!$C25/VLOOKUP($C$16,$D$70:$E$81,2,FALSE))","v":0},{"$f":"IF(N$68>$F$70,0,'6. Conto economico annuo'!$C25/VLOOKUP($C$16,$D$70:$E$81,2,FALSE))","v":0},{"$f":"IF(O$68>$F$70,0,'6. Conto economico annuo'!$C25/VLOOKUP($C$16,$D$70:$E$81,2,FALSE))","v":0}]
["- Oneri / contributi / imposte",null,{"$f":"'6. Conto economico annuo'!C26","v":0},{"$f":"IF(D$68>$F$70,0,'6. Conto economico annuo'!$C26/VLOOKUP($C$16,$D$70:$E$81,2,FALSE))","v":0},{"$f":"IF(E$68>$F$70,0,'6. Conto economico annuo'!$C26/VLOOKUP($C$16,$D$70:$E$81,2,FALSE))","v":0},{"$f":"IF(F$68>$F$70,0,'6. Conto economico annuo'!$C26/VLOOKUP($C$16,$D$70:$E$81,2,FALSE))","v":0},{"$f":"IF(G$68>$F$70,0,'6. Conto economico annuo'!$C26/VLOOKUP($C$16,$D$70:$E$81,2,FALSE))","v":0},{"$f":"IF(H$68>$F$70,0,'6. Conto economico annuo'!$C26/VLOOKUP($C$16,$D$70:$E$81,2,FALSE))","v":0},{"$f":"IF(I$68>$F$70,0,'6. Conto economico annuo'!$C26/VLOOKUP($C$16,$D$70:$E$81,2,FALSE))","v":0},{"$f":"IF(J$68>$F$70,0,'6. Conto economico annuo'!$C26/VLOOKUP($C$16,$D$70:$E$81,2,FALSE))","v":0},{"$f":"IF(K$68>$F$70,0,'6. Conto economico annuo'!$C26/VLOOKUP($C$16,$D$70:$E$81,2,FALSE))","v":0},{"$f":"IF(L$68>$F$70,0,'6. Conto economico annuo'!$C26/VLOOKUP($C$16,$D$70:$E$81,2,FALSE))","v":0},{"$f":"IF(M$68>$F$70,0,'6. Conto economico annuo'!$C26/VLOOKUP($C$16,$D$70:$E$81,2,FALSE))","v":0},{"$f":"IF(N$68>$F$70,0,'6. Conto economico annuo'!$C26/VLOOKUP($C$16,$D$70:$E$81,2,FALSE))","v":0},{"$f":"IF(O$68>$F$70,0,'6. Conto economico annuo'!$C26/VLOOKUP($C$16,$D$70:$E$81,2,FALSE))","v":0}]
["- Altre spese amministrative",null,{"$f":"'6. Conto economico annuo'!C27","v":0},{"$f":"IF(D$68>$F$70,0,'6. Conto economico annuo'!$C27/VLOOKUP($C$16,$D$70:$E$81,2,FALSE))","v":0},{"$f":"IF(E$68>$F$70,0,'6. Conto economico annuo'!$C27/VLOOKUP($C$16,$D$70:$E$81,2,FALSE))","v":0},{"$f":"IF(F$68>$F$70,0,'6. Conto economico annuo'!$C27/VLOOKUP($C$16,$D$70:$E$81,2,FALSE))","v":0},{"$f":"IF(G$68>$F$70,0,'6. Conto economico annuo'!$C27/VLOOKUP($C$16,$D$70:$E$81,2,FALSE))","v":0},{"$f":"IF(H$68>$F$70,0,'6. Conto economico annuo'!$C27/VLOOKUP($C$16,$D$70:$E$81,2,FALSE))","v":0},{"$f":"IF(I$68>$F$70,0,'6. Conto economico annuo'!$C27/VLOOKUP($C$16,$D$70:$E$81,2,FALSE))","v":0},{"$f":"IF(J$68>$F$70,0,'6. Conto economico annuo'!$C27/VLOOKUP($C$16,$D$70:$E$81,2,FALSE))","v":0},{"$f":"IF(K$68>$F$70,0,'6. Conto economico annuo'!$C27/VLOOKUP($C$16,$D$70:$E$81,2,FALSE))","v":0},{"$f":"IF(L$68>$F$70,0,'6. Conto economico annuo'!$C27/VLOOKUP($C$16,$D$70:$E$81,2,FALSE))","v":0},{"$f":"IF(M$68>$F$70,0,'6. Conto economico annuo'!$C27/VLOOKUP($C$16,$D$70:$E$81,2,FALSE))","v":0},{"$f":"IF(N$68>$F$70,0,'6. Conto economico annuo'!$C27/VLOOKUP($C$16,$D$70:$E$81,2,FALSE))","v":0},{"$f":"IF(O$68>$F$70,0,'6. Conto economico annuo'!$C27/VLOOKUP($C$16,$D$70:$E$81,2,FALSE))","v":0}]
["- Pubblicità / fiere / pubbliche relazioni",null,{"$f":"'6. Conto economico annuo'!C28","v":0},{"$f":"IF(D$68>$F$70,0,'6. Conto economico annuo'!$C28/VLOOKUP($C$16,$D$70:$E$81,2,FALSE))","v":0},{"$f":"IF(E$68>$F$70,0,'6. Conto economico annuo'!$C28/VLOOKUP($C$16,$D$70:$E$81,2,FALSE))","v":0},{"$f":"IF(F$68>$F$70,0,'6. Conto economico annuo'!$C28/VLOOKUP($C$16,$D$70:$E$81,2,FALSE))","v":0},{"$f":"IF(G$68>$F$70,0,'6. Conto economico annuo'!$C28/VLOOKUP($C$16,$D$70:$E$81,2,FALSE))","v":0},{"$f":"IF(H$68>$F$70,0,'6. Conto economico annuo'!$C28/VLOOKUP($C$16,$D$70:$E$81,2,FALSE))","v":0},{"$f":"IF(I$68>$F$70,0,'6. Conto economico annuo'!$C28/VLOOKUP($C$16,$D$70:$E$81,2,FALSE))","v":0},{"$f":"IF(J$68>$F$70,0,'6. Conto economico annuo'!$C28/VLOOKUP($C$16,$D$70:$E$81,2,FALSE))","v":0},{"$f":"IF(K$68>$F$70,0,'6. Conto economico annuo'!$C28/VLOOKUP($C$16,$D$70:$E$81,2,FALSE))","v":0},{"$f":"IF(L$68>$F$70,0,'6. Conto economico annuo'!$C28/VLOOKUP($C$16,$D$70:$E$81,2,FALSE))","v":0},{"$f":"IF(M$68>$F$70,0,'6. Conto economico annuo'!$C28/VLOOKUP($C$16,$D$70:$E$81,2,FALSE))","v":0},{"$f":"IF(N$68>$F$70,0,'6. Conto economico annuo'!$C28/VLOOKUP($C$16,$D$70:$E$81,2,FALSE))","v":0},{"$f":"IF(O$68>$F$70,0,'6. Conto economico annuo'!$C28/VLOOKUP($C$16,$D$70:$E$81,2,FALSE))","v":0}]
["- Formazione",null,{"$f":"'6. Conto economico annuo'!C29","v":0},{"$f":"IF(D$68>$F$70,0,'6. Conto economico annuo'!$C29/VLOOKUP($C$16,$D$70:$E$81,2,FALSE))","v":0},{"$f":"IF(E$68>$F$70,0,'6. Conto economico annuo'!$C29/VLOOKUP($C$16,$D$70:$E$81,2,FALSE))","v":0},{"$f":"IF(F$68>$F$70,0,'6. Conto economico annuo'!$C29/VLOOKUP($C$16,$D$70:$E$81,2,FALSE))","v":0},{"$f":"IF(G$68>$F$70,0,'6. Conto economico annuo'!$C29/VLOOKUP($C$16,$D$70:$E$81,2,FALSE))","v":0},{"$f":"IF(H$68>$F$70,0,'6. Conto economico annuo'!$C29/VLOOKUP($C$16,$D$70:$E$81,2,FALSE))","v":0},{"$f":"IF(I$68>$F$70,0,'6. Conto economico annuo'!$C29/VLOOKUP($C$16,$D$70:$E$81,2,FALSE))","v":0},{"$f":"IF(J$68>$F$70,0,'6. Conto economico annuo'!$C29/VLOOKUP($C$16,$D$70:$E$81,2,FALSE))","v":0},{"$f":"IF(K$68>$F$70,0,'6. Conto economico annuo'!$C29/VLOOKUP($C$16,$D$70:$E$81,2,FALSE))","v":0},{"$f":"IF(L$68>$F$70,0,'6. Conto economico annuo'!$C29/VLOOKUP($C$16,$D$70:$E$81,2,FALSE))","v":0},{"$f":"IF(M$68>$F$70,0,'6. Conto economico annuo'!$C29/VLOOKUP($C$16,$D$70:$E$81,2,FALSE))","v":0},{"$f":"IF(N$68>$F$70,0,'6. Conto economico annuo'!$C29/VLOOKUP($C$16,$D$70:$E$81,2,FALSE))","v":0},{"$f":"IF(O$68>$F$70,0,'6. Conto economico annuo'!$C29/VLOOKUP($C$16,$D$70:$E$81,2,FALSE))","v":0}]
["- Spese di viaggio e rappresentanza",null,{"$f":"'6. Conto economico annuo'!C30","v":0},{"$f":"IF(D$68>$F$70,0,'6. Conto economico annuo'!$C30/VLOOKUP($C$16,$D$70:$E$81,2,FALSE))","v":0},{"$f":"IF(E$68>$F$70,0,'6. Conto economico annuo'!$C30/VLOOKUP($C$16,$D$70:$E$81,2,FALSE))","v":0},{"$f":"IF(F$68>$F$70,0,'6. Conto economico annuo'!$C30/VLOOKUP($C$16,$D$70:$E$81,2,FALSE))","v":0},{"$f":"IF(G$68>$F$70,0,'6. Conto economico annuo'!$C30/VLOOKUP($C$16,$D$70:$E$81,2,FALSE))","v":0},{"$f":"IF(H$68>$F$70,0,'6. Conto economico annuo'!$C30/VLOOKUP($C$16,$D$70:$E$81,2,FALSE))","v":0},{"$f":"IF(I$68>$F$70,0,'6. Conto economico annuo'!$C30/VLOOKUP($C$16,$D$70:$E$81,2,FALSE))","v":0},{"$f":"IF(J$68>$F$70,0,'6. Conto economico annuo'!$C30/VLOOKUP($C$16,$D$70:$E$81,2,FALSE))","v":0},{"$f":"IF(K$68>$F$70,0,'6. Conto economico annuo'!$C30/VLOOKUP($C$16,$D$70:$E$81,2,FALSE))","v":0},{"$f":"IF(L$68>$F$70,0,'6. Conto economico annuo'!$C30/VLOOKUP($C$16,$D$70:$E$81,2,FALSE))","v":0},{"$f":"IF(M$68>$F$70,0,'6. Conto economico annuo'!$C30/VLOOKUP($C$16,$D$70:$E$81,2,FALSE))","v":0},{"$f":"IF(N$68>$F$70,0,'6. Conto economico annuo'!$C30/VLOOKUP($C$16,$D$70:$E$81,2,FALSE))","v":0},{"$f":"IF(O$68>$F$70,0,'6. Conto economico annuo'!$C30/VLOOKUP($C$16,$D$70:$E$81,2,FALSE))","v":0}]
["- Leasing",null,{"$f":"'6. Conto economico annuo'!C31","v":0},{"$f":"IF(D$68>$F$70,0,'6. Conto economico annuo'!$C31/VLOOKUP($C$16,$D$70:$E$81,2,FALSE))","v":0},{"$f":"IF(E$68>$F$70,0,'6. Conto economico annuo'!$C31/VLOOKUP($C$16,$D$70:$E$81,2,FALSE))","v":0},{"$f":"IF(F$68>$F$70,0,'6. Conto economico annuo'!$C31/VLOOKUP($C$16,$D$70:$E$81,2,FALSE))","v":0},{"$f":"IF(G$68>$F$70,0,'6. Conto economico annuo'!$C31/VLOOKUP($C$16,$D$70:$E$81,2,FALSE))","v":0},{"$f":"IF(H$68>$F$70,0,'6. Conto economico annuo'!$C31/VLOOKUP($C$16,$D$70:$E$81,2,FALSE))","v":0},{"$f":"IF(I$68>$F$70,0,'6. Conto economico annuo'!$C31/VLOOKUP($C$16,$D$70:$E$81,2,FALSE))","v":0},{"$f":"IF(J$68>$F$70,0,'6. Conto economico annuo'!$C31/VLOOKUP($C$16,$D$70:$E$81,2,FALSE))","v":0},{"$f":"IF(K$68>$F$70,0,'6. Conto economico annuo'!$C31/VLOOKUP($C$16,$D$70:$E$81,2,FALSE))","v":0},{"$f":"IF(L$68>$F$70,0,'6. Conto economico annuo'!$C31/VLOOKUP($C$16,$D$70:$E$81,2,FALSE))","v":0},{"$f":"IF(M$68>$F$70,0,'6. Conto economico annuo'!$C31/VLOOKUP($C$16,$D$70:$E$81,2,FALSE))","v":0},{"$f":"IF(N$68>$F$70,0,'6. Conto economico annuo'!$C31/VLOOKUP($C$16,$D$70:$E$81,2,FALSE))","v":0},{"$f":"IF(O$68>$F$70,0,'6. Conto economico annuo'!$C31/VLOOKUP($C$16,$D$70:$E$81,2,FALSE))","v":0}]
["- Affitto e locazione",null,{"$f":"'6. Conto economico annuo'!C32","v":0},{"$f":"IF(D$68>$F$70,0,'6. Conto economico annuo'!$C32/VLOOKUP($C$16,$D$70:$E$81,2,FALSE))","v":0},{"$f":"IF(E$68>$F$70,0,'6. Conto economico annuo'!$C32/VLOOKUP($C$16,$D$70:$E$81,2,FALSE))","v":0},{"$f":"IF(F$68>$F$70,0,'6. Conto economico annuo'!$C32/VLOOKUP($C$16,$D$70:$E$81,2,FALSE))","v":0},{"$f":"IF(G$68>$F$70,0,'6. Conto economico annuo'!$C32/VLOOKUP($C$16,$D$70:$E$81,2,FALSE))","v":0},{"$f":"IF(H$68>$F$70,0,'6. Conto economico annuo'!$C32/VLOOKUP($C$16,$D$70:$E$81,2,FALSE))","v":0},{"$f":"IF(I$68>$F$70,0,'6. Conto economico annuo'!$C32/VLOOKUP($C$16,$D$70:$E$81,2,FALSE))","v":0},{"$f":"IF(J$68>$F$70,0,'6. Conto economico annuo'!$C32/VLOOKUP($C$16,$D$70:$E$81,2,FALSE))","v":0},{"$f":"IF(K$68>$F$70,0,'6. Conto economico annuo'!$C32/VLOOKUP($C$16,$D$70:$E$81,2,FALSE))","v":0},{"$f":"IF(L$68>$F$70,0,'6. Conto economico annuo'!$C32/VLOOKUP($C$16,$D$70:$E$81,2,FALSE))","v":0},{"$f":"IF(M$68>$F$70,0,'6. Conto economico annuo'!$C32/VLOOKUP($C$16,$D$70:$E$81,2,FALSE))","v":0},{"$f":"IF(N$68>$F$70,0,'6. Conto economico annuo'!$C32/VLOOKUP($C$16,$D$70:$E$81,2,FALSE))","v":0},{"$f":"IF(O$68>$F$70,0,'6. Conto economico annuo'!$C32/VLOOKUP($C$16,$D$70:$E$81,2,FALSE))","v":0}]
[{"$f":"'6. Conto economico annuo'!A33","v":"- …"},null,{"$f":"'6. Conto economico annuo'!C33","v":0},{"$f":"IF(D$68>$F$70,0,'6. Conto economico annuo'!$C33/VLOOKUP($C$16,$D$70:$E$81,2,FALSE))","v":0},{"$f":"IF(E$68>$F$70,0,'6. Conto economico annuo'!$C33/VLOOKUP($C$16,$D$70:$E$81,2,FALSE))","v":0},{"$f":"IF(F$68>$F$70,0,'6. Conto economico annuo'!$C33/VLOOKUP($C$16,$D$70:$E$81,2,FALSE))","v":0},{"$f":"IF(G$68>$F$70,0,'6. Conto economico annuo'!$C33/VLOOKUP($C$16,$D$70:$E$81,2,FALSE))","v":0},{"$f":"IF(H$68>$F$70,0,'6. Conto economico annuo'!$C33/VLOOKUP($C$16,$D$70:$E$81,2,FALSE))","v":0},{"$f":"IF(I$68>$F$70,0,'6. Conto economico annuo'!$C33/VLOOKUP($C$16,$D$70:$E$81,2,FALSE))","v":0},{"$f":"IF(J$68>$F$70,0,'6. Conto economico annuo'!$C33/VLOOKUP($C$16,$D$70:$E$81,2,FALSE))","v":0},{"$f":"IF(K$68>$F$70,0,'6. Conto economico annuo'!$C33/VLOOKUP($C$16,$D$70:$E$81,2,FALSE))","v":0},{"$f":"IF(L$68>$F$70,0,'6. Conto economico annuo'!$C33/VLOOKUP($C$16,$D$70:$E$81,2,FALSE))","v":0},{"$f":"IF(M$68>$F$70,0,'6. Conto economico annuo'!$C33/VLOOKUP($C$16,$D$70:$E$81,2,FALSE))","v":0},{"$f":"IF(N$68>$F$70,0,'6. Conto economico annuo'!$C33/VLOOKUP($C$16,$D$70:$E$81,2,FALSE))","v":0},{"$f":"IF(O$68>$F$70,0,'6. Conto economico annuo'!$C33/VLOOKUP($C$16,$D$70:$E$81,2,FALSE))","v":0}]
[{"$f":"'6. Conto economico annuo'!A34","v":"- …"},null,{"$f":"'6. Conto economico annuo'!C34","v":0},{"$f":"IF(D$68>$F$70,0,'6. Conto economico annuo'!$C34/VLOOKUP($C$16,$D$70:$E$81,2,FALSE))","v":0},{"$f":"IF(E$68>$F$70,0,'6. Conto economico annuo'!$C34/VLOOKUP($C$16,$D$70:$E$81,2,FALSE))","v":0},{"$f":"IF(F$68>$F$70,0,'6. Conto economico annuo'!$C34/VLOOKUP($C$16,$D$70:$E$81,2,FALSE))","v":0},{"$f":"IF(G$68>$F$70,0,'6. Conto economico annuo'!$C34/VLOOKUP($C$16,$D$70:$E$81,2,FALSE))","v":0},{"$f":"IF(H$68>$F$70,0,'6. Conto economico annuo'!$C34/VLOOKUP($C$16,$D$70:$E$81,2,FALSE))","v":0},{"$f":"IF(I$68>$F$70,0,'6. Conto economico annuo'!$C34/VLOOKUP($C$16,$D$70:$E$81,2,FALSE))","v":0},{"$f":"IF(J$68>$F$70,0,'6. Conto economico annuo'!$C34/VLOOKUP($C$16,$D$70:$E$81,2,FALSE))","v":0},{"$f":"IF(K$68>$F$70,0,'6. Conto economico annuo'!$C34/VLOOKUP($C$16,$D$70:$E$81,2,FALSE))","v":0},{"$f":"IF(L$68>$F$70,0,'6. Conto economico annuo'!$C34/VLOOKUP($C$16,$D$70:$E$81,2,FALSE))","v":0},{"$f":"IF(M$68>$F$70,0,'6. Conto economico annuo'!$C34/VLOOKUP($C$16,$D$70:$E$81,2,FALSE))","v":0},{"$f":"IF(N$68>$F$70,0,'6. Conto economico annuo'!$C34/VLOOKUP($C$16,$D$70:$E$81,2,FALSE))","v":0},{"$f":"IF(O$68>$F$70,0,'6. Conto economico annuo'!$C34/VLOOKUP($C$16,$D$70:$E$81,2,FALSE))","v":0}]
[{"$f":"'6. Conto economico annuo'!A35","v":"- …"},null,{"$f":"'6. Conto economico annuo'!C35","v":0},{"$f":"IF(D$68>$F$70,0,'6. Conto economico annuo'!$C35/VLOOKUP($C$16,$D$70:$E$81,2,FALSE))","v":0},{"$f":"IF(E$68>$F$70,0,'6. Conto economico annuo'!$C35/VLOOKUP($C$16,$D$70:$E$81,2,FALSE))","v":0},{"$f":"IF(F$68>$F$70,0,'6. Conto economico annuo'!$C35/VLOOKUP($C$16,$D$70:$E$81,2,FALSE))","v":0},{"$f":"IF(G$68>$F$70,0,'6. Conto economico annuo'!$C35/VLOOKUP($C$16,$D$70:$E$81,2,FALSE))","v":0},{"$f":"IF(H$68>$F$70,0,'6. Conto economico annuo'!$C35/VLOOKUP($C$16,$D$70:$E$81,2,FALSE))","v":0},{"$f":"IF(I$68>$F$70,0,'6. Conto economico annuo'!$C35/VLOOKUP($C$16,$D$70:$E$81,2,FALSE))","v":0},{"$f":"IF(J$68>$F$70,0,'6. Conto economico annuo'!$C35/VLOOKUP($C$16,$D$70:$E$81,2,FALSE))","v":0},{"$f":"IF(K$68>$F$70,0,'6. Conto economico annuo'!$C35/VLOOKUP($C$16,$D$70:$E$81,2,FALSE))","v":0},{"$f":"IF(L$68>$F$70,0,'6. Conto economico annuo'!$C35/VLOOKUP($C$16,$D$70:$E$81,2,FALSE))","v":0},{"$f":"IF(M$68>$F$70,0,'6. Conto economico annuo'!$C35/VLOOKUP($C$16,$D$70:$E$81,2,FALSE))","v":0},{"$f":"IF(N$68>$F$70,0,'6. Conto economico annuo'!$C35/VLOOKUP($C$16,$D$70:$E$81,2,FALSE))","v":0},{"$f":"IF(O$68>$F$70,0,'6. Conto economico annuo'!$C35/VLOOKUP($C$16,$D$70:$E$81,2,FALSE))","v":0}]
["- Ammortamenti",null,{"$f":"'6. Conto economico annuo'!C36","v":0},{"$f":"IF(D$68>$F$70,0,'6. Conto economico annuo'!$C36/VLOOKUP($C$16,$D$70:$E$81,2,FALSE))","v":0},{"$f":"IF(E$68>$F$70,0,'6. Conto economico annuo'!$C36/VLOOKUP($C$16,$D$70:$E$81,2,FALSE))","v":0},{"$f":"IF(F$68>$F$70,0,'6. Conto economico annuo'!$C36/VLOOKUP($C$16,$D$70:$E$81,2,FALSE))","v":0},{"$f":"IF(G$68>$F$70,0,'6. Conto economico annuo'!$C36/VLOOKUP($C$16,$D$70:$E$81,2,FALSE))","v":0},{"$f":"IF(H$68>$F$70,0,'6. Conto economico annuo'!$C36/VLOOKUP($C$16,$D$70:$E$81,2,FALSE))","v":0},{"$f":"IF(I$68>$F$70,0,'6. Conto economico annuo'!$C36/VLOOKUP($C$16,$D$70:$E$81,2,FALSE))","v":0},{"$f":"IF(J$68>$F$70,0,'6. Conto economico annuo'!$C36/VLOOKUP($C$16,$D$70:$E$81,2,FALSE))","v":0},{"$f":"IF(K$68>$F$70,0,'6. Conto economico annuo'!$C36/VLOOKUP($C$16,$D$70:$E$81,2,FALSE))","v":0},{"$f":"IF(L$68>$F$70,0,'6. Conto economico annuo'!$C36/VLOOKUP($C$16,$D$70:$E$81,2,FALSE))","v":0},{"$f":"IF(M$68>$F$70,0,'6. Conto economico annuo'!$C36/VLOOKUP($C$16,$D$70:$E$81,2,FALSE))","v":0},{"$f":"IF(N$68>$F$70,0,'6. Conto economico annuo'!$C36/VLOOKUP($C$16,$D$70:$E$81,2,FALSE))","v":0},{"$f":"IF(O$68>$F$70,0,'6. Conto economico annuo'!$C36/VLOOKUP($C$16,$D$70:$E$81,2,FALSE))","v":0}]
["= Costi fissi",null,{"$f":"SUM(C15:C38)","v":0},{"$f":"SUM(D15:D38)","v":0},0,0,0,0,0,0,0,0,0,0,0]
[]
["= Risultato lordo (EBIT)",null,{"$f":"C14-C39","v":0},0,0,0,0,0,0,0,0,0,0,0,0]
[]
[]
[]
[]
[]
[]
[]
[]
[]
[]
[]
[]
[]
[]
[]
[]
[]
[]
[]
[]
[]
[]
[]
[]
[]
[]
[null,null,null,12,11,10,9,8,7,6,5,4,3,2,1]
[]
[null,null,null,"Gennaio",12,{"$f":"INDEX(E70:E81,G70)","v":12},{"$f":"VLOOKUP($C$16,$D$83:$E$94,2,FALSE)","v":1}]
[null,null,null,"Febbraio",11]
[null,null,null,"Marzo",10]
[null,null,null,"Aprile",9]
[null,null,null,"Maggio",8]
[null,null,null,"Giugno",7]
[null,null,null,"Luglio",6]
[null,null,null,"Agosto",5]
[null,null,null,"Settembre",4]
[null,null,null,"Ottobre",3]
[null,null,null,"Novembre",2]
[null,null,null,"Dicembre",1]
[]
[null,null,null,"Gennaio",1]
[null,null,null,"Febbraio",2]
[null,null,null,"Marzo",3]
[null,null,null,"Aprile",4]
[null,null,null,"Maggio",5]
[null,null,null,"Giugno",6]
[null,null,null,"Luglio",7]
[null,null,null,"Agosto",8]
[null,null,null,"Settembre",9]
[null,null,null,"Ottobre",10]
[null,null,null,"Novembre",11]
[null,null,null,"Dicembre",12]

{"sheet":"7. Piano di finanziamento","index":9,"n_rows":157,"n_cols":13,"rows_kept":157,"cut":false,"hidden":false,"merged":[[17,0,17,5],[6,0,6,5],[0,0,0,5],[2,0,2,3],[3,0,3,3],[4,0,4,3]]}
["Piano di finanziamento e fabbisogno di capitale"]
["Termini di pagamento:",null,null,null,"Valori individuali:"]
["Dopo quanti giorni vengono saldate in media le fatture emesse ai clienti? (in media)",null,null,null,null,"giorni"]
["Dopo quanti giorni saldo in media le fatture ricevute dai fornitori? (in media) ",null,null,null,null,"giorni"]
["Valore di magazzino in % rispetto al fatturato",null,null,null,null,"del fatturato"]
[null,"Anno 1","Anno 2","Anno 3","Anno 4","Anno 5"]
["Fabbisogni di capitale"]
["Capitale d'investimento",{"$f":"'3. Piano di investimento'!C25","v":0},{"$f":"'3. Piano di investimento'!D25","v":0},{"$f":"'3. Piano di investimento'!E25","v":0},{"$f":"'3. Piano di investimento'!F25","v":0},{"$f":"'3. Piano di investimento'!G25","v":0}]
["Spese di costituzione",{"$f":"'3. Piano di investimento'!C37","v":0},{"$f":"'3. Piano di investimento'!D37","v":0},{"$f":"'3. Piano di investimento'!E37","v":0},{"$f":"'3. Piano di investimento'!F37","v":0},{"$f":"'3. Piano di investimento'!G37","v":0}]
["IVA",{"$f":"('3. Piano di investimento'!C25+'3. Piano di investimento'!C37)*0.22","v":0},{"$f":"('3. Piano di investimento'!D25/122)*-100+'3. Piano di investimento'!D25","v":0},{"$f":"('3. Piano di investimento'!E25/122)*-100+'3. Piano di investimento'!E25","v":0},{"$f":"('3. Piano di investimento'!F25/122)*-100+'3. Piano di investimento'!F25","v":0},{"$f":"('3. Piano di investimento'!G25/122)*-100+'3. Piano di investimento'!G25","v":0}]
["Cauzione (affitto, gas, corrente…)",0,0,0,0,0]
["Variazione del valore di magazzino",{"$f":"B147*E5","v":0},{"$f":"C147*$E$5-B12","v":0},{"$f":"D147*$E$5-C12-B12","v":0},{"$f":"E147*$E$5-D12-C12-B12","v":0},{"$f":"F147*$E$5-E12-D12-C12-B12","v":0},null,null,{"$f":"B12","v":0},{"$f":"SUM(B12:C12)","v":0},{"$f":"SUM(B12:D12)","v":0},{"$f":"SUM(B12:E12)","v":0},{"$f":"SUM(B12:F12)","v":0}]
["Crediti verso clienti (variazione) ",{"$f":"B147/365*E3","v":0},{"$f":"C147/365*$E$3-B13","v":0},{"$f":"D147/365*$E$3-B13-C13","v":0},{"$f":"E147/365*$E$3-B13-C13-D13","v":0},{"$f":"F147/365*$E$3-B13-C13-D13-E13","v":0},null,null,{"$f":"B13","v":0},{"$f":"SUM(B13:C13)","v":0},{"$f":"SUM(B13:D13)","v":0},{"$f":"SUM(B13:E13)","v":0},{"$f":"SUM(B13:F13)","v":0}]
["Ammortamento / restituzione di prestiti",{"$f":"'8. Riepilogo ammortamento'!C6","v":0},{"$f":"'8. Riepilogo ammortamento'!C7","v":0},{"$f":"'8. Riepilogo ammortamento'!C8","v":0},{"$f":"'8. Riepilogo ammortamento'!C9","v":0},{"$f":"'8. Riepilogo ammortamento'!C10","v":0}]
["Fabbisogno di capitale annuo ",{"$f":"SUM(B8:B14)","v":0},{"$f":"SUM(C8:C14)","v":0},{"$f":"SUM(D8:D14)","v":0},{"$f":"SUM(E8:E14)","v":0},{"$f":"SUM(F8:F14)","v":0}]
["Fabbisogno accumulato di capitale / valore puramente indicativo",{"$f":"B15","v":0},{"$f":"C15+B16","v":0},{"$f":"D15+C16","v":0},{"$f":"E15+D16","v":0},{"$f":"F15+E16","v":0}]
[]
["Finanziamento"]
["Capitale proprio e/o partecipazione di soci",null,0,0,0,0]
["Conferimento di impianti",null,null,null,null,0]
["Crediti infruttiferi ",null,null,null,null,0]
["Agevolazioni pubbliche",null,null,null,null,0]
["Finanziamento annuo esterno ed infruttifero",{"$f":"SUM(B19:B22)","v":0},{"$f":"SUM(C19:C22)","v":0},{"$f":"SUM(D19:D22)","v":0},{"$f":"SUM(E19:E22)","v":0},{"$f":"SUM(F19:F22)","v":0}]
["Finanziamento esterno infruttifero accumulato",{"$f":"B23","v":0},{"$f":"C23+B24","v":0},{"$f":"D23+C24","v":0},{"$f":"E23+D24","v":0},{"$f":"F23+E24","v":0}]
["Cash flow lordo da attività correnti",{"$f":"'6. Conto economico annuo'!C47","v":0},{"$f":"'6. Conto economico annuo'!E47","v":0},{"$f":"'6. Conto economico annuo'!G47","v":0},{"$f":"'6. Conto economico annuo'!I47","v":0},{"$f":"'6. Conto economico annuo'!K47","v":0}]
["IVA relativa agli investimenti dell'esercizio precedente",null,{"$f":"B10","v":0},{"$f":"C10","v":0},{"$f":"D10","v":0},{"$f":"E10","v":0}]
["Debiti verso fornitori (variazione)",{"$f":"B148/365*E4","v":0},{"$f":"C148/365*$E$4-B27","v":0},{"$f":"D148/365*$E$4-B27-C27","v":0},{"$f":"E148/365*$E$4-B27-C27-D27","v":0},{"$f":"F148/365*$E$4-B27-C27-D27-E27","v":0},null,null,{"$f":"B27","v":0},{"$f":"SUM(B27:C27)","v":0},{"$f":"SUM(B27:D27)","v":0},{"$f":"SUM(B27:E27)","v":0},{"$f":"SUM(B27:F27)","v":0}]
["Finanziamento interno dell'esercizio",{"$f":"B25+B27","v":0},{"$f":"C25+C26+C27","v":0},{"$f":"D25+D26+D27","v":0},{"$f":"E25+E26+E27","v":0},{"$f":"F25+F26+F27","v":0}]
["Finanziamento interno accumulato",{"$f":"B25+B23+B27","v":0},{"$f":"C28+B29","v":0},{"$f":"D28+C29","v":0},{"$f":"E28+D29","v":0},{"$f":"F28+E29","v":0}]
["Capitale infruttifero disponibile",{"$f":"B23+B28","v":0},{"$f":"C23+C28","v":0},{"$f":"D23+D28","v":0},{"$f":"E23+E28","v":0},{"$f":"F23+F28","v":0}]
[]
[{"$f":"A15","v":"Fabbisogno di capitale annuo "},0,0,0,0,0]
[{"$f":"A30","v":"Capitale infruttifero disponibile"},0,0,0,0,0]
["Finanziamento eccedente/mancante",{"$f":"B33-B32","v":0},{"$f":"C33-C32","v":0},{"$f":"D33-D32","v":0},{"$f":"E33-E32","v":0},{"$f":"F33-F32","v":0}]
[]
["Finanziamento fruttifero esterno (capitale di terzi)"]
["Finanziamenti a lungo termine"]
["Mutuo 1 (banca, soci, altri) "]
["Durata (anni) "]
["Tasso di interesse"]
["Periodo senza ammortamento"]
["Mutuo 2 (banca, soci, altri) ",0,0,0,0,0]
["Durata (anni) ",0,0,0,0,0]
["Tasso di interesse",0,{"$f":"B44","v":0},{"$f":"C44","v":0},{"$f":"D44","v":0},{"$f":"E44","v":0}]
["Periodo senza ammortamento",0,0,0,0,0]
["Mutuo 3 (banca, soci, altri) ",0,0,0,0,0,null," "]
["Durata (anni) ",0,0,0,0,0]
["Tasso di interesse",0,{"$f":"B48","v":0},{"$f":"C48","v":0},{"$f":"D48","v":0},{"$f":"E48","v":0}]
["Periodo senza ammortamento",0,0,0,0,0]
["Finanziamento esterno fruttifero a lungo termine",{"$f":"B38+B42+B46","v":0},{"$f":"C38+C42+C46","v":0},{"$f":"D38+D42+D46","v":0},{"$f":"E38+E42+E46","v":0},{"$f":"F38+F42+F46","v":0}]
["Finanziamento esterno fruttifero accumulato",{"$f":"B50","v":0},{"$f":"C50+B51-B14","v":0},{"$f":"D50+C51-C14","v":0},{"$f":"E50+D51-D14","v":0},{"$f":"F50+E51-E14","v":0}]
["Finanziamenti a breve termine"]
["Conto corrente saldo iniziale ",null,{"$f":"B55","v":0},{"$f":"C55","v":0},{"$f":"D55","v":0},{"$f":"E55","v":0}]
["Fido bancario / credito in conto corrente",null,{"$f":"B54","v":0},{"$f":"C54","v":0},{"$f":"D54","v":0},{"$f":"E54","v":0},null,null,{"$f":"I12+I13-I27","v":0},{"$f":"J12+J13-J27","v":0},{"$f":"K12+K13-K27","v":0},{"$f":"L12+L13-L27","v":0},{"$f":"M12+M13-M27","v":0}]
["Conto corrente saldo finale ",{"$f":"B34+B50+B53","v":0},{"$f":"C34+C50+C53","v":0},{"$f":"D34+D50+D53","v":0},{"$f":"E34+E50+E53","v":0},{"$f":"F34+F50+F53","v":0}]
["Coperto / scoperto in c/c",{"$f":"B54+B55","v":0},{"$f":"C54+C55","v":0},{"$f":"D54+D55","v":0},{"$f":"E54+E55","v":0},{"$f":"F54+F55","v":0}]
["Variazione finanziamento esterno fruttifero",{"$f":"IF(B55<0,B50-B55,B50)","v":0},{"$f":"IF(C55<0,C50-C55,C50)","v":0},{"$f":"IF(D55<0,D50-D55,D50)","v":0},{"$f":"IF(E55<0,E50-E55,E50)","v":0},{"$f":"IF(F55<0,F50-F55,F50)","v":0}]
[]
["Calcolo degli interessi su capitale di terzi"]
["Capitale fruttifero in prestito, accumulato al termine dell'esercizio",{"$f":"-B55+B51-B14","v":0},{"$f":"-C55+C51-C14","v":0},{"$f":"-D55+D51-D14","v":0},{"$f":"-E55+E51-E14","v":0},{"$f":"-F55+F51-F14","v":0}]
["Tasso d'interesse attivo (interessi a credito) in conto corrente",null,{"$f":"B61","v":0},0,0,0]
["Tasso d'interesse passivo (interessi a debito) in conto corrente",null,{"$f":"B62","v":0},{"$f":"C62","v":0},0,0]
["Interessi conto corrente",{"$f":"B155+B156","v":0},{"$f":"C155+C156","v":0},{"$f":"D155+D156","v":0},{"$f":"E155+E156","v":0},{"$f":"F155+F156","v":0}]
["Interessi attivi conto corrente",{"$f":"B155","v":0},0,0,0,0]
["Interessi passivi conto corrente",0,0,0,0,0]
["Interessi mutuo",{"$f":"-'8. Riepilogo ammortamento'!D6","v":0},{"$f":"-'8. Riepilogo ammortamento'!D7","v":0},{"$f":"-'8. Riepilogo ammortamento'!D8","v":0},{"$f":"-'8. Riepilogo ammortamento'!D9","v":0},{"$f":"-'8. Riepilogo ammortamento'!D10","v":0}]
["Totale interessi",{"$f":"SUM(B64:B66)","v":0},{"$f":"SUM(C64:C66)","v":0},{"$f":"SUM(D64:D66)","v":0},{"$f":"SUM(E64:E66)","v":0},{"$f":"SUM(F64:F66)","v":0}]
["Interessi conto economico",{"$f":"'6. Conto economico annuo'!C40","v":0},{"$f":"'6. Conto economico annuo'!E40","v":0},{"$f":"'6. Conto economico annuo'!G40","v":0},{"$f":"'6. Conto economico annuo'!I40","v":0},{"$f":"'6. Conto economico annuo'!K40","v":0}]
["Il risultato dovrà ammontare a 0 (cliccare sulla casella grigia)",{"$f":"B67-B68","v":0},{"$f":"C67-C68","v":0},{"$f":"D67-D68","v":0},{"$f":"E67-E68","v":0},{"$f":"F67-F68","v":0}]
[null,0]
[]
[]
[]
[]
[]
[]
[]
[]
[]
[]
[]
[]
[]
[]
[]
[]
[]
[]
[]
[]
[]
[]
[]
[]
[]
[]
[]
[]
[]
[]
[]
[]
[]
[]
[]
[]
[]
[]
[]
[]
[]
[]
[]
[]
[]
[]
[]
[]
[]
[]
[]
[]
[]
[]
[]
[]
[]
[]
[]
[]
[]
[]
[]
[]
[]
[]
["Jahr ",{"$f":"B6","v":"Anno 1"},{"$f":"C6","v":"Anno 2"},{"$f":"D6","v":"Anno 3"},{"$f":"E6","v":"Anno 4"},{"$f":"F6","v":"Anno 5"}]
[{"$f":"A32","v":"Fabbisogno di capitale annuo "},0,0,0,0,0]
["Capitale infruttifero disponibile",0,0,0,0,0]
["Finanziamento eccedente/mancante",0,0,0,0,0]
[{"$f":"A57","v":"Variazione finanziamento esterno fruttifero"},0,0,0,0,0]
[{"$f":"A55","v":"Conto corrente saldo finale "},0,0,0,0,0]
[]
[]
[]
[]
["Umsatz Verbergen ",{"$f":"'6. Conto economico annuo'!C4","v":0},{"$f":"'6. Conto economico annuo'!E4","v":0},{"$f":"'6. Conto economico annuo'!G4","v":0},{"$f":"'6. Conto economico annuo'!I4","v":0},{"$f":"'6. Conto economico annuo'!K4","v":0}]
["Wareneinkauf Verbergen ",{"$f":"'6. Conto economico annuo'!C5","v":0},{"$f":"'6. Conto economico annuo'!E5","v":0},{"$f":"'6. Conto economico annuo'!G5","v":0},{"$f":"'6. Conto economico annuo'!I5","v":0},{"$f":"'6. Conto economico annuo'!K5","v":0}]
[]
[]
[]
[]
[]
[]
["Habenzinsen Kontokorrent",{"$f":"IF((B$53+B$55)/2>0,((B$53+B$55)/2)*B61,0)","v":0},{"$f":"IF((C$53+C$55)/2>0,((C$53+C$55)/2)*C61,0)","v":0},0,0,0]
["Sollzinsen Kontokorrent",{"$f":"IF((B$53+B$55)/2<0,((B$53+B$55)/2)*B62,0)","v":0},{"$f":"IF((C$53+C$55)/2<0,((C$53+C$55)/2)*C62,0)","v":0},0,0,0]
["Sollzinsen Darlehen",{"$f":"B66","v":0},{"$f":"C66","v":0},{"$f":"D66","v":0},{"$f":"E66","v":0},{"$f":"F66","v":0}]

{"sheet":"9. Piano d'ammortamento","index":10,"n_rows":34,"n_cols":21,"rows_kept":34,"cut":false,"hidden":true,"merged":[]}
["Piani d'ammortamento"]
[]
[null,"Mutuo          anno 1","Mutuo           anno 2","Mutuo \nanno 3","Mutuo           anno 4","Mutuo           anno 5","Somma        mutui",null,"Finanziamento anno 1","Finanziamento anno 2","Finanziamento anno 3","Finanziamento anno 4","Finanziamento anno 5","Somma finanziamenti soci",null,"Altri finanziamenti anno 1","Altri finanziamenti anno 2","Altri finanziamenti anno 3","Altri finanziamenti anno 4","Altri finanziamenti anno 5","Somma altri finanziamenti"]
["Totale",{"$f":"'7. Piano di finanziamento'!B38","v":0},{"$f":"'7. Piano di finanziamento'!C38","v":0},{"$f":"'7. Piano di finanziamento'!D38","v":0},{"$f":"'7. Piano di finanziamento'!E38","v":0},{"$f":"'7. Piano di finanziamento'!F38","v":0},null,null,{"$f":"'7. Piano di finanziamento'!B42","v":0},{"$f":"'7. Piano di finanziamento'!C42","v":0},{"$f":"'7. Piano di finanziamento'!D42","v":0},{"$f":"'7. Piano di finanziamento'!E42","v":0},{"$f":"'7. Piano di finanziamento'!F42","v":0},null,null,{"$f":"'7. Piano di finanziamento'!B46","v":0},{"$f":"'7. Piano di finanziamento'!C46","v":0},{"$f":"'7. Piano di finanziamento'!D46","v":0},{"$f":"'7. Piano di finanziamento'!E46","v":0},{"$f":"'7. Piano di finanziamento'!F46","v":0}]
["Durata",{"$f":"'7. Piano di finanziamento'!B39","v":0},{"$f":"'7. Piano di finanziamento'!C39","v":0},{"$f":"'7. Piano di finanziamento'!D39","v":0},{"$f":"'7. Piano di finanziamento'!E39","v":0},{"$f":"'7. Piano di finanziamento'!F39","v":0},null,null,{"$f":"'7. Piano di finanziamento'!B43","v":0},{"$f":"'7. Piano di finanziamento'!C43","v":0},{"$f":"'7. Piano di finanziamento'!D43","v":0},{"$f":"'7. Piano di finanziamento'!E43","v":0},{"$f":"'7. Piano di finanziamento'!F43","v":0},null,null,{"$f":"'7. Piano di finanziamento'!B47","v":0},{"$f":"'7. Piano di finanziamento'!C47","v":0},{"$f":"'7. Piano di finanziamento'!D47","v":0},{"$f":"'7. Piano di finanziamento'!E47","v":0},{"$f":"'7. Piano di finanziamento'!F47","v":0}]
["Tasso di interesse",{"$f":"'7. Piano di finanziamento'!B40","v":0},{"$f":"'7. Piano di finanziamento'!C40","v":0},{"$f":"'7. Piano di finanziamento'!D40","v":0},{"$f":"'7. Piano di finanziamento'!E40","v":0},{"$f":"'7. Piano di finanziamento'!F40","v":0},null,null,{"$f":"'7. Piano di finanziamento'!B44","v":0},{"$f":"'7. Piano di finanziamento'!C44","v":0},{"$f":"'7. Piano di finanziamento'!D44","v":0},{"$f":"'7. Piano di finanziamento'!E44","v":0},{"$f":"'7. Piano di finanziamento'!F44","v":0},null,null,{"$f":"'7. Piano di finanziamento'!B48","v":0},{"$f":"'7. Piano di finanziamento'!C48","v":0},{"$f":"'7. Piano di finanziamento'!D48","v":0},{"$f":"'7. Piano di finanziamento'!E48","v":0},{"$f":"'7. Piano di finanziamento'!F48","v":0}]
["Periodo senza ammortamento",{"$f":"'7. Piano di finanziamento'!B41","v":0},{"$f":"'7. Piano di finanziamento'!C41","v":0},{"$f":"'7. Piano di finanziamento'!D41","v":0},{"$f":"'7. Piano di finanziamento'!E41","v":0},{"$f":"'7. Piano di finanziamento'!F41","v":0},null,null,{"$f":"'7. Piano di finanziamento'!B45","v":0},{"$f":"'7. Piano di finanziamento'!C45","v":0},{"$f":"'7. Piano di finanziamento'!D45","v":0},{"$f":"'7. Piano di finanziamento'!E45","v":0},{"$f":"'7. Piano di finanziamento'!F45","v":0},null,null,{"$f":"'7. Piano di finanziamento'!B49","v":0},{"$f":"'7. Piano di finanziamento'!C49","v":0},{"$f":"'7. Piano di finanziamento'!D49","v":0},{"$f":"'7. Piano di finanziamento'!E49","v":0},{"$f":"'7. Piano di finanziamento'!F49","v":0}]
[]
["Quota capitale"]
[1,{"$f":"$B$34*IF(B$4=0,0,IF($A10>B$5,0,IF(B$7=0,PPMT(B$6,$A10,B$5,B$4),IF(B$7>=$A10,0,PPMT(B$6,$A10-B$7,B$5-B$7,B$4)))))","v":0},null,null,null,null,{"$f":"SUM(B10:F10)","v":0},null,{"$f":"$B$34*IF(I$4=0,0,IF($A10>I$5,0,IF(I$7=0,PPMT(I$6,$A10,I$5,I$4),IF(I$7>=$A10,0,PPMT(I$6,$A10-I$7,I$5-I$7,I$4)))))","v":0},null,null,null,null,{"$f":"SUM(I10:M10)","v":0},null,{"$f":"$B$34*IF(P$4=0,0,IF($A10>P$5,0,IF(P$7=0,PPMT(P$6,$A10,P$5,P$4),IF(P$7>=$A10,0,PPMT(P$6,$A10-P$7,P$5-P$7,P$4)))))","v":0},null,null,null,null,{"$f":"SUM(P10:T10)","v":0}]
[2,0,{"$f":"$B$34*IF(C$4=0,0,IF($A11-1>C$5,0,IF($C$7=0,PPMT(C$6,$A11-1,C$5,C$4),IF(C$7>=$A11-1,0,PPMT(C$6,$A11-C$7-1,C$5-C$7,C$4)))))","v":0},null,null,null,0,null,0,{"$f":"$B$34*IF(J$4=0,0,IF($A11-1>J$5,0,IF($J$7=0,PPMT(J$6,$A11-1,J$5,J$4),IF(J$7>=$A11-1,0,PPMT(J$6,$A11-J$7-1,J$5-J$7,J$4)))))","v":0},null,null,null,0,null,0,{"$f":"$B$34*IF(Q$4=0,0,IF($A11-1>Q$5,0,IF($Q$7=0,PPMT(Q$6,$A11-1,Q$5,Q$4),IF(Q$7>=$A11-1,0,PPMT(Q$6,$A11-Q$7-1,Q$5-Q$7,Q$4)))))","v":0},null,null,null,0]
[3,0,0,{"$f":"$B$34*IF(D$4=0,0,IF($A12-2>D$5,0,IF($D$7=0,PPMT(D$6,$A12-2,D$5,D$4),IF(D$7>=$A12-2,0,PPMT(D$6,$A12-D$7-2,D$5-D$7,D$4)))))","v":0},null,null,0,null,0,0,{"$f":"$B$34*IF(K$4=0,0,IF($A12-2>K$5,0,IF($K$7=0,PPMT(K$6,$A12-2,K$5,K$4),IF(K$7>=$A12-2,0,PPMT(K$6,$A12-K$7-2,K$5-K$7,K$4)))))","v":0},null,null,0,null,0,0,{"$f":"$B$34*IF(R$4=0,0,IF($A12-2>R$5,0,IF($R$7=0,PPMT(R$6,$A12-2,R$5,R$4),IF(R$7>=$A12-2,0,PPMT(R$6,$A12-R$7-2,R$5-R$7,R$4)))))","v":0},null,null,0]
[4,0,0,0,{"$f":"$B$34*IF(E$4=0,0,IF($A13-3>E$5,0,IF($E$7=0,PPMT(E$6,$A13-3,E$5,E$4),IF(E$7>=$A13-3,0,PPMT(E$6,$A13-E$7-3,E$5-E$7,E$4)))))","v":0},null,0,null,0,0,0,{"$f":"$B$34*IF(L$4=0,0,IF($A13-3>L$5,0,IF($L$7=0,PPMT(L$6,$A13-3,L$5,L$4),IF(L$7>=$A13-3,0,PPMT(L$6,$A13-L$7-3,L$5-L$7,L$4)))))","v":0},null,0,null,0,0,0,{"$f":"$B$34*IF(S$4=0,0,IF($A13-3>S$5,0,IF($S$7=0,PPMT(S$6,$A13-3,S$5,S$4),IF(S$7>=$A13-3,0,PPMT(S$6,$A13-S$7-3,S$5-S$7,S$4)))))","v":0},null,0]
[5,0,0,0,0,{"$f":"$B$34*IF(F$4=0,0,IF($A14-4>F$5,0,IF($F$7=0,PPMT(F$6,$A14-4,F$5,F$4),IF(F$7>=$A14-4,0,PPMT(F$6,$A14-F$7-4,F$5-F$7,F$4)))))","v":0},0,null,0,0,0,0,{"$f":"$B$34*IF(M$4=0,0,IF($A14-4>M$5,0,IF($M$7=0,PPMT(M$6,$A14-4,M$5,M$4),IF(M$7>=$A14-4,0,PPMT(M$6,$A14-M$7-4,M$5-M$7,M$4)))))","v":0},0,null,0,0,0,0,{"$f":"$B$34*IF(T$4=0,0,IF($A14-4>T$5,0,IF($T$7=0,PPMT(T$6,$A14-4,T$5,T$4),IF(T$7>=$A14-4,0,PPMT(T$6,$A14-T$7-4,T$5-T$7,T$4)))))","v":0},0]
[6,0,0,0,0,0,0,null,0,0,0,0,0,0,null,0,0,0,0,0,0]
[7,0,0,0,0,0,0,null,0,0,0,0,0,0,null,0,0,0,0,0,0]
[8,0,0,0,0,0,0,null,0,0,0,0,0,0,null,0,0,0,0,0,0]
[9,0,0,0,0,0,0,null,0,0,0,0,0,0,null,0,0,0,0,0,0]
[10,0,0,0,0,0,0,null,0,0,0,0,0,0,null,0,0,0,0,0,0]
[]
["Quota interessi"]
[1,{"$f":"IF(B$4=0,0,IF($A22-1>B$5,0,B4*B6))","v":0},null,null,null,null,{"$f":"SUM(B22:F22)","v":0},null,{"$f":"IF(I$4=0,0,IF($A22-1>I$5,0,I4*I6))","v":0},null,null,null,null,{"$f":"SUM(I22:M22)","v":0},null,{"$f":"IF(P$4=0,0,IF($A22-1>P$5,0,P4*P6))","v":0},null,null,null,null,{"$f":"SUM(P22:T22)","v":0}]
[2,{"$f":"IF(B$4=0,0,IF($A23-1>B$5,0,(B4-B10)*B6))","v":0},{"$f":"IF(C$4=0,0,IF($A23-1>C$5,0,C4*C6))","v":0},null,null,null,0,null,{"$f":"IF(I$4=0,0,IF($A23-1>I$5,0,(I4-I10)*I6))","v":0},{"$f":"IF(J$4=0,0,IF($A23-1>J$5,0,J4*J6))","v":0},null,null,null,0,null,{"$f":"IF(P$4=0,0,IF($A23-1>P$5,0,(P4-P10)*P6))","v":0},{"$f":"IF(Q$4=0,0,IF($A23-1>Q$5,0,Q4*Q6))","v":0},null,null,null,0]
[3,{"$f":"IF(B$4=0,0,IF($A24-1>B$5,0,(B4-B10-B11)*B6))","v":0},{"$f":"IF(C$4=0,0,IF($A24-1>C$5,0,(C4-C11)*C6))","v":0},{"$f":"IF(D$4=0,0,IF($A24-1>D$5,0,D4*D6))","v":0},null,null,0,null,{"$f":"IF(I$4=0,0,IF($A24-1>I$5,0,(I4-I10-I11)*I6))","v":0},{"$f":"IF(J$4=0,0,IF($A24-1>J$5,0,(J4-J11)*J6))","v":0},{"$f":"IF(K$4=0,0,IF($A24-1>K$5,0,K4*K6))","v":0},null,null,0,null,{"$f":"IF(P$4=0,0,IF($A24-1>P$5,0,(P4-P10-P11)*P6))","v":0},{"$f":"IF(Q$4=0,0,IF($A24-1>Q$5,0,(Q4-Q11)*Q6))","v":0},{"$f":"IF(R$4=0,0,IF($A24-1>R$5,0,R4*R6))","v":0},null,null,0]
[4,{"$f":"IF(B$4=0,0,IF($A25-1>B$5,0,(B4-B10-B11-B12)*B6))","v":0},{"$f":"IF(C$4=0,0,IF($A25-1>C$5,0,(C4-C11-C12)*C6))","v":0},{"$f":"IF(D$4=0,0,IF($A25-1>D$5,0,(D4-D12)*D6))","v":0},{"$f":"IF(E$4=0,0,IF($A25-1>E$5,0,E4*E6))","v":0},null,0,null,{"$f":"IF(I$4=0,0,IF($A25-1>I$5,0,(I4-I10-I11-I12)*I6))","v":0},{"$f":"IF(J$4=0,0,IF($A25-1>J$5,0,(J4-J11-J12)*J6))","v":0},{"$f":"IF(K$4=0,0,IF($A25-1>K$5,0,(K4-K12)*K6))","v":0},{"$f":"IF(L$4=0,0,IF($A25-1>L$5,0,L4*L6))","v":0},null,0,null,{"$f":"IF(P$4=0,0,IF($A25-1>P$5,0,(P4-P10-P11-P12)*P6))","v":0},{"$f":"IF(Q$4=0,0,IF($A25-1>Q$5,0,(Q4-Q11-Q12)*Q6))","v":0},{"$f":"IF(R$4=0,0,IF($A25-1>R$5,0,(R4-R12)*R6))","v":0},{"$f":"IF(S$4=0,0,IF($A25-1>S$5,0,S4*S6))","v":0},null,0]
[5,{"$f":"IF(B$4=0,0,IF($A26-1>B$5,0,(B4-B10-B11-B12-B13)*B6))","v":0},{"$f":"IF(C$4=0,0,IF($A26-1>C$5,0,(C4-C11-C12-C13)*C6))","v":0},{"$f":"IF(D$4=0,0,IF($A26-1>D$5,0,(D4-D12-D13)*D6))","v":0},{"$f":"IF(E$4=0,0,IF($A26-1>E$5,0,(E4-E13)*E6))","v":0},{"$f":"IF(F$4=0,0,IF($A26-1>F$5,0,F4*F6))","v":0},0,null,{"$f":"IF(I$4=0,0,IF($A26-1>I$5,0,(I4-I10-I11-I12-I13)*I6))","v":0},{"$f":"IF(J$4=0,0,IF($A26-1>J$5,0,(J4-J11-J12-J13)*J6))","v":0},{"$f":"IF(K$4=0,0,IF($A26-1>K$5,0,(K4-K12-K13)*K6))","v":0},{"$f":"IF(L$4=0,0,IF($A26-1>L$5,0,(L4-L13)*L6))","v":0},{"$f":"IF(M$4=0,0,IF($A26-1>M$5,0,M4*M6))","v":0},0,null,{"$f":"IF(P$4=0,0,IF($A26-1>P$5,0,(P4-P10-P11-P12-P13)*P6))","v":0},{"$f":"IF(Q$4=0,0,IF($A26-1>Q$5,0,(Q4-Q11-Q12-Q13)*Q6))","v":0},{"$f":"IF(R$4=0,0,IF($A26-1>R$5,0,(R4-R12-R13)*R6))","v":0},{"$f":"IF(S$4=0,0,IF($A26-1>S$5,0,(S4-S13)*S6))","v":0},{"$f":"IF(T$4=0,0,IF($A26-1>T$5,0,T4*T6))","v":0},0]
[6,{"$f":"IF(B$4=0,0,IF($A27-1>B$5,0,(B4-B10-B11-B12-B13-B14)*B6))","v":0},{"$f":"IF(C$4=0,0,IF($A27-1>C$5,0,(C4-C11-C12-C13-C14)*C6))","v":0},{"$f":"IF(D$4=0,0,IF($A27-1>D$5,0,(D4-D12-D13-D14)*D6))","v":0},{"$f":"IF(E$4=0,0,IF($A27-1>E$5,0,(E4-E13-E14)*E6))","v":0},{"$f":"IF(F$4=0,0,IF($A27-1>F$5,0,(F4-F14)*F6))","v":0},0,null,{"$f":"IF(I$4=0,0,IF($A27-1>I$5,0,(I4-I10-I11-I12-I13-I14)*I6))","v":0},{"$f":"IF(J$4=0,0,IF($A27-1>J$5,0,(J4-J11-J12-J13-J14)*J6))","v":0},{"$f":"IF(K$4=0,0,IF($A27-1>K$5,0,(K4-K12-K13-K14)*K6))","v":0},{"$f":"IF(L$4=0,0,IF($A27-1>L$5,0,(L4-L13-L14)*L6))","v":0},{"$f":"IF(M$4=0,0,IF($A27-1>M$5,0,(M4-M14)*M6))","v":0},0,null,{"$f":"IF(P$4=0,0,IF($A27-1>P$5,0,(P4-P10-P11-P12-P13-P14)*P6))","v":0},{"$f":"IF(Q$4=0,0,IF($A27-1>Q$5,0,(Q4-Q11-Q12-Q13-Q14)*Q6))","v":0},{"$f":"IF(R$4=0,0,IF($A27-1>R$5,0,(R4-R12-R13-R14)*R6))","v":0},{"$f":"IF(S$4=0,0,IF($A27-1>S$5,0,(S4-S13-S14)*S6))","v":0},{"$f":"IF(T$4=0,0,IF($A27-1>T$5,0,(T4-T14)*T6))","v":0},0]
[7,{"$f":"IF(B$4=0,0,IF($A28-1>B$5,0,(B4-B10-B11-B12-B13-B14-B15)*B6))","v":0},{"$f":"IF(C$4=0,0,IF($A28-1>C$5,0,(C4-C11-C12-C13-C14-C15)*C6))","v":0},{"$f":"IF(D$4=0,0,IF($A28-1>D$5,0,(D4-D12-D13-D14-D15)*D6))","v":0},{"$f":"IF(E$4=0,0,IF($A28-1>E$5,0,(E4-E13-E14-E15)*E6))","v":0},{"$f":"IF(F$4=0,0,IF($A28-1>F$5,0,(F4-F14-F15)*F6))","v":0},0,null,{"$f":"IF(I$4=0,0,IF($A28-1>I$5,0,(I4-I10-I11-I12-I13-I14-I15)*I6))","v":0},{"$f":"IF(J$4=0,0,IF($A28-1>J$5,0,(J4-J11-J12-J13-J14-J15)*J6))","v":0},{"$f":"IF(K$4=0,0,IF($A28-1>K$5,0,(K4-K12-K13-K14-K15)*K6))","v":0},{"$f":"IF(L$4=0,0,IF($A28-1>L$5,0,(L4-L13-L14-L15)*L6))","v":0},{"$f":"IF(M$4=0,0,IF($A28-1>M$5,0,(M4-M14-M15)*M6))","v":0},0,null,{"$f":"IF(P$4=0,0,IF($A28-1>P$5,0,(P4-P10-P11-P12-P13-P14-P15)*P6))","v":0},{"$f":"IF(Q$4=0,0,IF($A28-1>Q$5,0,(Q4-Q11-Q12-Q13-Q14-Q15)*Q6))","v":0},{"$f":"IF(R$4=0,0,IF($A28-1>R$5,0,(R4-R12-R13-R14-R15)*R6))","v":0},{"$f":"IF(S$4=0,0,IF($A28-1>S$5,0,(S4-S13-S14-S15)*S6))","v":0},{"$f":"IF(T$4=0,0,IF($A28-1>T$5,0,(T4-T14-T15)*T6))","v":0},0]
[8,{"$f":"IF(B$4=0,0,IF($A29-1>B$5,0,(B4-B10-B11-B12-B13-B14-B15-B16)*B6))","v":0},{"$f":"IF(C$4=0,0,IF($A29-1>C$5,0,(C4-C11-C12-C13-C14-C15-C16)*C6))","v":0},{"$f":"IF(D$4=0,0,IF($A29-1>D$5,0,(D4-D12-D13-D14-D15-D16)*D6))","v":0},{"$f":"IF(E$4=0,0,IF($A29-1>E$5,0,(E4-E13-E14-E15-E16)*E6))","v":0},{"$f":"IF(F$4=0,0,IF($A29-1>F$5,0,(F4-F14-F15-F16)*F6))","v":0},0,null,{"$f":"IF(I$4=0,0,IF($A29-1>I$5,0,(I4-I10-I11-I12-I13-I14-I15-I16)*I6))","v":0},{"$f":"IF(J$4=0,0,IF($A29-1>J$5,0,(J4-J11-J12-J13-J14-J15-J16)*J6))","v":0},{"$f":"IF(K$4=0,0,IF($A29-1>K$5,0,(K4-K12-K13-K14-K15-K16)*K6))","v":0},{"$f":"IF(L$4=0,0,IF($A29-1>L$5,0,(L4-L13-L14-L15-L16)*L6))","v":0},{"$f":"IF(M$4=0,0,IF($A29-1>M$5,0,(M4-M14-M15-M16)*M6))","v":0},0,null,{"$f":"IF(P$4=0,0,IF($A29-1>P$5,0,(P4-P10-P11-P12-P13-P14-P15-P16)*P6))","v":0},{"$f":"IF(Q$4=0,0,IF($A29-1>Q$5,0,(Q4-Q11-Q12-Q13-Q14-Q15-Q16)*Q6))","v":0},{"$f":"IF(R$4=0,0,IF($A29-1>R$5,0,(R4-R12-R13-R14-R15-R16)*R6))","v":0},{"$f":"IF(S$4=0,0,IF($A29-1>S$5,0,(S4-S13-S14-S15-S16)*S6))","v":0},{"$f":"IF(T$4=0,0,IF($A29-1>T$5,0,(T4-T14-T15-T16)*T6))","v":0},0]
[9,{"$f":"IF(B$4=0,0,IF($A30-1>B$5,0,(B4-B10-B11-B12-B13-B14-B15-B16-B17)*B6))","v":0},{"$f":"IF(C$4=0,0,IF($A30-1>C$5,0,(C4-C11-C12-C13-C14-C15-C16-C17)*C6))","v":0},{"$f":"IF(D$4=0,0,IF($A30-1>D$5,0,(D4-D12-D13-D14-D15-D16-D17)*D6))","v":0},{"$f":"IF(E$4=0,0,IF($A30-1>E$5,0,(E4-E13-E14-E15-E16-E17)*E6))","v":0},{"$f":"IF(F$4=0,0,IF($A30-1>F$5,0,(F4-F14-F15-F16-F17)*F6))","v":0},0,null,{"$f":"IF(I$4=0,0,IF($A30-1>I$5,0,(I4-I10-I11-I12-I13-I14-I15-I16-I17)*I6))","v":0},{"$f":"IF(J$4=0,0,IF($A30-1>J$5,0,(J4-J11-J12-J13-J14-J15-J16-J17)*J6))","v":0},{"$f":"IF(K$4=0,0,IF($A30-1>K$5,0,(K4-K12-K13-K14-K15-K16-K17)*K6))","v":0},{"$f":"IF(L$4=0,0,IF($A30-1>L$5,0,(L4-L13-L14-L15-L16-L17)*L6))","v":0},{"$f":"IF(M$4=0,0,IF($A30-1>M$5,0,(M4-M14-M15-M16-M17)*M6))","v":0},0,null,{"$f":"IF(P$4=0,0,IF($A30-1>P$5,0,(P4-P10-P11-P12-P13-P14-P15-P16-P17)*P6))","v":0},{"$f":"IF(Q$4=0,0,IF($A30-1>Q$5,0,(Q4-Q11-Q12-Q13-Q14-Q15-Q16-Q17)*Q6))","v":0},{"$f":"IF(R$4=0,0,IF($A30-1>R$5,0,(R4-R12-R13-R14-R15-R16-R17)*R6))","v":0},{"$f":"IF(S$4=0,0,IF($A30-1>S$5,0,(S4-S13-S14-S15-S16-S17)*S6))","v":0},{"$f":"IF(T$4=0,0,IF($A30-1>T$5,0,(T4-T14-T15-T16-T17)*T6))","v":0},0]
[10,{"$f":"IF(B$4=0,0,IF($A31-1>B$5,0,(B4-B10-B11-B12-B13-B14-B15-B16-B17-B18)*B6))","v":0},{"$f":"IF(C$4=0,0,IF($A31-1>C$5,0,(C4-C11-C12-C13-C14-C15-C16-C17-C18)*C6))","v":0},{"$f":"IF(D$4=0,0,IF($A31-1>D$5,0,(D4-D12-D13-D14-D15-D16-D17-D18)*D6))","v":0},{"$f":"IF(E$4=0,0,IF($A31-1>E$5,0,(E4-E13-E14-E15-E16-E17-E18)*E6))","v":0},{"$f":"IF(F$4=0,0,IF($A31-1>F$5,0,(F4-F14-F15-F16-F17-F18)*F6))","v":0},0,null,{"$f":"IF(I$4=0,0,IF($A31-1>I$5,0,(I4-I10-I11-I12-I13-I14-I15-I16-I17-I18)*I6))","v":0},{"$f":"IF(J$4=0,0,IF($A31-1>J$5,0,(J4-J11-J12-J13-J14-J15-J16-J17-J18)*J6))","v":0},{"$f":"IF(K$4=0,0,IF($A31-1>K$5,0,(K4-K12-K13-K14-K15-K16-K17-K18)*K6))","v":0},{"$f":"IF(L$4=0,0,IF($A31-1>L$5,0,(L4-L13-L14-L15-L16-L17-L18)*L6))","v":0},{"$f":"IF(M$4=0,0,IF($A31-1>M$5,0,(M4-M14-M15-M16-M17-M18)*M6))","v":0},0,null,{"$f":"IF(P$4=0,0,IF($A31-1>P$5,0,(P4-P10-P11-P12-P13-P14-P15-P16-P17-P18)*P6))","v":0},{"$f":"IF(Q$4=0,0,IF($A31-1>Q$5,0,(Q4-Q11-Q12-Q13-Q14-Q15-Q16-Q17-Q18)*Q6))","v":0},{"$f":"IF(R$4=0,0,IF($A31-1>R$5,0,(R4-R12-R13-R14-R15-R16-R17-R18)*R6))","v":0},{"$f":"IF(S$4=0,0,IF($A31-1>S$5,0,(S4-S13-S14-S15-S16-S17-S18)*S6))","v":0},{"$f":"IF(T$4=0,0,IF($A31-1>T$5,0,(T4-T14-T15-T16-T17-T18)*T6))","v":0},0]
[]
[]
[null,-1]

{"sheet":"8. Riepilogo ammortamento","index":11,"n_rows":15,"n_cols":5,"rows_kept":15,"cut":false,"hidden":false,"merged":[[3,0,4,0],[1,30,1,31],[1,32,1,33],[1,34,1,35],[1,36,1,37],[1,38,1,39],[1,20,1,21],[1,22,1,23],[1,24,1,25],[1,26,1,27],[1,8,1,9],[1,0,1,4],[1,60,1,61],[1,62,1,63],[1,64,1,65],[1,40,1,41],[1,42,1,43],[1,44,1,45],[1,46,1,47],[1,28,1,29],[1,10,1,11],[1,12,1,13],[1,14,1,15],[1,16,1,17],[1,18,1,19],[1,108,1,109],[1,90,1,91],[1,92,1,93],[1,94,1,95],[1,96,1,97],[1,98,1,99],[1,48,1,49],[3,1,4,1],[3,2,4,2],[3,3,4,3],[3,4,4,4],[1,100,1,101],[1,80,1,81],[1,82,1,83],[1,84,1,85],[1,86,1,87],[1,66,1,67],[1,68,1,69],[1,50,1,51],[1,52,1,53],[1,54,1,55],[1,56,1,57],[1,58,1,59],[1,6,1,7],[1,88,1,89],[1,70,1,71],[1,72,1,73],[1,74,1,75],[1,76,1,77],[1,78,1,79],[1,102,1,103],[1,104,1,105],[1,106,1,107],[1,140,1,141],[1,142,1,143],[1,144,1,145],[1,146,1,147],[1,148,1,149],[1,130,1,131],[1,132,1,133],[1,134,1,135],[1,136,1,137],[1,138,1,139],[1,120,1,121],[1,122,1,123],[1,124,1,125],[1,126,1,127],[1,128,1,129],[1,110,1,111],[1,112,1,113],[1,114,1,115],[1,116,1,117],[1,118,1,119],[1,180,1,181],[1,182,1,183],[1,184,1,185],[1,186,1,187],[1,188,1,189],[1,170,1,171],[1,172,1,173],[1,174,1,175],[1,176,1,177],[1,178,1,179],[1,160,1,161],[1,162,1,163],[1,164,1,165],[1,166,1,167],[1,168,1,169],[1,150,1,151],[1,152,1,153],[1,154,1,155],[1,156,1,157],[1,158,1,159],[1,220,1,221],[1,222,1,223],[1,224,1,225],[1,226,1,227],[1,228,1,229],[1,210,1,211],[1,212,1,213],[1,214,1,215],[1,216,1,217],[1,218,1,219],[1,200,1,201],[1,202,1,203],[1,204,1,205],[1,206,1,207],[1,208,1,209],[1,190,1,191],[1,192,1,193],[1,194,1,195],[1,196,1,197],[1,198,1,199],[1,230,1,231],[1,232,1,233],[1,234,1,235],[1,236,1,237],[1,238,1,239],[1,250,1,251],[1,252,1,253],[1,254,1,255],[1,240,1,241],[1,242,1,243],[1,244,1,245],[1,246,1,247],[1,248,1,249]]}
[]
["Riepilogo piani d'ammortamento"]
[]
[null,"Assorbimento di capitale di terzi","Pagamenti in conto capitale","Pagamenti in conto interessi","Stato passivo finale (ammontare dei debiti)"]
[]
["Anno 1",{"$f":"'9. Piano d''ammortamento'!B4+'9. Piano d''ammortamento'!I4+'9. Piano d''ammortamento'!P4","v":0},{"$f":"SUM('9. Piano d''ammortamento'!G10,'9. Piano d''ammortamento'!N10,'9. Piano d''ammortamento'!U10)","v":0},{"$f":"SUM('9. Piano d''ammortamento'!G22,'9. Piano d''ammortamento'!N22,'9. Piano d''ammortamento'!U22)","v":0},{"$f":"B6-C6","v":0}]
["Anno 2 ",{"$f":"'9. Piano d''ammortamento'!C4+'9. Piano d''ammortamento'!J4+'9. Piano d''ammortamento'!Q4","v":0},{"$f":"SUM('9. Piano d''ammortamento'!G11,'9. Piano d''ammortamento'!N11,'9. Piano d''ammortamento'!U11)","v":0},{"$f":"SUM('9. Piano d''ammortamento'!G23,'9. Piano d''ammortamento'!N23,'9. Piano d''ammortamento'!U23)","v":0},{"$f":"E6+B7-C7","v":0}]
["Anno 3",{"$f":"'9. Piano d''ammortamento'!D4+'9. Piano d''ammortamento'!K4+'9. Piano d''ammortamento'!R4","v":0},{"$f":"SUM('9. Piano d''ammortamento'!G12,'9. Piano d''ammortamento'!N12,'9. Piano d''ammortamento'!U12)","v":0},{"$f":"SUM('9. Piano d''ammortamento'!G24,'9. Piano d''ammortamento'!N24,'9. Piano d''ammortamento'!U24)","v":0},0]
["Anno 4",{"$f":"'9. Piano d''ammortamento'!E4+'9. Piano d''ammortamento'!L4+'9. Piano d''ammortamento'!S4","v":0},{"$f":"SUM('9. Piano d''ammortamento'!G13,'9. Piano d''ammortamento'!N13,'9. Piano d''ammortamento'!U13)","v":0},{"$f":"SUM('9. Piano d''ammortamento'!G25,'9. Piano d''ammortamento'!N25,'9. Piano d''ammortamento'!U25)","v":0},0]
["Anno 5",{"$f":"'9. Piano d''ammortamento'!F4+'9. Piano d''ammortamento'!M4+'9. Piano d''ammortamento'!T4","v":0},{"$f":"SUM('9. Piano d''ammortamento'!G14,'9. Piano d''ammortamento'!N14,'9. Piano d''ammortamento'!U14)","v":0},{"$f":"SUM('9. Piano d''ammortamento'!G26,'9. Piano d''ammortamento'!N26,'9. Piano d''ammortamento'!U26)","v":0},0]
["Anno 6",0,{"$f":"SUM('9. Piano d''ammortamento'!G15,'9. Piano d''ammortamento'!N15,'9. Piano d''ammortamento'!U15)","v":0},{"$f":"SUM('9. Piano d''ammortamento'!G27,'9. Piano d''ammortamento'!N27,'9. Piano d''ammortamento'!U27)","v":0},0]
["Anno 7",0,{"$f":"SUM('9. Piano d''ammortamento'!G16,'9. Piano d''ammortamento'!N16,'9. Piano d''ammortamento'!U16)","v":0},{"$f":"SUM('9. Piano d''ammortamento'!G28,'9. Piano d''ammortamento'!N28,'9. Piano d''ammortamento'!U28)","v":0},0]
["Anno 8",0,{"$f":"SUM('9. Piano d''ammortamento'!G17,'9. Piano d''ammortamento'!N17,'9. Piano d''ammortamento'!U17)","v":0},{"$f":"SUM('9. Piano d''ammortamento'!G29,'9. Piano d''ammortamento'!N29,'9. Piano d''ammortamento'!U29)","v":0},0]
["Anno 9",0,{"$f":"SUM('9. Piano d''ammortamento'!G18,'9. Piano d''ammortamento'!N18,'9. Piano d''ammortamento'!U18)","v":0},{"$f":"SUM('9. Piano d''ammortamento'!G30,'9. Piano d''ammortamento'!N30,'9. Piano d''ammortamento'!U30)","v":0},0]
["Anno 10",0,{"$f":"SUM('9. Piano d''ammortamento'!G19,'9. Piano d''ammortamento'!N19,'9. Piano d''ammortamento'!U19)","v":0},{"$f":"SUM('9. Piano d''ammortamento'!G31,'9. Piano d''ammortamento'!N31,'9. Piano d''ammortamento'!U31)","v":0},0]

{"sheet":"To-do-list","index":12,"n_rows":22,"n_cols":6,"rows_kept":22,"cut":false,"hidden":false,"merged":[[0,0,0,1],[15,0,15,1]]}
["To-do-list"]
[null,null,"Chi?","Entro quando?","Urgenza","Importanza"]
["1."]
["2."]
["3."]
["4."]
["…"]
["…"]
[]
[]
[]
[]
[]
[]
[]
["Appunti"]
["1."]
["2."]
["3."]
["4."]
["…"]
["…"]

{"sheet":"Glossario","index":13,"n_rows":106,"n_cols":1,"rows_kept":106,"cut":false,"hidden":false,"merged":[]}
["Glossario"]
[]
["Ammortamento"]
["Gli ammortamenti esprimono numericamente la riduzione di valore di un bene economico nel corso del periodo contabile. Tale consumo di valore origina dall'uso (es. usura) e dallo scorrere del tempo (es. perdita di valore in conseguenza delle innovazioni tecnologiche). Esso interessa il capitale fisso come macchinari, immobili, parco vetture, computer etc. La quota annuale di ammortamento è stabilita dalle norme fiscali e da quelle che disciplinano le attività commerciali. Nel business plan l'ammortamento viene calcolato automaticamente in base alla quota di ammortamento fiscale e alla durata utile del bene."]
[]
["Acquisto di merci"]
["Per acquisto di merci si intende l'acquisto di materiali destinati allo svolgimento dell'attività aziendale. "]
[]
["Altri ricavi"]
["Gli altri ricavi sono introiti supplementari che si producono annualmente ma non sono direttamente connessi allo scopo dell'impresa. Non sono prodotti con la normale attività di impresa ma in virtù di attività secondarie (es. canoni di locazione)."]
[]
["Break-even-point"]
["La soglia di redditività, detta anche break-even point, indica la soglia in cui costi e ricavi di una produzione si equivalgono. In tal caso non viene generato nè utile, nè perdita, oppure si potrebbe anche dire che il margine di contribuzione equivale ai costi fissi. In caso di superamento della soglia di redditività viene generato un utile, mentre al di sotto di tale soglia si crea una perdita."]
[]
["Business plan"]
["Il business plan è un piano economico di previsione e di ausilio per l'imprenditore/imprenditrice nel verificare l'economicità del progetto previsto. Considerazioni scritte sulla forma giuridica dell'impresa, il mercato, la concorrenza, il marketing e molto altro sono aspetti fondamentali del business plan. Il progetto d'impresa è inoltre quantificato numericamente: il conto economico permette una previsione della redditività; il piano di investimento permette una visione del fabbisogno d'investimento e delle spese di costituzione mentre il piano di finanziamento segnala il fabbisogno finanziario. "]
[]
["Capitale d'investimento"]
["Per capitale d'investimento si intende quella parte del patrimonio a disposizione dell'impresa nel tempo (per diversi anni) per lo svolgimento dell'attività aziendale (es. terreni, fabbricati, attrezzature, parco vetture etc.). "]
[]
["Capitale di terzi"]
["Il capitale di terzi comprende la totalità di risorse finanziarie messe a disposizione dell'imprenditore/imprenditrice da parte di terzi. È distinto in capitale fruttifero (es. mutuo) e infruttifero (di norma i crediti vs. fornitori). Con l'accensione di crediti, l'impresa assume nei confronti dell'istituto di credito un impegno fisso al pagamento degli interessi e alla restituzione del capitale. Capitale proprio e capitale di terzi formano insieme il capitale totale di un'impresa. "]
[]
["Capitale proprio "]
["Per capitale proprio si intende la totalità di risorse finanziarie messe a disposizione dal titolare legale ossia dal/la fondatore/fondatrice d'impresa e/o dai soci. È quella parte del fabbisogno di capitale destinato in proprio, e senza il ricorso al credito, al finanziamento dell'attività d'impresa. "]
[]
["Cash Flow "]
["Il cash flow, letteralmente \"flusso di cassa\", consiste nell'eccedenza di entrate (liquidità) ottenuta con l'attività d'impresa. Il cash flow dà un'idea della situazione finanziaria, ossia della solvibilità e capacità di autofinanziamento dell'impresa. \nNella sua forma più semplificata si calcola come \"risultato al netto di tasse più ammortamenti\". "]
[]
["Costi fissi"]
["I costi fissi rientrano fra i costi totali e rimangono costanti anche in presenza di brevi aumenti o diminuzioni del grado di occupazione (es. affitti, assicurazioni, costi d'esercizio ecc.). All'inizio, pertanto, è consigliabile tenere il più basso possibile i costi fissi onde evitare problemi di liquidità, in caso di uno sfruttamento ridotto delle capacità di impresa."]
[]
["Costi variabili"]
["I costi variabili sono costi dipendenti dal grado di occupazione. L'ammontare dei costi variabili dipende dunque da produzione e prestazioni (es. impiego di merci, servizi di terzi, spese di vendita, spese di produzione etc.)."]
[]
["Costo del lavoro"]
["Per costo del lavoro si intende il totale di tutte le spese sostenute dall'imprenditore in ragione dell'assunzione di dipendenti al suo servizio. Sono date dal salario lordo e da altri oneri come quelli previdenziali e pensionistici, assicurativi e accantonamenti TFR. A parità di salario lordo, il lavoratore può avere, a seconda degli esoneri fiscali, un salario netto più o meno alto.  "]
[]
["Credito di investimento"]
["Un credito di investimento serve al finanziamento del capitale fisso e ha una durata a medio-lungo termine (oltre 4 anni). Per la concessione di un credito sono normalmente richieste apposite garanzie (ipoteche, fideiussioni etc.) da parte del finanziatore di capitali. "]
[]
["Credito in conto corrente"]
["Il credito in conto corrente serve a permettere le normali operazioni commerciali e di pagamento. Creditore e debitore definiscono un fido bancario per la copertura del fabbisogno di liquidità di un'impresa. È possibile così eseguire trasferimenti, incassi e pagamenti, incassi di assegni, domiciliazioni bancarie ecc. A causa degli elevati costi derivanti da interessi, spese e diritti, il ricorso a questo credito è consigliabile solo come forma di finanziamento a breve termine a copertura dei picchi di fabbisogno di liquidità. Le spese di transazione si producono infatti anche quando il conto corrente è in positivo. N.B.: un calcolo trimestrale degli interessi e le cosiddette \"commissioni massimo scoperto\" possono rappresentare un fattore di costo tutt'altro che trascurabile del credito in conto corrente. È buona norma avere sempre un fatturato almeno sestuplo rispetto al limite di credito concordato. "]
[]
["Crediti vs. Clienti"]
["Un credito vs. clienti si ha quando il cliente non paga immediatamente alla fornitura/consegna la merce acquistata o il servizio usufruito. Se compra oggi e paga domani (più tardi) è dunque come se l'imprenditore/imprenditrice concedesse un credito ai propri clienti. È consigliabile, pertanto, verificare sempre a priori la solvibilità della clientela. Soprattutto nella fase di costituzione, la difficoltà di incasso di un credito può avere notevoli ripercussioni negative sull'impresa. Anche termini di pagamento lunghi creano difficoltà a molti imprenditori/imprenditrici, bloccando di fatto la liquidità necessaria all'attività di impresa e accrescendo il rischio connesso all'incasso. Essi segnalano inoltre la presenza di difficoltà di vendita, ragione per cui l'imprenditore/imprenditrice è costretto/a a concedere dilazioni di pagamento nel tempo. Le scadenze di pagamento delle fatture di vendita variano a seconda del settore. "]
[]
["Debiti vs. Fornitori"]
["Un debito verso un fornitore si ha quando la merce acquistata o il servizio fruito vengono pagati solo in seguito. Il fornitore concede dunque in un certo modo un credito. I termini di pagamento delle fatture di acquisto variano a seconda del settore. Cfr. anche crediti vs. clienti."]
[]
["Distribuzione"]
["La distribuzione rappresenta l'interfaccia fra impresa e cliente e definisce il percorso lungo il quale il prodotto arriva al cliente. Comprende sia la scelta dei canali di sbocco che la distribuzione fisica dei prodotti stessi. "]
[]
["Fattore costo del lavoro"]
["Il fattore costo del lavoro è il fattore di moltiplicazione del salario netto di un dipendente per il calcolo delle spese salariali a carico del datore di lavoro. Questo metodo serve solo ad una prima stima sommaria delle spese salariali complessive. Il calcolo esatto dovrebbe essere fatto da consulenti del lavoro o esperti paga. I valori indicativi per la scala dei fattori per il costo del lavoro si collocano tra 2,0 e 2,2."]
[]
["Fatturato"]
["Il fatturato si definisce come la somma di tutti gli introiti derivanti dalla vendita di merci e/o servizi in un dato periodo contabile. "]
[]
["Finanziamento"]
["Il termine finanziamento indica l'acquisizione e la messa a disposizione del capitale necessario alla realizzazione dell'idea imprenditoriale. Si distingue fra capitale proprio e capitale di terzi. Considerati gli alti investimenti necessari soprattutto nella fase di creazione di un'impresa, una corretta pianificazione dei finanziamenti si rivela fondamentale per il successo dell'impresa stessa.  "]
[]
["Impiego di merci"]
["Per impiego di merci si intende l'intero \"consumo\" ovvero il valore della merce venduta in un dato periodo contabile. La merce venduta può provenire dal proprio magazzino oppure essere acquistata presso terzi. L'impiego di merci si calcola come segue: \nmerci iniziali + merci acquistate - merci finali oppure \nacquisto di merci +/- variazione di magazzino\nLa percentuale da indicare nella programmazione del fatturato rappresenta il costo di un bene a fronte del prezzo di vendita. \nValori indicativi per settori: commercio al dettaglio da 40% a 75%, commercio all'ingrosso da 50% a 90%, ristorazione da 25% a 35%, alberghi da 15% a 30%, impresa produttiva (con prevalente impiego di personale) da 15% a 35%, impresa produttiva (con prevalente impiego di materiale) da 35% a 70%."]
[]
["INAIL (Istituto Nazionale per l’Assicurazione contro gli Infortuni sul Lavoro)"]
["L'INAIL rimborsa le spese in caso di infortuni sul lavoro o malattie professionali. Per tutte le persone operanti in un'azienda e soggette a rischio di infortunio sussiste l'obbligo di assicurazione. Uniche eccezioni sono date dagli imprenditori individuali non iscritti nel registro delle imprese artigianali. A seconda del settore economico sono previste diverse tariffe di premio.   "]
[]
["INPS (Istituto Nazionale della Previdenza Sociale)"]
["L'INPS si occupa dell'assicurazione pensionistica obbligatoria. Il legislatore italiano obbliga gli/le imprenditori/imprenditrici ad occuparsi personalmente della propria previdenza pensionistica e sanitaria, versando in proprio i relativi contributi. Gli/le imprenditori/imprenditrici sono inoltre obbligati/e a versare i contribuiti per i propri dipendenti. Le norme in questo campo variano tuttavia a seconda dei settori economici e delle forme giuridiche delle imprese. "]
[]
["Investimento"]
["Gli investimenti sono impegni a lungo termine di capitali in beni economici utilizzabili nel tempo e destinati a produrre entrate future.  "]
[]
["Leasing"]
["Con il contratto di leasing, beni mobili e immobili non vengono acquistati ma semplicemente presi in locazione. Il locatario paga al locatore per il bene locato un importo contrattuale (rata di leasing) acquisendo in questo modo il diritto d'uso del bene di investimento. Il leasing rappresenta dunque una forma contrattuale particolare di locazione a breve o lungo termine di immobili, macchinari, veicoli ecc. Scaduto il periodo di leasing concordato, l'oggetto può essere restituito al locatario ovvero acquistato al prezzo residuo (riscatto) qualora il contratto di leasing preveda questa possibilità.   "]
[]
["Localizzazione"]
["Per localizzazione si intende il luogo in cui si trova l'impresa e dal quale fornisce le sue merci e i suoi servizi. Nella scelta della localizzazione è imprescindibile il ricorso ad una analisi aziendale, con i criteri fondamentali che dipendono però dal tipo di azienda. L'aspirante imprenditore/imprenditrice dovrebbe esaminare accuratamente tendenze di mercato, vicinanza al mercato di sbocco, posizione strategica, disponibilità e spese della forza lavoro, infrastrutture, agevolazioni e molti altri fattori. Un'impresa può anche avere più sedi (sede legale, stabilimento di produzione, magazzino etc.). "]
[]
["Marketing"]
["Per marketing si intende un coerente orientamento di tutte le decisioni imprenditoriali in base alle esigenze della clientela e alle opportunità di mercato. Nel linguaggio corrente, il termine marketing è considerato come mero sinonimo di pubblicità e vendita, ambiti che rappresentano tuttavia sola una parte del vero marketing di un'impresa. "]
[]
["Prestazioni di terzi"]
["Per prestazioni di terzi si intendono quei servizi non forniti direttamente dalla impresa ma affidati a terzi, per es. operazioni di montaggio, servizio di lavanderia per hotels e ristoranti etc.  "]
[]
["Reddito dell'imprenditore/imprenditrice"]
["Il cosiddetto salario dell'imprenditore/imprenditrice è quanto gli/le spetta per l'attività o le prestazioni svolte nella sua azienda. Il salario destinato all'imprenditore/imprenditrice si stabilisce di norma allo stesso livello della retribuzione prevista per una posizione analoga.  "]
[]
["Spese accessorie"]
["Per spese accessorie si intendono costi variabili diretti che non comportano un impiego di merci (es. provvigioni, garanzie, premi annuali ai clienti etc.)."]
[]
["Spese di costituzione"]
["Per spese di costituzione si intendono tutti i costi che si producono in fase di creazione di un'impresa (es. spese notarili, iscrizione nel registro delle imprese, autorizzazioni, diritti di bollo ecc.). Fra le spese di costituzione rientrano inoltre anche tutte quelle spese connesse alla cerimonia di inaugurazione dell'impresa, ai primi interventi pubblicitari e promozionali, alle consulenze etc."]
[]
["Spese variabili di vendita"]
["Le spese variabili di vendita sono costi direttamente riconducibili alla vendita. Possono essere a carico dell'acquirente o del venditore a seconda di quanto previsto dal contratto di compravendita (es. spese di trasporto e di logistica etc.)."]
[]
["Target"]
["Un target è quel gruppo di potenziali acquirenti a cui è possibile rivolgersi direttamente con interventi di marketing destinati a motivarli all'acquisto di un bene o un servizio. La definizione di un target avviene per lo più in base a dati sociodemografici come età, sesso, reddito, stato civile, residenza etc. Anche altri elementi come approcci, valori, stile di vita etc., rilevati mediante ricerche professionali di mercato, sono assai utili alla definizione di un target. "]
[]
["Termine di pagamento"]
["Per termine di pagamento si intende il periodo indicato nel contratto di compravendita entro il quale l'acquirente è obbligato a saldare i suoi debiti nei confronti del venditore/fornitore. Le scadenze di pagamento variano a seconda del settore. "]
[]
["Valore di magazzino"]
["Il valore di magazzino quantifica il valore della merce disponibile in magazzino. "]